{"text_format":"1","workbook":"xlsx","n_sheets":4,"sheets":["Instructions","Vaccination Record","Data Input","Drop Down Source"],"not_rendered":{"charts":0,"images":9,"macros":1,"external_links":0,"defined_names":6,"comments":0,"pivot_tables":0},"unopened":[],"bounds":{"document_bytes":16777216,"sheet_cells":100000,"rows_first":2000,"rows_last":500,"rows_between":2000,"halvings":0,"cell_chars":16384,"cell_head_chars":4096},"cells_cut":0,"cells_raw":0,"read":"whole","date_system":"1900"}

{"sheet":"Instructions","index":0,"n_rows":59,"n_cols":2,"rows_kept":59,"cut":false,"hidden":false,"merged":[]}
[null,"EXCEL BRUCELLOSIS VACCINATION CERTIFICATE INSTRUCTIONS"]
[]
[null,"When you open this document, you will see three Worksheets labeled “Instructions” (in blue), “Vaccination Record” (in red), and “Data Input” (in green) at the bottom of the screen towards the left side. "]
[]
[null,"Click the                                                      worksheet and complete the top portion. You will not be able to edit protected cells.  "]
[]
[]
[]
[]
[]
[]
[]
[null,"The worksheet generates the certificate number automatically based on your license number and the date of vaccination. "]
[null,"If you vaccinate more than one group of animals in a single day, add an 'A' after the certificate number in the box immediately above 'Vet Lic #'; 'B' for the second certificate, and so on."]
[]
[]
[]
[null,"ADDING ANIMAL DATA"]
[null,"Click on the                                 worksheet to enter your animal information. "]
[]
[]
[null,"Your data entry path has two choices from here! First, you may paste or manually enter animal data into the data columns. Instructions below. If performing an Adult or Booster Vaccination, you will likely have tag info to paste from your reader."]
[]
[null,"If recording an Official Calfhood Vaccination wherein you used sequential tags, the tool will fill out your worksheet for you! Click this button and answer the questions:"]
[]
[]
[]
[]
[]
[null,"If manually filling in data...Fill in Column A, “#”, for each animal"]
[null,"As you type, Autofill* or paste data into this worksheet, it will automatically appear on the Vaccination Record "]
[]
[]
[]
[]
[]
[]
[]
[]
[]
[]
[]
[]
[]
[]
[null,"*Autofill is a quick method of entering data. For help with Excel, try viewing this YouTube video: https://www.youtube.com/watch?v=2FTxjK60gKM"]
[]
[null,"Maximum number of animals per certificate: 620"]
[null,"If you are vaccinating more than 620 animals in one day, please fill out a second worksheet."]
[null,"When working animals over multiple days, create a new certificate for each day."]
[]
[null,"PRINTING VACCINATION RECORD"]
[null,"Click on the                                                  worksheet. Identify the number of pages to print by scrolling through the worksheet.\n\nAt the top of the screen, click File and Print. Under Settings, insert the page range to print (Page: 1 to __ ). Click the Print button at the top of the screen."]
[]
[null,"Email this Excel file to: "]
[null,"lsbbrucellosis-mitigation@wyo.gov"]
[]
[null,"Email this original Excel file as soon as complete. Send in files within 10 days of vaccination. Do not mail a hard copy; email this Excel file to: "]
[null,"lsbbrucellosis-mitigation@wyo.gov"]

{"sheet":"Vaccination Record","index":1,"n_rows":330,"n_cols":12,"rows_kept":330,"cut":false,"hidden":false,"merged":[[329,0,333,6],[10,6,12,11],[9,0,9,3],[9,8,9,11],[3,6,8,11],[4,0,4,1],[5,0,7,5],[8,4,8,5],[2,2,3,5],[2,0,3,1],[2,6,2,9],[2,10,2,11],[4,2,4,5],[8,0,8,3],[16,0,17,2],[16,3,17,5],[9,4,9,5],[12,0,12,1],[13,0,13,1],[13,4,13,5],[12,4,12,5],[11,4,11,5],[10,4,10,5],[14,0,15,2],[10,0,10,1],[10,2,10,3],[11,0,11,1],[11,2,11,3],[1,10,1,11],[0,9,0,10],[1,0,1,1],[1,2,1,5],[0,6,0,8],[1,6,1,9]]}
["BRUCELLOSIS VACCINATION RECORD",null,null,null,null,null,"Certificate Number: 83-",null,null,{"$f":"K3&\"-\"&D16&E16&F16","v":"-"}]
["Herd Owner: ",null,null,null,null,null,"Veterinarian Name:     ",null,null,null,"Agree Code:"]
["Herd Address:",null,"\n"]
[null,null,null,null,null,null,"I CERTIFY THAT: (1) I have vaccinated with Strain RB51, tattooed and eartagged or otherwise proprely identified all animals listed hereon as prescribed by the Brucellois UM&R, and recorded all information as prescribed by State regulations, (2) when payment is claimed at program expense in accordance with agreement number below no payment has been or will be received from any other source. "]
["Premises ID #:"]
["CERTIFICATION OF OWNER OR WITNESS\nI CERTIFY THAT: the animals listed hereon were vaccinated and identified for the above named owner. "]
[]
[]
["Owner or Witness Name:",null,null,null,"Date:"]
[null,null,null,null,null,null,"Veterinarian Name:     "]
["Vaccine Used",null,"Expiration Date",null,"Dosage",null,"CERTIFICATION FOR RE-ESTABLISHING VACCINATION STATUS\nIndicate tattoo of animals previously vaccinated in appropriate column.Indicate tattoo of animals previously vaccinated in appropriate column.\n"]
[]
["Serial #",null,"Tattoo",null,"Herd Type:"]
[]
["Date of Vaccination: ",null,null,"(Year)","(Mo)","(Day)"]
[null,null,null,null,null,null,"Date"]
["Total # Vaccinated:",null,null,null,null,null,"CERTIFICATION FOR PAYMENT"]
[]
["#","OFFICIAL ID","AGE (mos)","BREED","SEX","TATTOO","#","OFFICIAL ID","AGE (mos)","BREED","SEX","TATTOO"]
[{"$f":"IF('Data Input'!A2<>\"\",'Data Input'!A2,\"\")","v":""},{"$f":"IF('Data Input'!B2<>\"\",'Data Input'!B2,\"\")","v":""},{"$f":"IF('Data Input'!C2<>\"\",'Data Input'!C2,\"\")","v":""},{"$f":"IF('Data Input'!D2<>\"\",'Data Input'!D2,\"\")","v":""},{"$f":"IF('Data Input'!E2<>\"\",'Data Input'!E2,\"\")","v":""},{"$f":"IF('Data Input'!F2<>\"\",'Data Input'!F2,\"\")","v":""},{"$f":"IF('Data Input'!A35<>\"\",'Data Input'!A35,\"\")","v":""},{"$f":"IF('Data Input'!B35<>\"\",'Data Input'!B35,\"\")","v":""},{"$f":"IF('Data Input'!C35<>\"\",'Data Input'!C35,\"\")","v":""},{"$f":"IF('Data Input'!D35<>\"\",'Data Input'!D35,\"\")","v":""},{"$f":"IF('Data Input'!E35<>\"\",'Data Input'!E35,\"\")","v":""},{"$f":"IF('Data Input'!F35<>\"\",'Data Input'!F35,\"\")","v":""}]
[{"$f":"IF('Data Input'!A3<>\"\",'Data Input'!A3,\"\")","v":""},{"$f":"IF('Data Input'!B3<>\"\",'Data Input'!B3,\"\")","v":""},{"$f":"IF('Data Input'!C3<>\"\",'Data Input'!C3,\"\")","v":""},{"$f":"IF('Data Input'!D3<>\"\",'Data Input'!D3,\"\")","v":""},{"$f":"IF('Data Input'!E3<>\"\",'Data Input'!E3,\"\")","v":""},{"$f":"IF('Data Input'!F3<>\"\",'Data Input'!F3,\"\")","v":""},{"$f":"IF('Data Input'!A36<>\"\",'Data Input'!A36,\"\")","v":""},{"$f":"IF('Data Input'!B36<>\"\",'Data Input'!B36,\"\")","v":""},{"$f":"IF('Data Input'!C36<>\"\",'Data Input'!C36,\"\")","v":""},{"$f":"IF('Data Input'!D36<>\"\",'Data Input'!D36,\"\")","v":""},{"$f":"IF('Data Input'!E36<>\"\",'Data Input'!E36,\"\")","v":""},{"$f":"IF('Data Input'!F36<>\"\",'Data Input'!F36,\"\")","v":""}]
[{"$f":"IF('Data Input'!A4<>\"\",'Data Input'!A4,\"\")","v":""},{"$f":"IF('Data Input'!B4<>\"\",'Data Input'!B4,\"\")","v":""},{"$f":"IF('Data Input'!C4<>\"\",'Data Input'!C4,\"\")","v":""},{"$f":"IF('Data Input'!D4<>\"\",'Data Input'!D4,\"\")","v":""},{"$f":"IF('Data Input'!E4<>\"\",'Data Input'!E4,\"\")","v":""},{"$f":"IF('Data Input'!F4<>\"\",'Data Input'!F4,\"\")","v":""},{"$f":"IF('Data Input'!A37<>\"\",'Data Input'!A37,\"\")","v":""},{"$f":"IF('Data Input'!B37<>\"\",'Data Input'!B37,\"\")","v":""},{"$f":"IF('Data Input'!C37<>\"\",'Data Input'!C37,\"\")","v":""},{"$f":"IF('Data Input'!D37<>\"\",'Data Input'!D37,\"\")","v":""},{"$f":"IF('Data Input'!E37<>\"\",'Data Input'!E37,\"\")","v":""},{"$f":"IF('Data Input'!F37<>\"\",'Data Input'!F37,\"\")","v":""}]
[{"$f":"IF('Data Input'!A5<>\"\",'Data Input'!A5,\"\")","v":""},{"$f":"IF('Data Input'!B5<>\"\",'Data Input'!B5,\"\")","v":""},{"$f":"IF('Data Input'!C5<>\"\",'Data Input'!C5,\"\")","v":""},{"$f":"IF('Data Input'!D5<>\"\",'Data Input'!D5,\"\")","v":""},{"$f":"IF('Data Input'!E5<>\"\",'Data Input'!E5,\"\")","v":""},{"$f":"IF('Data Input'!F5<>\"\",'Data Input'!F5,\"\")","v":""},{"$f":"IF('Data Input'!A38<>\"\",'Data Input'!A38,\"\")","v":""},{"$f":"IF('Data Input'!B38<>\"\",'Data Input'!B38,\"\")","v":""},{"$f":"IF('Data Input'!C38<>\"\",'Data Input'!C38,\"\")","v":""},{"$f":"IF('Data Input'!D38<>\"\",'Data Input'!D38,\"\")","v":""},{"$f":"IF('Data Input'!E38<>\"\",'Data Input'!E38,\"\")","v":""},{"$f":"IF('Data Input'!F38<>\"\",'Data Input'!F38,\"\")","v":""}]
[{"$f":"IF('Data Input'!A6<>\"\",'Data Input'!A6,\"\")","v":""},{"$f":"IF('Data Input'!B6<>\"\",'Data Input'!B6,\"\")","v":""},{"$f":"IF('Data Input'!C6<>\"\",'Data Input'!C6,\"\")","v":""},{"$f":"IF('Data Input'!D6<>\"\",'Data Input'!D6,\"\")","v":""},{"$f":"IF('Data Input'!E6<>\"\",'Data Input'!E6,\"\")","v":""},{"$f":"IF('Data Input'!F6<>\"\",'Data Input'!F6,\"\")","v":""},{"$f":"IF('Data Input'!A39<>\"\",'Data Input'!A39,\"\")","v":""},{"$f":"IF('Data Input'!B39<>\"\",'Data Input'!B39,\"\")","v":""},{"$f":"IF('Data Input'!C39<>\"\",'Data Input'!C39,\"\")","v":""},{"$f":"IF('Data Input'!D39<>\"\",'Data Input'!D39,\"\")","v":""},{"$f":"IF('Data Input'!E39<>\"\",'Data Input'!E39,\"\")","v":""},{"$f":"IF('Data Input'!F39<>\"\",'Data Input'!F39,\"\")","v":""}]
[{"$f":"IF('Data Input'!A7<>\"\",'Data Input'!A7,\"\")","v":""},{"$f":"IF('Data Input'!B7<>\"\",'Data Input'!B7,\"\")","v":""},{"$f":"IF('Data Input'!C7<>\"\",'Data Input'!C7,\"\")","v":""},{"$f":"IF('Data Input'!D7<>\"\",'Data Input'!D7,\"\")","v":""},{"$f":"IF('Data Input'!E7<>\"\",'Data Input'!E7,\"\")","v":""},{"$f":"IF('Data Input'!F7<>\"\",'Data Input'!F7,\"\")","v":""},{"$f":"IF('Data Input'!A40<>\"\",'Data Input'!A40,\"\")","v":""},{"$f":"IF('Data Input'!B40<>\"\",'Data Input'!B40,\"\")","v":""},{"$f":"IF('Data Input'!C40<>\"\",'Data Input'!C40,\"\")","v":""},{"$f":"IF('Data Input'!D40<>\"\",'Data Input'!D40,\"\")","v":""},{"$f":"IF('Data Input'!E40<>\"\",'Data Input'!E40,\"\")","v":""},{"$f":"IF('Data Input'!F40<>\"\",'Data Input'!F40,\"\")","v":""}]
[{"$f":"IF('Data Input'!A8<>\"\",'Data Input'!A8,\"\")","v":""},{"$f":"IF('Data Input'!B8<>\"\",'Data Input'!B8,\"\")","v":""},{"$f":"IF('Data Input'!C8<>\"\",'Data Input'!C8,\"\")","v":""},{"$f":"IF('Data Input'!D8<>\"\",'Data Input'!D8,\"\")","v":""},{"$f":"IF('Data Input'!E8<>\"\",'Data Input'!E8,\"\")","v":""},{"$f":"IF('Data Input'!F8<>\"\",'Data Input'!F8,\"\")","v":""},{"$f":"IF('Data Input'!A41<>\"\",'Data Input'!A41,\"\")","v":""},{"$f":"IF('Data Input'!B41<>\"\",'Data Input'!B41,\"\")","v":""},{"$f":"IF('Data Input'!C41<>\"\",'Data Input'!C41,\"\")","v":""},{"$f":"IF('Data Input'!D41<>\"\",'Data Input'!D41,\"\")","v":""},{"$f":"IF('Data Input'!E41<>\"\",'Data Input'!E41,\"\")","v":""},{"$f":"IF('Data Input'!F41<>\"\",'Data Input'!F41,\"\")","v":""}]
[{"$f":"IF('Data Input'!A9<>\"\",'Data Input'!A9,\"\")","v":""},{"$f":"IF('Data Input'!B9<>\"\",'Data Input'!B9,\"\")","v":""},{"$f":"IF('Data Input'!C9<>\"\",'Data Input'!C9,\"\")","v":""},{"$f":"IF('Data Input'!D9<>\"\",'Data Input'!D9,\"\")","v":""},{"$f":"IF('Data Input'!E9<>\"\",'Data Input'!E9,\"\")","v":""},{"$f":"IF('Data Input'!F9<>\"\",'Data Input'!F9,\"\")","v":""},{"$f":"IF('Data Input'!A42<>\"\",'Data Input'!A42,\"\")","v":""},{"$f":"IF('Data Input'!B42<>\"\",'Data Input'!B42,\"\")","v":""},{"$f":"IF('Data Input'!C42<>\"\",'Data Input'!C42,\"\")","v":""},{"$f":"IF('Data Input'!D42<>\"\",'Data Input'!D42,\"\")","v":""},{"$f":"IF('Data Input'!E42<>\"\",'Data Input'!E42,\"\")","v":""},{"$f":"IF('Data Input'!F42<>\"\",'Data Input'!F42,\"\")","v":""}]
[{"$f":"IF('Data Input'!A10<>\"\",'Data Input'!A10,\"\")","v":""},{"$f":"IF('Data Input'!B10<>\"\",'Data Input'!B10,\"\")","v":""},{"$f":"IF('Data Input'!C10<>\"\",'Data Input'!C10,\"\")","v":""},{"$f":"IF('Data Input'!D10<>\"\",'Data Input'!D10,\"\")","v":""},{"$f":"IF('Data Input'!E10<>\"\",'Data Input'!E10,\"\")","v":""},{"$f":"IF('Data Input'!F10<>\"\",'Data Input'!F10,\"\")","v":""},{"$f":"IF('Data Input'!A43<>\"\",'Data Input'!A43,\"\")","v":""},{"$f":"IF('Data Input'!B43<>\"\",'Data Input'!B43,\"\")","v":""},{"$f":"IF('Data Input'!C43<>\"\",'Data Input'!C43,\"\")","v":""},{"$f":"IF('Data Input'!D43<>\"\",'Data Input'!D43,\"\")","v":""},{"$f":"IF('Data Input'!E43<>\"\",'Data Input'!E43,\"\")","v":""},{"$f":"IF('Data Input'!F43<>\"\",'Data Input'!F43,\"\")","v":""}]
[{"$f":"IF('Data Input'!A11<>\"\",'Data Input'!A11,\"\")","v":""},{"$f":"IF('Data Input'!B11<>\"\",'Data Input'!B11,\"\")","v":""},{"$f":"IF('Data Input'!C11<>\"\",'Data Input'!C11,\"\")","v":""},{"$f":"IF('Data Input'!D11<>\"\",'Data Input'!D11,\"\")","v":""},{"$f":"IF('Data Input'!E11<>\"\",'Data Input'!E11,\"\")","v":""},{"$f":"IF('Data Input'!F11<>\"\",'Data Input'!F11,\"\")","v":""},{"$f":"IF('Data Input'!A44<>\"\",'Data Input'!A44,\"\")","v":""},{"$f":"IF('Data Input'!B44<>\"\",'Data Input'!B44,\"\")","v":""},{"$f":"IF('Data Input'!C44<>\"\",'Data Input'!C44,\"\")","v":""},{"$f":"IF('Data Input'!D44<>\"\",'Data Input'!D44,\"\")","v":""},{"$f":"IF('Data Input'!E44<>\"\",'Data Input'!E44,\"\")","v":""},{"$f":"IF('Data Input'!F44<>\"\",'Data Input'!F44,\"\")","v":""}]
[{"$f":"IF('Data Input'!A12<>\"\",'Data Input'!A12,\"\")","v":""},{"$f":"IF('Data Input'!B12<>\"\",'Data Input'!B12,\"\")","v":""},{"$f":"IF('Data Input'!C12<>\"\",'Data Input'!C12,\"\")","v":""},{"$f":"IF('Data Input'!D12<>\"\",'Data Input'!D12,\"\")","v":""},{"$f":"IF('Data Input'!E12<>\"\",'Data Input'!E12,\"\")","v":""},{"$f":"IF('Data Input'!F12<>\"\",'Data Input'!F12,\"\")","v":""},{"$f":"IF('Data Input'!A45<>\"\",'Data Input'!A45,\"\")","v":""},{"$f":"IF('Data Input'!B45<>\"\",'Data Input'!B45,\"\")","v":""},{"$f":"IF('Data Input'!C45<>\"\",'Data Input'!C45,\"\")","v":""},{"$f":"IF('Data Input'!D45<>\"\",'Data Input'!D45,\"\")","v":""},{"$f":"IF('Data Input'!E45<>\"\",'Data Input'!E45,\"\")","v":""},{"$f":"IF('Data Input'!F45<>\"\",'Data Input'!F45,\"\")","v":""}]
[{"$f":"IF('Data Input'!A13<>\"\",'Data Input'!A13,\"\")","v":""},{"$f":"IF('Data Input'!B13<>\"\",'Data Input'!B13,\"\")","v":""},{"$f":"IF('Data Input'!C13<>\"\",'Data Input'!C13,\"\")","v":""},{"$f":"IF('Data Input'!D13<>\"\",'Data Input'!D13,\"\")","v":""},{"$f":"IF('Data Input'!E13<>\"\",'Data Input'!E13,\"\")","v":""},{"$f":"IF('Data Input'!F13<>\"\",'Data Input'!F13,\"\")","v":""},{"$f":"IF('Data Input'!A46<>\"\",'Data Input'!A46,\"\")","v":""},{"$f":"IF('Data Input'!B46<>\"\",'Data Input'!B46,\"\")","v":""},{"$f":"IF('Data Input'!C46<>\"\",'Data Input'!C46,\"\")","v":""},{"$f":"IF('Data Input'!D46<>\"\",'Data Input'!D46,\"\")","v":""},{"$f":"IF('Data Input'!E46<>\"\",'Data Input'!E46,\"\")","v":""},{"$f":"IF('Data Input'!F46<>\"\",'Data Input'!F46,\"\")","v":""}]
[{"$f":"IF('Data Input'!A14<>\"\",'Data Input'!A14,\"\")","v":""},{"$f":"IF('Data Input'!B14<>\"\",'Data Input'!B14,\"\")","v":""},{"$f":"IF('Data Input'!C14<>\"\",'Data Input'!C14,\"\")","v":""},{"$f":"IF('Data Input'!D14<>\"\",'Data Input'!D14,\"\")","v":""},{"$f":"IF('Data Input'!E14<>\"\",'Data Input'!E14,\"\")","v":""},{"$f":"IF('Data Input'!F14<>\"\",'Data Input'!F14,\"\")","v":""},{"$f":"IF('Data Input'!A47<>\"\",'Data Input'!A47,\"\")","v":""},{"$f":"IF('Data Input'!B47<>\"\",'Data Input'!B47,\"\")","v":""},{"$f":"IF('Data Input'!C47<>\"\",'Data Input'!C47,\"\")","v":""},{"$f":"IF('Data Input'!D47<>\"\",'Data Input'!D47,\"\")","v":""},{"$f":"IF('Data Input'!E47<>\"\",'Data Input'!E47,\"\")","v":""},{"$f":"IF('Data Input'!F47<>\"\",'Data Input'!F47,\"\")","v":""}]
[{"$f":"IF('Data Input'!A15<>\"\",'Data Input'!A15,\"\")","v":""},{"$f":"IF('Data Input'!B15<>\"\",'Data Input'!B15,\"\")","v":""},{"$f":"IF('Data Input'!C15<>\"\",'Data Input'!C15,\"\")","v":""},{"$f":"IF('Data Input'!D15<>\"\",'Data Input'!D15,\"\")","v":""},{"$f":"IF('Data Input'!E15<>\"\",'Data Input'!E15,\"\")","v":""},{"$f":"IF('Data Input'!F15<>\"\",'Data Input'!F15,\"\")","v":""},{"$f":"IF('Data Input'!A48<>\"\",'Data Input'!A48,\"\")","v":""},{"$f":"IF('Data Input'!B48<>\"\",'Data Input'!B48,\"\")","v":""},{"$f":"IF('Data Input'!C48<>\"\",'Data Input'!C48,\"\")","v":""},{"$f":"IF('Data Input'!D48<>\"\",'Data Input'!D48,\"\")","v":""},{"$f":"IF('Data Input'!E48<>\"\",'Data Input'!E48,\"\")","v":""},{"$f":"IF('Data Input'!F48<>\"\",'Data Input'!F48,\"\")","v":""}]
[{"$f":"IF('Data Input'!A16<>\"\",'Data Input'!A16,\"\")","v":""},{"$f":"IF('Data Input'!B16<>\"\",'Data Input'!B16,\"\")","v":""},{"$f":"IF('Data Input'!C16<>\"\",'Data Input'!C16,\"\")","v":""},{"$f":"IF('Data Input'!D16<>\"\",'Data Input'!D16,\"\")","v":""},{"$f":"IF('Data Input'!E16<>\"\",'Data Input'!E16,\"\")","v":""},{"$f":"IF('Data Input'!F16<>\"\",'Data Input'!F16,\"\")","v":""},{"$f":"IF('Data Input'!A49<>\"\",'Data Input'!A49,\"\")","v":""},{"$f":"IF('Data Input'!B49<>\"\",'Data Input'!B49,\"\")","v":""},{"$f":"IF('Data Input'!C49<>\"\",'Data Input'!C49,\"\")","v":""},{"$f":"IF('Data Input'!D49<>\"\",'Data Input'!D49,\"\")","v":""},{"$f":"IF('Data Input'!E49<>\"\",'Data Input'!E49,\"\")","v":""},{"$f":"IF('Data Input'!F49<>\"\",'Data Input'!F49,\"\")","v":""}]
[{"$f":"IF('Data Input'!A17<>\"\",'Data Input'!A17,\"\")","v":""},{"$f":"IF('Data Input'!B17<>\"\",'Data Input'!B17,\"\")","v":""},{"$f":"IF('Data Input'!C17<>\"\",'Data Input'!C17,\"\")","v":""},{"$f":"IF('Data Input'!D17<>\"\",'Data Input'!D17,\"\")","v":""},{"$f":"IF('Data Input'!E17<>\"\",'Data Input'!E17,\"\")","v":""},{"$f":"IF('Data Input'!F17<>\"\",'Data Input'!F17,\"\")","v":""},{"$f":"IF('Data Input'!A50<>\"\",'Data Input'!A50,\"\")","v":""},{"$f":"IF('Data Input'!B50<>\"\",'Data Input'!B50,\"\")","v":""},{"$f":"IF('Data Input'!C50<>\"\",'Data Input'!C50,\"\")","v":""},{"$f":"IF('Data Input'!D50<>\"\",'Data Input'!D50,\"\")","v":""},{"$f":"IF('Data Input'!E50<>\"\",'Data Input'!E50,\"\")","v":""},{"$f":"IF('Data Input'!F50<>\"\",'Data Input'!F50,\"\")","v":""}]
[{"$f":"IF('Data Input'!A18<>\"\",'Data Input'!A18,\"\")","v":""},{"$f":"IF('Data Input'!B18<>\"\",'Data Input'!B18,\"\")","v":""},{"$f":"IF('Data Input'!C18<>\"\",'Data Input'!C18,\"\")","v":""},{"$f":"IF('Data Input'!D18<>\"\",'Data Input'!D18,\"\")","v":""},{"$f":"IF('Data Input'!E18<>\"\",'Data Input'!E18,\"\")","v":""},{"$f":"IF('Data Input'!F18<>\"\",'Data Input'!F18,\"\")","v":""},{"$f":"IF('Data Input'!A51<>\"\",'Data Input'!A51,\"\")","v":""},{"$f":"IF('Data Input'!B51<>\"\",'Data Input'!B51,\"\")","v":""},{"$f":"IF('Data Input'!C51<>\"\",'Data Input'!C51,\"\")","v":""},{"$f":"IF('Data Input'!D51<>\"\",'Data Input'!D51,\"\")","v":""},{"$f":"IF('Data Input'!E51<>\"\",'Data Input'!E51,\"\")","v":""},{"$f":"IF('Data Input'!F51<>\"\",'Data Input'!F51,\"\")","v":""}]
[{"$f":"IF('Data Input'!A19<>\"\",'Data Input'!A19,\"\")","v":""},{"$f":"IF('Data Input'!B19<>\"\",'Data Input'!B19,\"\")","v":""},{"$f":"IF('Data Input'!C19<>\"\",'Data Input'!C19,\"\")","v":""},{"$f":"IF('Data Input'!D19<>\"\",'Data Input'!D19,\"\")","v":""},{"$f":"IF('Data Input'!E19<>\"\",'Data Input'!E19,\"\")","v":""},{"$f":"IF('Data Input'!F19<>\"\",'Data Input'!F19,\"\")","v":""},{"$f":"IF('Data Input'!A52<>\"\",'Data Input'!A52,\"\")","v":""},{"$f":"IF('Data Input'!B52<>\"\",'Data Input'!B52,\"\")","v":""},{"$f":"IF('Data Input'!C52<>\"\",'Data Input'!C52,\"\")","v":""},{"$f":"IF('Data Input'!D52<>\"\",'Data Input'!D52,\"\")","v":""},{"$f":"IF('Data Input'!E52<>\"\",'Data Input'!E52,\"\")","v":""},{"$f":"IF('Data Input'!F52<>\"\",'Data Input'!F52,\"\")","v":""}]
[{"$f":"IF('Data Input'!A20<>\"\",'Data Input'!A20,\"\")","v":""},{"$f":"IF('Data Input'!B20<>\"\",'Data Input'!B20,\"\")","v":""},{"$f":"IF('Data Input'!C20<>\"\",'Data Input'!C20,\"\")","v":""},{"$f":"IF('Data Input'!D20<>\"\",'Data Input'!D20,\"\")","v":""},{"$f":"IF('Data Input'!E20<>\"\",'Data Input'!E20,\"\")","v":""},{"$f":"IF('Data Input'!F20<>\"\",'Data Input'!F20,\"\")","v":""},{"$f":"IF('Data Input'!A53<>\"\",'Data Input'!A53,\"\")","v":""},{"$f":"IF('Data Input'!B53<>\"\",'Data Input'!B53,\"\")","v":""},{"$f":"IF('Data Input'!C53<>\"\",'Data Input'!C53,\"\")","v":""},{"$f":"IF('Data Input'!D53<>\"\",'Data Input'!D53,\"\")","v":""},{"$f":"IF('Data Input'!E53<>\"\",'Data Input'!E53,\"\")","v":""},{"$f":"IF('Data Input'!F53<>\"\",'Data Input'!F53,\"\")","v":""}]
[{"$f":"IF('Data Input'!A21<>\"\",'Data Input'!A21,\"\")","v":""},{"$f":"IF('Data Input'!B21<>\"\",'Data Input'!B21,\"\")","v":""},{"$f":"IF('Data Input'!C21<>\"\",'Data Input'!C21,\"\")","v":""},{"$f":"IF('Data Input'!D21<>\"\",'Data Input'!D21,\"\")","v":""},{"$f":"IF('Data Input'!E21<>\"\",'Data Input'!E21,\"\")","v":""},{"$f":"IF('Data Input'!F21<>\"\",'Data Input'!F21,\"\")","v":""},{"$f":"IF('Data Input'!A54<>\"\",'Data Input'!A54,\"\")","v":""},{"$f":"IF('Data Input'!B54<>\"\",'Data Input'!B54,\"\")","v":""},{"$f":"IF('Data Input'!C54<>\"\",'Data Input'!C54,\"\")","v":""},{"$f":"IF('Data Input'!D54<>\"\",'Data Input'!D54,\"\")","v":""},{"$f":"IF('Data Input'!E54<>\"\",'Data Input'!E54,\"\")","v":""},{"$f":"IF('Data Input'!F54<>\"\",'Data Input'!F54,\"\")","v":""}]
[{"$f":"IF('Data Input'!A22<>\"\",'Data Input'!A22,\"\")","v":""},{"$f":"IF('Data Input'!B22<>\"\",'Data Input'!B22,\"\")","v":""},{"$f":"IF('Data Input'!C22<>\"\",'Data Input'!C22,\"\")","v":""},{"$f":"IF('Data Input'!D22<>\"\",'Data Input'!D22,\"\")","v":""},{"$f":"IF('Data Input'!E22<>\"\",'Data Input'!E22,\"\")","v":""},{"$f":"IF('Data Input'!F22<>\"\",'Data Input'!F22,\"\")","v":""},{"$f":"IF('Data Input'!A55<>\"\",'Data Input'!A55,\"\")","v":""},{"$f":"IF('Data Input'!B55<>\"\",'Data Input'!B55,\"\")","v":""},{"$f":"IF('Data Input'!C55<>\"\",'Data Input'!C55,\"\")","v":""},{"$f":"IF('Data Input'!D55<>\"\",'Data Input'!D55,\"\")","v":""},{"$f":"IF('Data Input'!E55<>\"\",'Data Input'!E55,\"\")","v":""},{"$f":"IF('Data Input'!F55<>\"\",'Data Input'!F55,\"\")","v":""}]
[{"$f":"IF('Data Input'!A23<>\"\",'Data Input'!A23,\"\")","v":""},{"$f":"IF('Data Input'!B23<>\"\",'Data Input'!B23,\"\")","v":""},{"$f":"IF('Data Input'!C23<>\"\",'Data Input'!C23,\"\")","v":""},{"$f":"IF('Data Input'!D23<>\"\",'Data Input'!D23,\"\")","v":""},{"$f":"IF('Data Input'!E23<>\"\",'Data Input'!E23,\"\")","v":""},{"$f":"IF('Data Input'!F23<>\"\",'Data Input'!F23,\"\")","v":""},{"$f":"IF('Data Input'!A56<>\"\",'Data Input'!A56,\"\")","v":""},{"$f":"IF('Data Input'!B56<>\"\",'Data Input'!B56,\"\")","v":""},{"$f":"IF('Data Input'!C56<>\"\",'Data Input'!C56,\"\")","v":""},{"$f":"IF('Data Input'!D56<>\"\",'Data Input'!D56,\"\")","v":""},{"$f":"IF('Data Input'!E56<>\"\",'Data Input'!E56,\"\")","v":""},{"$f":"IF('Data Input'!F56<>\"\",'Data Input'!F56,\"\")","v":""}]
[{"$f":"IF('Data Input'!A24<>\"\",'Data Input'!A24,\"\")","v":""},{"$f":"IF('Data Input'!B24<>\"\",'Data Input'!B24,\"\")","v":""},{"$f":"IF('Data Input'!C24<>\"\",'Data Input'!C24,\"\")","v":""},{"$f":"IF('Data Input'!D24<>\"\",'Data Input'!D24,\"\")","v":""},{"$f":"IF('Data Input'!E24<>\"\",'Data Input'!E24,\"\")","v":""},{"$f":"IF('Data Input'!F24<>\"\",'Data Input'!F24,\"\")","v":""},{"$f":"IF('Data Input'!A57<>\"\",'Data Input'!A57,\"\")","v":""},{"$f":"IF('Data Input'!B57<>\"\",'Data Input'!B57,\"\")","v":""},{"$f":"IF('Data Input'!C57<>\"\",'Data Input'!C57,\"\")","v":""},{"$f":"IF('Data Input'!D57<>\"\",'Data Input'!D57,\"\")","v":""},{"$f":"IF('Data Input'!E57<>\"\",'Data Input'!E57,\"\")","v":""},{"$f":"IF('Data Input'!F57<>\"\",'Data Input'!F57,\"\")","v":""}]
[{"$f":"IF('Data Input'!A25<>\"\",'Data Input'!A25,\"\")","v":""},{"$f":"IF('Data Input'!B25<>\"\",'Data Input'!B25,\"\")","v":""},{"$f":"IF('Data Input'!C25<>\"\",'Data Input'!C25,\"\")","v":""},{"$f":"IF('Data Input'!D25<>\"\",'Data Input'!D25,\"\")","v":""},{"$f":"IF('Data Input'!E25<>\"\",'Data Input'!E25,\"\")","v":""},{"$f":"IF('Data Input'!F25<>\"\",'Data Input'!F25,\"\")","v":""},{"$f":"IF('Data Input'!A58<>\"\",'Data Input'!A58,\"\")","v":""},{"$f":"IF('Data Input'!B58<>\"\",'Data Input'!B58,\"\")","v":""},{"$f":"IF('Data Input'!C58<>\"\",'Data Input'!C58,\"\")","v":""},{"$f":"IF('Data Input'!D58<>\"\",'Data Input'!D58,\"\")","v":""},{"$f":"IF('Data Input'!E58<>\"\",'Data Input'!E58,\"\")","v":""},{"$f":"IF('Data Input'!F58<>\"\",'Data Input'!F58,\"\")","v":""}]
[{"$f":"IF('Data Input'!A26<>\"\",'Data Input'!A26,\"\")","v":""},{"$f":"IF('Data Input'!B26<>\"\",'Data Input'!B26,\"\")","v":""},{"$f":"IF('Data Input'!C26<>\"\",'Data Input'!C26,\"\")","v":""},{"$f":"IF('Data Input'!D26<>\"\",'Data Input'!D26,\"\")","v":""},{"$f":"IF('Data Input'!E26<>\"\",'Data Input'!E26,\"\")","v":""},{"$f":"IF('Data Input'!F26<>\"\",'Data Input'!F26,\"\")","v":""},{"$f":"IF('Data Input'!A59<>\"\",'Data Input'!A59,\"\")","v":""},{"$f":"IF('Data Input'!B59<>\"\",'Data Input'!B59,\"\")","v":""},{"$f":"IF('Data Input'!C59<>\"\",'Data Input'!C59,\"\")","v":""},{"$f":"IF('Data Input'!D59<>\"\",'Data Input'!D59,\"\")","v":""},{"$f":"IF('Data Input'!E59<>\"\",'Data Input'!E59,\"\")","v":""},{"$f":"IF('Data Input'!F59<>\"\",'Data Input'!F59,\"\")","v":""}]
[{"$f":"IF('Data Input'!A27<>\"\",'Data Input'!A27,\"\")","v":""},{"$f":"IF('Data Input'!B27<>\"\",'Data Input'!B27,\"\")","v":""},{"$f":"IF('Data Input'!C27<>\"\",'Data Input'!C27,\"\")","v":""},{"$f":"IF('Data Input'!D27<>\"\",'Data Input'!D27,\"\")","v":""},{"$f":"IF('Data Input'!E27<>\"\",'Data Input'!E27,\"\")","v":""},{"$f":"IF('Data Input'!F27<>\"\",'Data Input'!F27,\"\")","v":""},{"$f":"IF('Data Input'!A60<>\"\",'Data Input'!A60,\"\")","v":""},{"$f":"IF('Data Input'!B60<>\"\",'Data Input'!B60,\"\")","v":""},{"$f":"IF('Data Input'!C60<>\"\",'Data Input'!C60,\"\")","v":""},{"$f":"IF('Data Input'!D60<>\"\",'Data Input'!D60,\"\")","v":""},{"$f":"IF('Data Input'!E60<>\"\",'Data Input'!E60,\"\")","v":""},{"$f":"IF('Data Input'!F60<>\"\",'Data Input'!F60,\"\")","v":""}]
[{"$f":"IF('Data Input'!A28<>\"\",'Data Input'!A28,\"\")","v":""},{"$f":"IF('Data Input'!B28<>\"\",'Data Input'!B28,\"\")","v":""},{"$f":"IF('Data Input'!C28<>\"\",'Data Input'!C28,\"\")","v":""},{"$f":"IF('Data Input'!D28<>\"\",'Data Input'!D28,\"\")","v":""},{"$f":"IF('Data Input'!E28<>\"\",'Data Input'!E28,\"\")","v":""},{"$f":"IF('Data Input'!F28<>\"\",'Data Input'!F28,\"\")","v":""},{"$f":"IF('Data Input'!A61<>\"\",'Data Input'!A61,\"\")","v":""},{"$f":"IF('Data Input'!B61<>\"\",'Data Input'!B61,\"\")","v":""},{"$f":"IF('Data Input'!C61<>\"\",'Data Input'!C61,\"\")","v":""},{"$f":"IF('Data Input'!D61<>\"\",'Data Input'!D61,\"\")","v":""},{"$f":"IF('Data Input'!E61<>\"\",'Data Input'!E61,\"\")","v":""},{"$f":"IF('Data Input'!F61<>\"\",'Data Input'!F61,\"\")","v":""}]
[{"$f":"IF('Data Input'!A29<>\"\",'Data Input'!A29,\"\")","v":""},{"$f":"IF('Data Input'!B29<>\"\",'Data Input'!B29,\"\")","v":""},{"$f":"IF('Data Input'!C29<>\"\",'Data Input'!C29,\"\")","v":""},{"$f":"IF('Data Input'!D29<>\"\",'Data Input'!D29,\"\")","v":""},{"$f":"IF('Data Input'!E29<>\"\",'Data Input'!E29,\"\")","v":""},{"$f":"IF('Data Input'!F29<>\"\",'Data Input'!F29,\"\")","v":""},{"$f":"IF('Data Input'!A62<>\"\",'Data Input'!A62,\"\")","v":""},{"$f":"IF('Data Input'!B62<>\"\",'Data Input'!B62,\"\")","v":""},{"$f":"IF('Data Input'!C62<>\"\",'Data Input'!C62,\"\")","v":""},{"$f":"IF('Data Input'!D62<>\"\",'Data Input'!D62,\"\")","v":""},{"$f":"IF('Data Input'!E62<>\"\",'Data Input'!E62,\"\")","v":""},{"$f":"IF('Data Input'!F62<>\"\",'Data Input'!F62,\"\")","v":""}]
[{"$f":"IF('Data Input'!A30<>\"\",'Data Input'!A30,\"\")","v":""},{"$f":"IF('Data Input'!B30<>\"\",'Data Input'!B30,\"\")","v":""},{"$f":"IF('Data Input'!C30<>\"\",'Data Input'!C30,\"\")","v":""},{"$f":"IF('Data Input'!D30<>\"\",'Data Input'!D30,\"\")","v":""},{"$f":"IF('Data Input'!E30<>\"\",'Data Input'!E30,\"\")","v":""},{"$f":"IF('Data Input'!F30<>\"\",'Data Input'!F30,\"\")","v":""},{"$f":"IF('Data Input'!A63<>\"\",'Data Input'!A63,\"\")","v":""},{"$f":"IF('Data Input'!B63<>\"\",'Data Input'!B63,\"\")","v":""},{"$f":"IF('Data Input'!C63<>\"\",'Data Input'!C63,\"\")","v":""},{"$f":"IF('Data Input'!D63<>\"\",'Data Input'!D63,\"\")","v":""},{"$f":"IF('Data Input'!E63<>\"\",'Data Input'!E63,\"\")","v":""},{"$f":"IF('Data Input'!F63<>\"\",'Data Input'!F63,\"\")","v":""}]
[{"$f":"IF('Data Input'!A31<>\"\",'Data Input'!A31,\"\")","v":""},{"$f":"IF('Data Input'!B31<>\"\",'Data Input'!B31,\"\")","v":""},{"$f":"IF('Data Input'!C31<>\"\",'Data Input'!C31,\"\")","v":""},{"$f":"IF('Data Input'!D31<>\"\",'Data Input'!D31,\"\")","v":""},{"$f":"IF('Data Input'!E31<>\"\",'Data Input'!E31,\"\")","v":""},{"$f":"IF('Data Input'!F31<>\"\",'Data Input'!F31,\"\")","v":""},{"$f":"IF('Data Input'!A64<>\"\",'Data Input'!A64,\"\")","v":""},{"$f":"IF('Data Input'!B64<>\"\",'Data Input'!B64,\"\")","v":""},{"$f":"IF('Data Input'!C64<>\"\",'Data Input'!C64,\"\")","v":""},{"$f":"IF('Data Input'!D64<>\"\",'Data Input'!D64,\"\")","v":""},{"$f":"IF('Data Input'!E64<>\"\",'Data Input'!E64,\"\")","v":""},{"$f":"IF('Data Input'!F64<>\"\",'Data Input'!F64,\"\")","v":""}]
[{"$f":"IF('Data Input'!A32<>\"\",'Data Input'!A32,\"\")","v":""},{"$f":"IF('Data Input'!B32<>\"\",'Data Input'!B32,\"\")","v":""},{"$f":"IF('Data Input'!C32<>\"\",'Data Input'!C32,\"\")","v":""},{"$f":"IF('Data Input'!D32<>\"\",'Data Input'!D32,\"\")","v":""},{"$f":"IF('Data Input'!E32<>\"\",'Data Input'!E32,\"\")","v":""},{"$f":"IF('Data Input'!F32<>\"\",'Data Input'!F32,\"\")","v":""},{"$f":"IF('Data Input'!A65<>\"\",'Data Input'!A65,\"\")","v":""},{"$f":"IF('Data Input'!B65<>\"\",'Data Input'!B65,\"\")","v":""},{"$f":"IF('Data Input'!C65<>\"\",'Data Input'!C65,\"\")","v":""},{"$f":"IF('Data Input'!D65<>\"\",'Data Input'!D65,\"\")","v":""},{"$f":"IF('Data Input'!E65<>\"\",'Data Input'!E65,\"\")","v":""},{"$f":"IF('Data Input'!F65<>\"\",'Data Input'!F65,\"\")","v":""}]
[{"$f":"IF('Data Input'!A33<>\"\",'Data Input'!A33,\"\")","v":""},{"$f":"IF('Data Input'!B33<>\"\",'Data Input'!B33,\"\")","v":""},{"$f":"IF('Data Input'!C33<>\"\",'Data Input'!C33,\"\")","v":""},{"$f":"IF('Data Input'!D33<>\"\",'Data Input'!D33,\"\")","v":""},{"$f":"IF('Data Input'!E33<>\"\",'Data Input'!E33,\"\")","v":""},{"$f":"IF('Data Input'!F33<>\"\",'Data Input'!F33,\"\")","v":""},{"$f":"IF('Data Input'!A66<>\"\",'Data Input'!A66,\"\")","v":""},{"$f":"IF('Data Input'!B66<>\"\",'Data Input'!B66,\"\")","v":""},{"$f":"IF('Data Input'!C66<>\"\",'Data Input'!C66,\"\")","v":""},{"$f":"IF('Data Input'!D66<>\"\",'Data Input'!D66,\"\")","v":""},{"$f":"IF('Data Input'!E66<>\"\",'Data Input'!E66,\"\")","v":""},{"$f":"IF('Data Input'!F66<>\"\",'Data Input'!F66,\"\")","v":""}]
[{"$f":"IF('Data Input'!A34<>\"\",'Data Input'!A34,\"\")","v":""},{"$f":"IF('Data Input'!B34<>\"\",'Data Input'!B34,\"\")","v":""},{"$f":"IF('Data Input'!C34<>\"\",'Data Input'!C34,\"\")","v":""},{"$f":"IF('Data Input'!D34<>\"\",'Data Input'!D34,\"\")","v":""},{"$f":"IF('Data Input'!E34<>\"\",'Data Input'!E34,\"\")","v":""},{"$f":"IF('Data Input'!F34<>\"\",'Data Input'!F34,\"\")","v":""},{"$f":"IF('Data Input'!A67<>\"\",'Data Input'!A67,\"\")","v":""},{"$f":"IF('Data Input'!B67<>\"\",'Data Input'!B67,\"\")","v":""},{"$f":"IF('Data Input'!C67<>\"\",'Data Input'!C67,\"\")","v":""},{"$f":"IF('Data Input'!D67<>\"\",'Data Input'!D67,\"\")","v":""},{"$f":"IF('Data Input'!E67<>\"\",'Data Input'!E67,\"\")","v":""},{"$f":"IF('Data Input'!F67<>\"\",'Data Input'!F67,\"\")","v":""}]
[{"$f":"IF('Data Input'!A68<>\"\",'Data Input'!A68,\"\")","v":""},{"$f":"IF('Data Input'!B68<>\"\",'Data Input'!B68,\"\")","v":""},{"$f":"IF('Data Input'!C68<>\"\",'Data Input'!C68,\"\")","v":""},{"$f":"IF('Data Input'!D68<>\"\",'Data Input'!D68,\"\")","v":""},{"$f":"IF('Data Input'!E68<>\"\",'Data Input'!E68,\"\")","v":""},{"$f":"IF('Data Input'!F68<>\"\",'Data Input'!F68,\"\")","v":""},{"$f":"IF('Data Input'!A120<>\"\",'Data Input'!A120,\"\")","v":""},{"$f":"IF('Data Input'!B120<>\"\",'Data Input'!B120,\"\")","v":""},{"$f":"IF('Data Input'!C120<>\"\",'Data Input'!C120,\"\")","v":""},{"$f":"IF('Data Input'!D120<>\"\",'Data Input'!D120,\"\")","v":""},{"$f":"IF('Data Input'!E120<>\"\",'Data Input'!E120,\"\")","v":""},{"$f":"IF('Data Input'!F120<>\"\",'Data Input'!F120,\"\")","v":""}]
[{"$f":"IF('Data Input'!A69<>\"\",'Data Input'!A69,\"\")","v":""},{"$f":"IF('Data Input'!B69<>\"\",'Data Input'!B69,\"\")","v":""},{"$f":"IF('Data Input'!C69<>\"\",'Data Input'!C69,\"\")","v":""},{"$f":"IF('Data Input'!D69<>\"\",'Data Input'!D69,\"\")","v":""},{"$f":"IF('Data Input'!E69<>\"\",'Data Input'!E69,\"\")","v":""},{"$f":"IF('Data Input'!F69<>\"\",'Data Input'!F69,\"\")","v":""},{"$f":"IF('Data Input'!A121<>\"\",'Data Input'!A121,\"\")","v":""},{"$f":"IF('Data Input'!B121<>\"\",'Data Input'!B121,\"\")","v":""},{"$f":"IF('Data Input'!C121<>\"\",'Data Input'!C121,\"\")","v":""},{"$f":"IF('Data Input'!D121<>\"\",'Data Input'!D121,\"\")","v":""},{"$f":"IF('Data Input'!E121<>\"\",'Data Input'!E121,\"\")","v":""},{"$f":"IF('Data Input'!F121<>\"\",'Data Input'!F121,\"\")","v":""}]
[{"$f":"IF('Data Input'!A70<>\"\",'Data Input'!A70,\"\")","v":""},{"$f":"IF('Data Input'!B70<>\"\",'Data Input'!B70,\"\")","v":""},{"$f":"IF('Data Input'!C70<>\"\",'Data Input'!C70,\"\")","v":""},{"$f":"IF('Data Input'!D70<>\"\",'Data Input'!D70,\"\")","v":""},{"$f":"IF('Data Input'!E70<>\"\",'Data Input'!E70,\"\")","v":""},{"$f":"IF('Data Input'!F70<>\"\",'Data Input'!F70,\"\")","v":""},{"$f":"IF('Data Input'!A122<>\"\",'Data Input'!A122,\"\")","v":""},{"$f":"IF('Data Input'!B122<>\"\",'Data Input'!B122,\"\")","v":""},{"$f":"IF('Data Input'!C122<>\"\",'Data Input'!C122,\"\")","v":""},{"$f":"IF('Data Input'!D122<>\"\",'Data Input'!D122,\"\")","v":""},{"$f":"IF('Data Input'!E122<>\"\",'Data Input'!E122,\"\")","v":""},{"$f":"IF('Data Input'!F122<>\"\",'Data Input'!F122,\"\")","v":""}]
[{"$f":"IF('Data Input'!A71<>\"\",'Data Input'!A71,\"\")","v":""},{"$f":"IF('Data Input'!B71<>\"\",'Data Input'!B71,\"\")","v":""},{"$f":"IF('Data Input'!C71<>\"\",'Data Input'!C71,\"\")","v":""},{"$f":"IF('Data Input'!D71<>\"\",'Data Input'!D71,\"\")","v":""},{"$f":"IF('Data Input'!E71<>\"\",'Data Input'!E71,\"\")","v":""},{"$f":"IF('Data Input'!F71<>\"\",'Data Input'!F71,\"\")","v":""},{"$f":"IF('Data Input'!A123<>\"\",'Data Input'!A123,\"\")","v":""},{"$f":"IF('Data Input'!B123<>\"\",'Data Input'!B123,\"\")","v":""},{"$f":"IF('Data Input'!C123<>\"\",'Data Input'!C123,\"\")","v":""},{"$f":"IF('Data Input'!D123<>\"\",'Data Input'!D123,\"\")","v":""},{"$f":"IF('Data Input'!E123<>\"\",'Data Input'!E123,\"\")","v":""},{"$f":"IF('Data Input'!F123<>\"\",'Data Input'!F123,\"\")","v":""}]
[{"$f":"IF('Data Input'!A72<>\"\",'Data Input'!A72,\"\")","v":""},{"$f":"IF('Data Input'!B72<>\"\",'Data Input'!B72,\"\")","v":""},{"$f":"IF('Data Input'!C72<>\"\",'Data Input'!C72,\"\")","v":""},{"$f":"IF('Data Input'!D72<>\"\",'Data Input'!D72,\"\")","v":""},{"$f":"IF('Data Input'!E72<>\"\",'Data Input'!E72,\"\")","v":""},{"$f":"IF('Data Input'!F72<>\"\",'Data Input'!F72,\"\")","v":""},{"$f":"IF('Data Input'!A124<>\"\",'Data Input'!A124,\"\")","v":""},{"$f":"IF('Data Input'!B124<>\"\",'Data Input'!B124,\"\")","v":""},{"$f":"IF('Data Input'!C124<>\"\",'Data Input'!C124,\"\")","v":""},{"$f":"IF('Data Input'!D124<>\"\",'Data Input'!D124,\"\")","v":""},{"$f":"IF('Data Input'!E124<>\"\",'Data Input'!E124,\"\")","v":""},{"$f":"IF('Data Input'!F124<>\"\",'Data Input'!F124,\"\")","v":""}]
[{"$f":"IF('Data Input'!A73<>\"\",'Data Input'!A73,\"\")","v":""},{"$f":"IF('Data Input'!B73<>\"\",'Data Input'!B73,\"\")","v":""},{"$f":"IF('Data Input'!C73<>\"\",'Data Input'!C73,\"\")","v":""},{"$f":"IF('Data Input'!D73<>\"\",'Data Input'!D73,\"\")","v":""},{"$f":"IF('Data Input'!E73<>\"\",'Data Input'!E73,\"\")","v":""},{"$f":"IF('Data Input'!F73<>\"\",'Data Input'!F73,\"\")","v":""},{"$f":"IF('Data Input'!A125<>\"\",'Data Input'!A125,\"\")","v":""},{"$f":"IF('Data Input'!B125<>\"\",'Data Input'!B125,\"\")","v":""},{"$f":"IF('Data Input'!C125<>\"\",'Data Input'!C125,\"\")","v":""},{"$f":"IF('Data Input'!D125<>\"\",'Data Input'!D125,\"\")","v":""},{"$f":"IF('Data Input'!E125<>\"\",'Data Input'!E125,\"\")","v":""},{"$f":"IF('Data Input'!F125<>\"\",'Data Input'!F125,\"\")","v":""}]
[{"$f":"IF('Data Input'!A74<>\"\",'Data Input'!A74,\"\")","v":""},{"$f":"IF('Data Input'!B74<>\"\",'Data Input'!B74,\"\")","v":""},{"$f":"IF('Data Input'!C74<>\"\",'Data Input'!C74,\"\")","v":""},{"$f":"IF('Data Input'!D74<>\"\",'Data Input'!D74,\"\")","v":""},{"$f":"IF('Data Input'!E74<>\"\",'Data Input'!E74,\"\")","v":""},{"$f":"IF('Data Input'!F74<>\"\",'Data Input'!F74,\"\")","v":""},{"$f":"IF('Data Input'!A126<>\"\",'Data Input'!A126,\"\")","v":""},{"$f":"IF('Data Input'!B126<>\"\",'Data Input'!B126,\"\")","v":""},{"$f":"IF('Data Input'!C126<>\"\",'Data Input'!C126,\"\")","v":""},{"$f":"IF('Data Input'!D126<>\"\",'Data Input'!D126,\"\")","v":""},{"$f":"IF('Data Input'!E126<>\"\",'Data Input'!E126,\"\")","v":""},{"$f":"IF('Data Input'!F126<>\"\",'Data Input'!F126,\"\")","v":""}]
[{"$f":"IF('Data Input'!A75<>\"\",'Data Input'!A75,\"\")","v":""},{"$f":"IF('Data Input'!B75<>\"\",'Data Input'!B75,\"\")","v":""},{"$f":"IF('Data Input'!C75<>\"\",'Data Input'!C75,\"\")","v":""},{"$f":"IF('Data Input'!D75<>\"\",'Data Input'!D75,\"\")","v":""},{"$f":"IF('Data Input'!E75<>\"\",'Data Input'!E75,\"\")","v":""},{"$f":"IF('Data Input'!F75<>\"\",'Data Input'!F75,\"\")","v":""},{"$f":"IF('Data Input'!A127<>\"\",'Data Input'!A127,\"\")","v":""},{"$f":"IF('Data Input'!B127<>\"\",'Data Input'!B127,\"\")","v":""},{"$f":"IF('Data Input'!C127<>\"\",'Data Input'!C127,\"\")","v":""},{"$f":"IF('Data Input'!D127<>\"\",'Data Input'!D127,\"\")","v":""},{"$f":"IF('Data Input'!E127<>\"\",'Data Input'!E127,\"\")","v":""},{"$f":"IF('Data Input'!F127<>\"\",'Data Input'!F127,\"\")","v":""}]
[{"$f":"IF('Data Input'!A76<>\"\",'Data Input'!A76,\"\")","v":""},{"$f":"IF('Data Input'!B76<>\"\",'Data Input'!B76,\"\")","v":""},{"$f":"IF('Data Input'!C76<>\"\",'Data Input'!C76,\"\")","v":""},{"$f":"IF('Data Input'!D76<>\"\",'Data Input'!D76,\"\")","v":""},{"$f":"IF('Data Input'!E76<>\"\",'Data Input'!E76,\"\")","v":""},{"$f":"IF('Data Input'!F76<>\"\",'Data Input'!F76,\"\")","v":""},{"$f":"IF('Data Input'!A128<>\"\",'Data Input'!A128,\"\")","v":""},{"$f":"IF('Data Input'!B128<>\"\",'Data Input'!B128,\"\")","v":""},{"$f":"IF('Data Input'!C128<>\"\",'Data Input'!C128,\"\")","v":""},{"$f":"IF('Data Input'!D128<>\"\",'Data Input'!D128,\"\")","v":""},{"$f":"IF('Data Input'!E128<>\"\",'Data Input'!E128,\"\")","v":""},{"$f":"IF('Data Input'!F128<>\"\",'Data Input'!F128,\"\")","v":""}]
[{"$f":"IF('Data Input'!A77<>\"\",'Data Input'!A77,\"\")","v":""},{"$f":"IF('Data Input'!B77<>\"\",'Data Input'!B77,\"\")","v":""},{"$f":"IF('Data Input'!C77<>\"\",'Data Input'!C77,\"\")","v":""},{"$f":"IF('Data Input'!D77<>\"\",'Data Input'!D77,\"\")","v":""},{"$f":"IF('Data Input'!E77<>\"\",'Data Input'!E77,\"\")","v":""},{"$f":"IF('Data Input'!F77<>\"\",'Data Input'!F77,\"\")","v":""},{"$f":"IF('Data Input'!A129<>\"\",'Data Input'!A129,\"\")","v":""},{"$f":"IF('Data Input'!B129<>\"\",'Data Input'!B129,\"\")","v":""},{"$f":"IF('Data Input'!C129<>\"\",'Data Input'!C129,\"\")","v":""},{"$f":"IF('Data Input'!D129<>\"\",'Data Input'!D129,\"\")","v":""},{"$f":"IF('Data Input'!E129<>\"\",'Data Input'!E129,\"\")","v":""},{"$f":"IF('Data Input'!F129<>\"\",'Data Input'!F129,\"\")","v":""}]
[{"$f":"IF('Data Input'!A78<>\"\",'Data Input'!A78,\"\")","v":""},{"$f":"IF('Data Input'!B78<>\"\",'Data Input'!B78,\"\")","v":""},{"$f":"IF('Data Input'!C78<>\"\",'Data Input'!C78,\"\")","v":""},{"$f":"IF('Data Input'!D78<>\"\",'Data Input'!D78,\"\")","v":""},{"$f":"IF('Data Input'!E78<>\"\",'Data Input'!E78,\"\")","v":""},{"$f":"IF('Data Input'!F78<>\"\",'Data Input'!F78,\"\")","v":""},{"$f":"IF('Data Input'!A130<>\"\",'Data Input'!A130,\"\")","v":""},{"$f":"IF('Data Input'!B130<>\"\",'Data Input'!B130,\"\")","v":""},{"$f":"IF('Data Input'!C130<>\"\",'Data Input'!C130,\"\")","v":""},{"$f":"IF('Data Input'!D130<>\"\",'Data Input'!D130,\"\")","v":""},{"$f":"IF('Data Input'!E130<>\"\",'Data Input'!E130,\"\")","v":""},{"$f":"IF('Data Input'!F130<>\"\",'Data Input'!F130,\"\")","v":""}]
[{"$f":"IF('Data Input'!A79<>\"\",'Data Input'!A79,\"\")","v":""},{"$f":"IF('Data Input'!B79<>\"\",'Data Input'!B79,\"\")","v":""},{"$f":"IF('Data Input'!C79<>\"\",'Data Input'!C79,\"\")","v":""},{"$f":"IF('Data Input'!D79<>\"\",'Data Input'!D79,\"\")","v":""},{"$f":"IF('Data Input'!E79<>\"\",'Data Input'!E79,\"\")","v":""},{"$f":"IF('Data Input'!F79<>\"\",'Data Input'!F79,\"\")","v":""},{"$f":"IF('Data Input'!A131<>\"\",'Data Input'!A131,\"\")","v":""},{"$f":"IF('Data Input'!B131<>\"\",'Data Input'!B131,\"\")","v":""},{"$f":"IF('Data Input'!C131<>\"\",'Data Input'!C131,\"\")","v":""},{"$f":"IF('Data Input'!D131<>\"\",'Data Input'!D131,\"\")","v":""},{"$f":"IF('Data Input'!E131<>\"\",'Data Input'!E131,\"\")","v":""},{"$f":"IF('Data Input'!F131<>\"\",'Data Input'!F131,\"\")","v":""}]
[{"$f":"IF('Data Input'!A80<>\"\",'Data Input'!A80,\"\")","v":""},{"$f":"IF('Data Input'!B80<>\"\",'Data Input'!B80,\"\")","v":""},{"$f":"IF('Data Input'!C80<>\"\",'Data Input'!C80,\"\")","v":""},{"$f":"IF('Data Input'!D80<>\"\",'Data Input'!D80,\"\")","v":""},{"$f":"IF('Data Input'!E80<>\"\",'Data Input'!E80,\"\")","v":""},{"$f":"IF('Data Input'!F80<>\"\",'Data Input'!F80,\"\")","v":""},{"$f":"IF('Data Input'!A132<>\"\",'Data Input'!A132,\"\")","v":""},{"$f":"IF('Data Input'!B132<>\"\",'Data Input'!B132,\"\")","v":""},{"$f":"IF('Data Input'!C132<>\"\",'Data Input'!C132,\"\")","v":""},{"$f":"IF('Data Input'!D132<>\"\",'Data Input'!D132,\"\")","v":""},{"$f":"IF('Data Input'!E132<>\"\",'Data Input'!E132,\"\")","v":""},{"$f":"IF('Data Input'!F132<>\"\",'Data Input'!F132,\"\")","v":""}]
[{"$f":"IF('Data Input'!A81<>\"\",'Data Input'!A81,\"\")","v":""},{"$f":"IF('Data Input'!B81<>\"\",'Data Input'!B81,\"\")","v":""},{"$f":"IF('Data Input'!C81<>\"\",'Data Input'!C81,\"\")","v":""},{"$f":"IF('Data Input'!D81<>\"\",'Data Input'!D81,\"\")","v":""},{"$f":"IF('Data Input'!E81<>\"\",'Data Input'!E81,\"\")","v":""},{"$f":"IF('Data Input'!F81<>\"\",'Data Input'!F81,\"\")","v":""},{"$f":"IF('Data Input'!A133<>\"\",'Data Input'!A133,\"\")","v":""},{"$f":"IF('Data Input'!B133<>\"\",'Data Input'!B133,\"\")","v":""},{"$f":"IF('Data Input'!C133<>\"\",'Data Input'!C133,\"\")","v":""},{"$f":"IF('Data Input'!D133<>\"\",'Data Input'!D133,\"\")","v":""},{"$f":"IF('Data Input'!E133<>\"\",'Data Input'!E133,\"\")","v":""},{"$f":"IF('Data Input'!F133<>\"\",'Data Input'!F133,\"\")","v":""}]
[{"$f":"IF('Data Input'!A82<>\"\",'Data Input'!A82,\"\")","v":""},{"$f":"IF('Data Input'!B82<>\"\",'Data Input'!B82,\"\")","v":""},{"$f":"IF('Data Input'!C82<>\"\",'Data Input'!C82,\"\")","v":""},{"$f":"IF('Data Input'!D82<>\"\",'Data Input'!D82,\"\")","v":""},{"$f":"IF('Data Input'!E82<>\"\",'Data Input'!E82,\"\")","v":""},{"$f":"IF('Data Input'!F82<>\"\",'Data Input'!F82,\"\")","v":""},{"$f":"IF('Data Input'!A134<>\"\",'Data Input'!A134,\"\")","v":""},{"$f":"IF('Data Input'!B134<>\"\",'Data Input'!B134,\"\")","v":""},{"$f":"IF('Data Input'!C134<>\"\",'Data Input'!C134,\"\")","v":""},{"$f":"IF('Data Input'!D134<>\"\",'Data Input'!D134,\"\")","v":""},{"$f":"IF('Data Input'!E134<>\"\",'Data Input'!E134,\"\")","v":""},{"$f":"IF('Data Input'!F134<>\"\",'Data Input'!F134,\"\")","v":""}]
[{"$f":"IF('Data Input'!A83<>\"\",'Data Input'!A83,\"\")","v":""},{"$f":"IF('Data Input'!B83<>\"\",'Data Input'!B83,\"\")","v":""},{"$f":"IF('Data Input'!C83<>\"\",'Data Input'!C83,\"\")","v":""},{"$f":"IF('Data Input'!D83<>\"\",'Data Input'!D83,\"\")","v":""},{"$f":"IF('Data Input'!E83<>\"\",'Data Input'!E83,\"\")","v":""},{"$f":"IF('Data Input'!F83<>\"\",'Data Input'!F83,\"\")","v":""},{"$f":"IF('Data Input'!A135<>\"\",'Data Input'!A135,\"\")","v":""},{"$f":"IF('Data Input'!B135<>\"\",'Data Input'!B135,\"\")","v":""},{"$f":"IF('Data Input'!C135<>\"\",'Data Input'!C135,\"\")","v":""},{"$f":"IF('Data Input'!D135<>\"\",'Data Input'!D135,\"\")","v":""},{"$f":"IF('Data Input'!E135<>\"\",'Data Input'!E135,\"\")","v":""},{"$f":"IF('Data Input'!F135<>\"\",'Data Input'!F135,\"\")","v":""}]
[{"$f":"IF('Data Input'!A84<>\"\",'Data Input'!A84,\"\")","v":""},{"$f":"IF('Data Input'!B84<>\"\",'Data Input'!B84,\"\")","v":""},{"$f":"IF('Data Input'!C84<>\"\",'Data Input'!C84,\"\")","v":""},{"$f":"IF('Data Input'!D84<>\"\",'Data Input'!D84,\"\")","v":""},{"$f":"IF('Data Input'!E84<>\"\",'Data Input'!E84,\"\")","v":""},{"$f":"IF('Data Input'!F84<>\"\",'Data Input'!F84,\"\")","v":""},{"$f":"IF('Data Input'!A136<>\"\",'Data Input'!A136,\"\")","v":""},{"$f":"IF('Data Input'!B136<>\"\",'Data Input'!B136,\"\")","v":""},{"$f":"IF('Data Input'!C136<>\"\",'Data Input'!C136,\"\")","v":""},{"$f":"IF('Data Input'!D136<>\"\",'Data Input'!D136,\"\")","v":""},{"$f":"IF('Data Input'!E136<>\"\",'Data Input'!E136,\"\")","v":""},{"$f":"IF('Data Input'!F136<>\"\",'Data Input'!F136,\"\")","v":""}]
[{"$f":"IF('Data Input'!A85<>\"\",'Data Input'!A85,\"\")","v":""},{"$f":"IF('Data Input'!B85<>\"\",'Data Input'!B85,\"\")","v":""},{"$f":"IF('Data Input'!C85<>\"\",'Data Input'!C85,\"\")","v":""},{"$f":"IF('Data Input'!D85<>\"\",'Data Input'!D85,\"\")","v":""},{"$f":"IF('Data Input'!E85<>\"\",'Data Input'!E85,\"\")","v":""},{"$f":"IF('Data Input'!F85<>\"\",'Data Input'!F85,\"\")","v":""},{"$f":"IF('Data Input'!A137<>\"\",'Data Input'!A137,\"\")","v":""},{"$f":"IF('Data Input'!B137<>\"\",'Data Input'!B137,\"\")","v":""},{"$f":"IF('Data Input'!C137<>\"\",'Data Input'!C137,\"\")","v":""},{"$f":"IF('Data Input'!D137<>\"\",'Data Input'!D137,\"\")","v":""},{"$f":"IF('Data Input'!E137<>\"\",'Data Input'!E137,\"\")","v":""},{"$f":"IF('Data Input'!F137<>\"\",'Data Input'!F137,\"\")","v":""}]
[{"$f":"IF('Data Input'!A86<>\"\",'Data Input'!A86,\"\")","v":""},{"$f":"IF('Data Input'!B86<>\"\",'Data Input'!B86,\"\")","v":""},{"$f":"IF('Data Input'!C86<>\"\",'Data Input'!C86,\"\")","v":""},{"$f":"IF('Data Input'!D86<>\"\",'Data Input'!D86,\"\")","v":""},{"$f":"IF('Data Input'!E86<>\"\",'Data Input'!E86,\"\")","v":""},{"$f":"IF('Data Input'!F86<>\"\",'Data Input'!F86,\"\")","v":""},{"$f":"IF('Data Input'!A138<>\"\",'Data Input'!A138,\"\")","v":""},{"$f":"IF('Data Input'!B138<>\"\",'Data Input'!B138,\"\")","v":""},{"$f":"IF('Data Input'!C138<>\"\",'Data Input'!C138,\"\")","v":""},{"$f":"IF('Data Input'!D138<>\"\",'Data Input'!D138,\"\")","v":""},{"$f":"IF('Data Input'!E138<>\"\",'Data Input'!E138,\"\")","v":""},{"$f":"IF('Data Input'!F138<>\"\",'Data Input'!F138,\"\")","v":""}]
[{"$f":"IF('Data Input'!A87<>\"\",'Data Input'!A87,\"\")","v":""},{"$f":"IF('Data Input'!B87<>\"\",'Data Input'!B87,\"\")","v":""},{"$f":"IF('Data Input'!C87<>\"\",'Data Input'!C87,\"\")","v":""},{"$f":"IF('Data Input'!D87<>\"\",'Data Input'!D87,\"\")","v":""},{"$f":"IF('Data Input'!E87<>\"\",'Data Input'!E87,\"\")","v":""},{"$f":"IF('Data Input'!F87<>\"\",'Data Input'!F87,\"\")","v":""},{"$f":"IF('Data Input'!A139<>\"\",'Data Input'!A139,\"\")","v":""},{"$f":"IF('Data Input'!B139<>\"\",'Data Input'!B139,\"\")","v":""},{"$f":"IF('Data Input'!C139<>\"\",'Data Input'!C139,\"\")","v":""},{"$f":"IF('Data Input'!D139<>\"\",'Data Input'!D139,\"\")","v":""},{"$f":"IF('Data Input'!E139<>\"\",'Data Input'!E139,\"\")","v":""},{"$f":"IF('Data Input'!F139<>\"\",'Data Input'!F139,\"\")","v":""}]
[{"$f":"IF('Data Input'!A88<>\"\",'Data Input'!A88,\"\")","v":""},{"$f":"IF('Data Input'!B88<>\"\",'Data Input'!B88,\"\")","v":""},{"$f":"IF('Data Input'!C88<>\"\",'Data Input'!C88,\"\")","v":""},{"$f":"IF('Data Input'!D88<>\"\",'Data Input'!D88,\"\")","v":""},{"$f":"IF('Data Input'!E88<>\"\",'Data Input'!E88,\"\")","v":""},{"$f":"IF('Data Input'!F88<>\"\",'Data Input'!F88,\"\")","v":""},{"$f":"IF('Data Input'!A140<>\"\",'Data Input'!A140,\"\")","v":""},{"$f":"IF('Data Input'!B140<>\"\",'Data Input'!B140,\"\")","v":""},{"$f":"IF('Data Input'!C140<>\"\",'Data Input'!C140,\"\")","v":""},{"$f":"IF('Data Input'!D140<>\"\",'Data Input'!D140,\"\")","v":""},{"$f":"IF('Data Input'!E140<>\"\",'Data Input'!E140,\"\")","v":""},{"$f":"IF('Data Input'!F140<>\"\",'Data Input'!F140,\"\")","v":""}]
[{"$f":"IF('Data Input'!A89<>\"\",'Data Input'!A89,\"\")","v":""},{"$f":"IF('Data Input'!B89<>\"\",'Data Input'!B89,\"\")","v":""},{"$f":"IF('Data Input'!C89<>\"\",'Data Input'!C89,\"\")","v":""},{"$f":"IF('Data Input'!D89<>\"\",'Data Input'!D89,\"\")","v":""},{"$f":"IF('Data Input'!E89<>\"\",'Data Input'!E89,\"\")","v":""},{"$f":"IF('Data Input'!F89<>\"\",'Data Input'!F89,\"\")","v":""},{"$f":"IF('Data Input'!A141<>\"\",'Data Input'!A141,\"\")","v":""},{"$f":"IF('Data Input'!B141<>\"\",'Data Input'!B141,\"\")","v":""},{"$f":"IF('Data Input'!C141<>\"\",'Data Input'!C141,\"\")","v":""},{"$f":"IF('Data Input'!D141<>\"\",'Data Input'!D141,\"\")","v":""},{"$f":"IF('Data Input'!E141<>\"\",'Data Input'!E141,\"\")","v":""},{"$f":"IF('Data Input'!F141<>\"\",'Data Input'!F141,\"\")","v":""}]
[{"$f":"IF('Data Input'!A90<>\"\",'Data Input'!A90,\"\")","v":""},{"$f":"IF('Data Input'!B90<>\"\",'Data Input'!B90,\"\")","v":""},{"$f":"IF('Data Input'!C90<>\"\",'Data Input'!C90,\"\")","v":""},{"$f":"IF('Data Input'!D90<>\"\",'Data Input'!D90,\"\")","v":""},{"$f":"IF('Data Input'!E90<>\"\",'Data Input'!E90,\"\")","v":""},{"$f":"IF('Data Input'!F90<>\"\",'Data Input'!F90,\"\")","v":""},{"$f":"IF('Data Input'!A142<>\"\",'Data Input'!A142,\"\")","v":""},{"$f":"IF('Data Input'!B142<>\"\",'Data Input'!B142,\"\")","v":""},{"$f":"IF('Data Input'!C142<>\"\",'Data Input'!C142,\"\")","v":""},{"$f":"IF('Data Input'!D142<>\"\",'Data Input'!D142,\"\")","v":""},{"$f":"IF('Data Input'!E142<>\"\",'Data Input'!E142,\"\")","v":""},{"$f":"IF('Data Input'!F142<>\"\",'Data Input'!F142,\"\")","v":""}]
[{"$f":"IF('Data Input'!A91<>\"\",'Data Input'!A91,\"\")","v":""},{"$f":"IF('Data Input'!B91<>\"\",'Data Input'!B91,\"\")","v":""},{"$f":"IF('Data Input'!C91<>\"\",'Data Input'!C91,\"\")","v":""},{"$f":"IF('Data Input'!D91<>\"\",'Data Input'!D91,\"\")","v":""},{"$f":"IF('Data Input'!E91<>\"\",'Data Input'!E91,\"\")","v":""},{"$f":"IF('Data Input'!F91<>\"\",'Data Input'!F91,\"\")","v":""},{"$f":"IF('Data Input'!A143<>\"\",'Data Input'!A143,\"\")","v":""},{"$f":"IF('Data Input'!B143<>\"\",'Data Input'!B143,\"\")","v":""},{"$f":"IF('Data Input'!C143<>\"\",'Data Input'!C143,\"\")","v":""},{"$f":"IF('Data Input'!D143<>\"\",'Data Input'!D143,\"\")","v":""},{"$f":"IF('Data Input'!E143<>\"\",'Data Input'!E143,\"\")","v":""},{"$f":"IF('Data Input'!F143<>\"\",'Data Input'!F143,\"\")","v":""}]
[{"$f":"IF('Data Input'!A92<>\"\",'Data Input'!A92,\"\")","v":""},{"$f":"IF('Data Input'!B92<>\"\",'Data Input'!B92,\"\")","v":""},{"$f":"IF('Data Input'!C92<>\"\",'Data Input'!C92,\"\")","v":""},{"$f":"IF('Data Input'!D92<>\"\",'Data Input'!D92,\"\")","v":""},{"$f":"IF('Data Input'!E92<>\"\",'Data Input'!E92,\"\")","v":""},{"$f":"IF('Data Input'!F92<>\"\",'Data Input'!F92,\"\")","v":""},{"$f":"IF('Data Input'!A144<>\"\",'Data Input'!A144,\"\")","v":""},{"$f":"IF('Data Input'!B144<>\"\",'Data Input'!B144,\"\")","v":""},{"$f":"IF('Data Input'!C144<>\"\",'Data Input'!C144,\"\")","v":""},{"$f":"IF('Data Input'!D144<>\"\",'Data Input'!D144,\"\")","v":""},{"$f":"IF('Data Input'!E144<>\"\",'Data Input'!E144,\"\")","v":""},{"$f":"IF('Data Input'!F144<>\"\",'Data Input'!F144,\"\")","v":""}]
[{"$f":"IF('Data Input'!A93<>\"\",'Data Input'!A93,\"\")","v":""},{"$f":"IF('Data Input'!B93<>\"\",'Data Input'!B93,\"\")","v":""},{"$f":"IF('Data Input'!C93<>\"\",'Data Input'!C93,\"\")","v":""},{"$f":"IF('Data Input'!D93<>\"\",'Data Input'!D93,\"\")","v":""},{"$f":"IF('Data Input'!E93<>\"\",'Data Input'!E93,\"\")","v":""},{"$f":"IF('Data Input'!F93<>\"\",'Data Input'!F93,\"\")","v":""},{"$f":"IF('Data Input'!A145<>\"\",'Data Input'!A145,\"\")","v":""},{"$f":"IF('Data Input'!B145<>\"\",'Data Input'!B145,\"\")","v":""},{"$f":"IF('Data Input'!C145<>\"\",'Data Input'!C145,\"\")","v":""},{"$f":"IF('Data Input'!D145<>\"\",'Data Input'!D145,\"\")","v":""},{"$f":"IF('Data Input'!E145<>\"\",'Data Input'!E145,\"\")","v":""},{"$f":"IF('Data Input'!F145<>\"\",'Data Input'!F145,\"\")","v":""}]
[{"$f":"IF('Data Input'!A94<>\"\",'Data Input'!A94,\"\")","v":""},{"$f":"IF('Data Input'!B94<>\"\",'Data Input'!B94,\"\")","v":""},{"$f":"IF('Data Input'!C94<>\"\",'Data Input'!C94,\"\")","v":""},{"$f":"IF('Data Input'!D94<>\"\",'Data Input'!D94,\"\")","v":""},{"$f":"IF('Data Input'!E94<>\"\",'Data Input'!E94,\"\")","v":""},{"$f":"IF('Data Input'!F94<>\"\",'Data Input'!F94,\"\")","v":""},{"$f":"IF('Data Input'!A146<>\"\",'Data Input'!A146,\"\")","v":""},{"$f":"IF('Data Input'!B146<>\"\",'Data Input'!B146,\"\")","v":""},{"$f":"IF('Data Input'!C146<>\"\",'Data Input'!C146,\"\")","v":""},{"$f":"IF('Data Input'!D146<>\"\",'Data Input'!D146,\"\")","v":""},{"$f":"IF('Data Input'!E146<>\"\",'Data Input'!E146,\"\")","v":""},{"$f":"IF('Data Input'!F146<>\"\",'Data Input'!F146,\"\")","v":""}]
[{"$f":"IF('Data Input'!A95<>\"\",'Data Input'!A95,\"\")","v":""},{"$f":"IF('Data Input'!B95<>\"\",'Data Input'!B95,\"\")","v":""},{"$f":"IF('Data Input'!C95<>\"\",'Data Input'!C95,\"\")","v":""},{"$f":"IF('Data Input'!D95<>\"\",'Data Input'!D95,\"\")","v":""},{"$f":"IF('Data Input'!E95<>\"\",'Data Input'!E95,\"\")","v":""},{"$f":"IF('Data Input'!F95<>\"\",'Data Input'!F95,\"\")","v":""},{"$f":"IF('Data Input'!A147<>\"\",'Data Input'!A147,\"\")","v":""},{"$f":"IF('Data Input'!B147<>\"\",'Data Input'!B147,\"\")","v":""},{"$f":"IF('Data Input'!C147<>\"\",'Data Input'!C147,\"\")","v":""},{"$f":"IF('Data Input'!D147<>\"\",'Data Input'!D147,\"\")","v":""},{"$f":"IF('Data Input'!E147<>\"\",'Data Input'!E147,\"\")","v":""},{"$f":"IF('Data Input'!F147<>\"\",'Data Input'!F147,\"\")","v":""}]
[{"$f":"IF('Data Input'!A96<>\"\",'Data Input'!A96,\"\")","v":""},{"$f":"IF('Data Input'!B96<>\"\",'Data Input'!B96,\"\")","v":""},{"$f":"IF('Data Input'!C96<>\"\",'Data Input'!C96,\"\")","v":""},{"$f":"IF('Data Input'!D96<>\"\",'Data Input'!D96,\"\")","v":""},{"$f":"IF('Data Input'!E96<>\"\",'Data Input'!E96,\"\")","v":""},{"$f":"IF('Data Input'!F96<>\"\",'Data Input'!F96,\"\")","v":""},{"$f":"IF('Data Input'!A148<>\"\",'Data Input'!A148,\"\")","v":""},{"$f":"IF('Data Input'!B148<>\"\",'Data Input'!B148,\"\")","v":""},{"$f":"IF('Data Input'!C148<>\"\",'Data Input'!C148,\"\")","v":""},{"$f":"IF('Data Input'!D148<>\"\",'Data Input'!D148,\"\")","v":""},{"$f":"IF('Data Input'!E148<>\"\",'Data Input'!E148,\"\")","v":""},{"$f":"IF('Data Input'!F148<>\"\",'Data Input'!F148,\"\")","v":""}]
[{"$f":"IF('Data Input'!A97<>\"\",'Data Input'!A97,\"\")","v":""},{"$f":"IF('Data Input'!B97<>\"\",'Data Input'!B97,\"\")","v":""},{"$f":"IF('Data Input'!C97<>\"\",'Data Input'!C97,\"\")","v":""},{"$f":"IF('Data Input'!D97<>\"\",'Data Input'!D97,\"\")","v":""},{"$f":"IF('Data Input'!E97<>\"\",'Data Input'!E97,\"\")","v":""},{"$f":"IF('Data Input'!F97<>\"\",'Data Input'!F97,\"\")","v":""},{"$f":"IF('Data Input'!A149<>\"\",'Data Input'!A149,\"\")","v":""},{"$f":"IF('Data Input'!B149<>\"\",'Data Input'!B149,\"\")","v":""},{"$f":"IF('Data Input'!C149<>\"\",'Data Input'!C149,\"\")","v":""},{"$f":"IF('Data Input'!D149<>\"\",'Data Input'!D149,\"\")","v":""},{"$f":"IF('Data Input'!E149<>\"\",'Data Input'!E149,\"\")","v":""},{"$f":"IF('Data Input'!F149<>\"\",'Data Input'!F149,\"\")","v":""}]
[{"$f":"IF('Data Input'!A98<>\"\",'Data Input'!A98,\"\")","v":""},{"$f":"IF('Data Input'!B98<>\"\",'Data Input'!B98,\"\")","v":""},{"$f":"IF('Data Input'!C98<>\"\",'Data Input'!C98,\"\")","v":""},{"$f":"IF('Data Input'!D98<>\"\",'Data Input'!D98,\"\")","v":""},{"$f":"IF('Data Input'!E98<>\"\",'Data Input'!E98,\"\")","v":""},{"$f":"IF('Data Input'!F98<>\"\",'Data Input'!F98,\"\")","v":""},{"$f":"IF('Data Input'!A150<>\"\",'Data Input'!A150,\"\")","v":""},{"$f":"IF('Data Input'!B150<>\"\",'Data Input'!B150,\"\")","v":""},{"$f":"IF('Data Input'!C150<>\"\",'Data Input'!C150,\"\")","v":""},{"$f":"IF('Data Input'!D150<>\"\",'Data Input'!D150,\"\")","v":""},{"$f":"IF('Data Input'!E150<>\"\",'Data Input'!E150,\"\")","v":""},{"$f":"IF('Data Input'!F150<>\"\",'Data Input'!F150,\"\")","v":""}]
[{"$f":"IF('Data Input'!A99<>\"\",'Data Input'!A99,\"\")","v":""},{"$f":"IF('Data Input'!B99<>\"\",'Data Input'!B99,\"\")","v":""},{"$f":"IF('Data Input'!C99<>\"\",'Data Input'!C99,\"\")","v":""},{"$f":"IF('Data Input'!D99<>\"\",'Data Input'!D99,\"\")","v":""},{"$f":"IF('Data Input'!E99<>\"\",'Data Input'!E99,\"\")","v":""},{"$f":"IF('Data Input'!F99<>\"\",'Data Input'!F99,\"\")","v":""},{"$f":"IF('Data Input'!A151<>\"\",'Data Input'!A151,\"\")","v":""},{"$f":"IF('Data Input'!B151<>\"\",'Data Input'!B151,\"\")","v":""},{"$f":"IF('Data Input'!C151<>\"\",'Data Input'!C151,\"\")","v":""},{"$f":"IF('Data Input'!D151<>\"\",'Data Input'!D151,\"\")","v":""},{"$f":"IF('Data Input'!E151<>\"\",'Data Input'!E151,\"\")","v":""},{"$f":"IF('Data Input'!F151<>\"\",'Data Input'!F151,\"\")","v":""}]
[{"$f":"IF('Data Input'!A100<>\"\",'Data Input'!A100,\"\")","v":""},{"$f":"IF('Data Input'!B100<>\"\",'Data Input'!B100,\"\")","v":""},{"$f":"IF('Data Input'!C100<>\"\",'Data Input'!C100,\"\")","v":""},{"$f":"IF('Data Input'!D100<>\"\",'Data Input'!D100,\"\")","v":""},{"$f":"IF('Data Input'!E100<>\"\",'Data Input'!E100,\"\")","v":""},{"$f":"IF('Data Input'!F100<>\"\",'Data Input'!F100,\"\")","v":""},{"$f":"IF('Data Input'!A152<>\"\",'Data Input'!A152,\"\")","v":""},{"$f":"IF('Data Input'!B152<>\"\",'Data Input'!B152,\"\")","v":""},{"$f":"IF('Data Input'!C152<>\"\",'Data Input'!C152,\"\")","v":""},{"$f":"IF('Data Input'!D152<>\"\",'Data Input'!D152,\"\")","v":""},{"$f":"IF('Data Input'!E152<>\"\",'Data Input'!E152,\"\")","v":""},{"$f":"IF('Data Input'!F152<>\"\",'Data Input'!F152,\"\")","v":""}]
[{"$f":"IF('Data Input'!A101<>\"\",'Data Input'!A101,\"\")","v":""},{"$f":"IF('Data Input'!B101<>\"\",'Data Input'!B101,\"\")","v":""},{"$f":"IF('Data Input'!C101<>\"\",'Data Input'!C101,\"\")","v":""},{"$f":"IF('Data Input'!D101<>\"\",'Data Input'!D101,\"\")","v":""},{"$f":"IF('Data Input'!E101<>\"\",'Data Input'!E101,\"\")","v":""},{"$f":"IF('Data Input'!F101<>\"\",'Data Input'!F101,\"\")","v":""},{"$f":"IF('Data Input'!A153<>\"\",'Data Input'!A153,\"\")","v":""},{"$f":"IF('Data Input'!B153<>\"\",'Data Input'!B153,\"\")","v":""},{"$f":"IF('Data Input'!C153<>\"\",'Data Input'!C153,\"\")","v":""},{"$f":"IF('Data Input'!D153<>\"\",'Data Input'!D153,\"\")","v":""},{"$f":"IF('Data Input'!E153<>\"\",'Data Input'!E153,\"\")","v":""},{"$f":"IF('Data Input'!F153<>\"\",'Data Input'!F153,\"\")","v":""}]
[{"$f":"IF('Data Input'!A102<>\"\",'Data Input'!A102,\"\")","v":""},{"$f":"IF('Data Input'!B102<>\"\",'Data Input'!B102,\"\")","v":""},{"$f":"IF('Data Input'!C102<>\"\",'Data Input'!C102,\"\")","v":""},{"$f":"IF('Data Input'!D102<>\"\",'Data Input'!D102,\"\")","v":""},{"$f":"IF('Data Input'!E102<>\"\",'Data Input'!E102,\"\")","v":""},{"$f":"IF('Data Input'!F102<>\"\",'Data Input'!F102,\"\")","v":""},{"$f":"IF('Data Input'!A154<>\"\",'Data Input'!A154,\"\")","v":""},{"$f":"IF('Data Input'!B154<>\"\",'Data Input'!B154,\"\")","v":""},{"$f":"IF('Data Input'!C154<>\"\",'Data Input'!C154,\"\")","v":""},{"$f":"IF('Data Input'!D154<>\"\",'Data Input'!D154,\"\")","v":""},{"$f":"IF('Data Input'!E154<>\"\",'Data Input'!E154,\"\")","v":""},{"$f":"IF('Data Input'!F154<>\"\",'Data Input'!F154,\"\")","v":""}]
[{"$f":"IF('Data Input'!A103<>\"\",'Data Input'!A103,\"\")","v":""},{"$f":"IF('Data Input'!B103<>\"\",'Data Input'!B103,\"\")","v":""},{"$f":"IF('Data Input'!C103<>\"\",'Data Input'!C103,\"\")","v":""},{"$f":"IF('Data Input'!D103<>\"\",'Data Input'!D103,\"\")","v":""},{"$f":"IF('Data Input'!E103<>\"\",'Data Input'!E103,\"\")","v":""},{"$f":"IF('Data Input'!F103<>\"\",'Data Input'!F103,\"\")","v":""},{"$f":"IF('Data Input'!A155<>\"\",'Data Input'!A155,\"\")","v":""},{"$f":"IF('Data Input'!B155<>\"\",'Data Input'!B155,\"\")","v":""},{"$f":"IF('Data Input'!C155<>\"\",'Data Input'!C155,\"\")","v":""},{"$f":"IF('Data Input'!D155<>\"\",'Data Input'!D155,\"\")","v":""},{"$f":"IF('Data Input'!E155<>\"\",'Data Input'!E155,\"\")","v":""},{"$f":"IF('Data Input'!F155<>\"\",'Data Input'!F155,\"\")","v":""}]
[{"$f":"IF('Data Input'!A104<>\"\",'Data Input'!A104,\"\")","v":""},{"$f":"IF('Data Input'!B104<>\"\",'Data Input'!B104,\"\")","v":""},{"$f":"IF('Data Input'!C104<>\"\",'Data Input'!C104,\"\")","v":""},{"$f":"IF('Data Input'!D104<>\"\",'Data Input'!D104,\"\")","v":""},{"$f":"IF('Data Input'!E104<>\"\",'Data Input'!E104,\"\")","v":""},{"$f":"IF('Data Input'!F104<>\"\",'Data Input'!F104,\"\")","v":""},{"$f":"IF('Data Input'!A156<>\"\",'Data Input'!A156,\"\")","v":""},{"$f":"IF('Data Input'!B156<>\"\",'Data Input'!B156,\"\")","v":""},{"$f":"IF('Data Input'!C156<>\"\",'Data Input'!C156,\"\")","v":""},{"$f":"IF('Data Input'!D156<>\"\",'Data Input'!D156,\"\")","v":""},{"$f":"IF('Data Input'!E156<>\"\",'Data Input'!E156,\"\")","v":""},{"$f":"IF('Data Input'!F156<>\"\",'Data Input'!F156,\"\")","v":""}]
[{"$f":"IF('Data Input'!A105<>\"\",'Data Input'!A105,\"\")","v":""},{"$f":"IF('Data Input'!B105<>\"\",'Data Input'!B105,\"\")","v":""},{"$f":"IF('Data Input'!C105<>\"\",'Data Input'!C105,\"\")","v":""},{"$f":"IF('Data Input'!D105<>\"\",'Data Input'!D105,\"\")","v":""},{"$f":"IF('Data Input'!E105<>\"\",'Data Input'!E105,\"\")","v":""},{"$f":"IF('Data Input'!F105<>\"\",'Data Input'!F105,\"\")","v":""},{"$f":"IF('Data Input'!A157<>\"\",'Data Input'!A157,\"\")","v":""},{"$f":"IF('Data Input'!B157<>\"\",'Data Input'!B157,\"\")","v":""},{"$f":"IF('Data Input'!C157<>\"\",'Data Input'!C157,\"\")","v":""},{"$f":"IF('Data Input'!D157<>\"\",'Data Input'!D157,\"\")","v":""},{"$f":"IF('Data Input'!E157<>\"\",'Data Input'!E157,\"\")","v":""},{"$f":"IF('Data Input'!F157<>\"\",'Data Input'!F157,\"\")","v":""}]
[{"$f":"IF('Data Input'!A106<>\"\",'Data Input'!A106,\"\")","v":""},{"$f":"IF('Data Input'!B106<>\"\",'Data Input'!B106,\"\")","v":""},{"$f":"IF('Data Input'!C106<>\"\",'Data Input'!C106,\"\")","v":""},{"$f":"IF('Data Input'!D106<>\"\",'Data Input'!D106,\"\")","v":""},{"$f":"IF('Data Input'!E106<>\"\",'Data Input'!E106,\"\")","v":""},{"$f":"IF('Data Input'!F106<>\"\",'Data Input'!F106,\"\")","v":""},{"$f":"IF('Data Input'!A158<>\"\",'Data Input'!A158,\"\")","v":""},{"$f":"IF('Data Input'!B158<>\"\",'Data Input'!B158,\"\")","v":""},{"$f":"IF('Data Input'!C158<>\"\",'Data Input'!C158,\"\")","v":""},{"$f":"IF('Data Input'!D158<>\"\",'Data Input'!D158,\"\")","v":""},{"$f":"IF('Data Input'!E158<>\"\",'Data Input'!E158,\"\")","v":""},{"$f":"IF('Data Input'!F158<>\"\",'Data Input'!F158,\"\")","v":""}]
[{"$f":"IF('Data Input'!A107<>\"\",'Data Input'!A107,\"\")","v":""},{"$f":"IF('Data Input'!B107<>\"\",'Data Input'!B107,\"\")","v":""},{"$f":"IF('Data Input'!C107<>\"\",'Data Input'!C107,\"\")","v":""},{"$f":"IF('Data Input'!D107<>\"\",'Data Input'!D107,\"\")","v":""},{"$f":"IF('Data Input'!E107<>\"\",'Data Input'!E107,\"\")","v":""},{"$f":"IF('Data Input'!F107<>\"\",'Data Input'!F107,\"\")","v":""},{"$f":"IF('Data Input'!A159<>\"\",'Data Input'!A159,\"\")","v":""},{"$f":"IF('Data Input'!B159<>\"\",'Data Input'!B159,\"\")","v":""},{"$f":"IF('Data Input'!C159<>\"\",'Data Input'!C159,\"\")","v":""},{"$f":"IF('Data Input'!D159<>\"\",'Data Input'!D159,\"\")","v":""},{"$f":"IF('Data Input'!E159<>\"\",'Data Input'!E159,\"\")","v":""},{"$f":"IF('Data Input'!F159<>\"\",'Data Input'!F159,\"\")","v":""}]
[{"$f":"IF('Data Input'!A108<>\"\",'Data Input'!A108,\"\")","v":""},{"$f":"IF('Data Input'!B108<>\"\",'Data Input'!B108,\"\")","v":""},{"$f":"IF('Data Input'!C108<>\"\",'Data Input'!C108,\"\")","v":""},{"$f":"IF('Data Input'!D108<>\"\",'Data Input'!D108,\"\")","v":""},{"$f":"IF('Data Input'!E108<>\"\",'Data Input'!E108,\"\")","v":""},{"$f":"IF('Data Input'!F108<>\"\",'Data Input'!F108,\"\")","v":""},{"$f":"IF('Data Input'!A160<>\"\",'Data Input'!A160,\"\")","v":""},{"$f":"IF('Data Input'!B160<>\"\",'Data Input'!B160,\"\")","v":""},{"$f":"IF('Data Input'!C160<>\"\",'Data Input'!C160,\"\")","v":""},{"$f":"IF('Data Input'!D160<>\"\",'Data Input'!D160,\"\")","v":""},{"$f":"IF('Data Input'!E160<>\"\",'Data Input'!E160,\"\")","v":""},{"$f":"IF('Data Input'!F160<>\"\",'Data Input'!F160,\"\")","v":""}]
[{"$f":"IF('Data Input'!A109<>\"\",'Data Input'!A109,\"\")","v":""},{"$f":"IF('Data Input'!B109<>\"\",'Data Input'!B109,\"\")","v":""},{"$f":"IF('Data Input'!C109<>\"\",'Data Input'!C109,\"\")","v":""},{"$f":"IF('Data Input'!D109<>\"\",'Data Input'!D109,\"\")","v":""},{"$f":"IF('Data Input'!E109<>\"\",'Data Input'!E109,\"\")","v":""},{"$f":"IF('Data Input'!F109<>\"\",'Data Input'!F109,\"\")","v":""},{"$f":"IF('Data Input'!A161<>\"\",'Data Input'!A161,\"\")","v":""},{"$f":"IF('Data Input'!B161<>\"\",'Data Input'!B161,\"\")","v":""},{"$f":"IF('Data Input'!C161<>\"\",'Data Input'!C161,\"\")","v":""},{"$f":"IF('Data Input'!D161<>\"\",'Data Input'!D161,\"\")","v":""},{"$f":"IF('Data Input'!E161<>\"\",'Data Input'!E161,\"\")","v":""},{"$f":"IF('Data Input'!F161<>\"\",'Data Input'!F161,\"\")","v":""}]
[{"$f":"IF('Data Input'!A110<>\"\",'Data Input'!A110,\"\")","v":""},{"$f":"IF('Data Input'!B110<>\"\",'Data Input'!B110,\"\")","v":""},{"$f":"IF('Data Input'!C110<>\"\",'Data Input'!C110,\"\")","v":""},{"$f":"IF('Data Input'!D110<>\"\",'Data Input'!D110,\"\")","v":""},{"$f":"IF('Data Input'!E110<>\"\",'Data Input'!E110,\"\")","v":""},{"$f":"IF('Data Input'!F110<>\"\",'Data Input'!F110,\"\")","v":""},{"$f":"IF('Data Input'!A162<>\"\",'Data Input'!A162,\"\")","v":""},{"$f":"IF('Data Input'!B162<>\"\",'Data Input'!B162,\"\")","v":""},{"$f":"IF('Data Input'!C162<>\"\",'Data Input'!C162,\"\")","v":""},{"$f":"IF('Data Input'!D162<>\"\",'Data Input'!D162,\"\")","v":""},{"$f":"IF('Data Input'!E162<>\"\",'Data Input'!E162,\"\")","v":""},{"$f":"IF('Data Input'!F162<>\"\",'Data Input'!F162,\"\")","v":""}]
[{"$f":"IF('Data Input'!A111<>\"\",'Data Input'!A111,\"\")","v":""},{"$f":"IF('Data Input'!B111<>\"\",'Data Input'!B111,\"\")","v":""},{"$f":"IF('Data Input'!C111<>\"\",'Data Input'!C111,\"\")","v":""},{"$f":"IF('Data Input'!D111<>\"\",'Data Input'!D111,\"\")","v":""},{"$f":"IF('Data Input'!E111<>\"\",'Data Input'!E111,\"\")","v":""},{"$f":"IF('Data Input'!F111<>\"\",'Data Input'!F111,\"\")","v":""},{"$f":"IF('Data Input'!A163<>\"\",'Data Input'!A163,\"\")","v":""},{"$f":"IF('Data Input'!B163<>\"\",'Data Input'!B163,\"\")","v":""},{"$f":"IF('Data Input'!C163<>\"\",'Data Input'!C163,\"\")","v":""},{"$f":"IF('Data Input'!D163<>\"\",'Data Input'!D163,\"\")","v":""},{"$f":"IF('Data Input'!E163<>\"\",'Data Input'!E163,\"\")","v":""},{"$f":"IF('Data Input'!F163<>\"\",'Data Input'!F163,\"\")","v":""}]
[{"$f":"IF('Data Input'!A112<>\"\",'Data Input'!A112,\"\")","v":""},{"$f":"IF('Data Input'!B112<>\"\",'Data Input'!B112,\"\")","v":""},{"$f":"IF('Data Input'!C112<>\"\",'Data Input'!C112,\"\")","v":""},{"$f":"IF('Data Input'!D112<>\"\",'Data Input'!D112,\"\")","v":""},{"$f":"IF('Data Input'!E112<>\"\",'Data Input'!E112,\"\")","v":""},{"$f":"IF('Data Input'!F112<>\"\",'Data Input'!F112,\"\")","v":""},{"$f":"IF('Data Input'!A164<>\"\",'Data Input'!A164,\"\")","v":""},{"$f":"IF('Data Input'!B164<>\"\",'Data Input'!B164,\"\")","v":""},{"$f":"IF('Data Input'!C164<>\"\",'Data Input'!C164,\"\")","v":""},{"$f":"IF('Data Input'!D164<>\"\",'Data Input'!D164,\"\")","v":""},{"$f":"IF('Data Input'!E164<>\"\",'Data Input'!E164,\"\")","v":""},{"$f":"IF('Data Input'!F164<>\"\",'Data Input'!F164,\"\")","v":""}]
[{"$f":"IF('Data Input'!A113<>\"\",'Data Input'!A113,\"\")","v":""},{"$f":"IF('Data Input'!B113<>\"\",'Data Input'!B113,\"\")","v":""},{"$f":"IF('Data Input'!C113<>\"\",'Data Input'!C113,\"\")","v":""},{"$f":"IF('Data Input'!D113<>\"\",'Data Input'!D113,\"\")","v":""},{"$f":"IF('Data Input'!E113<>\"\",'Data Input'!E113,\"\")","v":""},{"$f":"IF('Data Input'!F113<>\"\",'Data Input'!F113,\"\")","v":""},{"$f":"IF('Data Input'!A165<>\"\",'Data Input'!A165,\"\")","v":""},{"$f":"IF('Data Input'!B165<>\"\",'Data Input'!B165,\"\")","v":""},{"$f":"IF('Data Input'!C165<>\"\",'Data Input'!C165,\"\")","v":""},{"$f":"IF('Data Input'!D165<>\"\",'Data Input'!D165,\"\")","v":""},{"$f":"IF('Data Input'!E165<>\"\",'Data Input'!E165,\"\")","v":""},{"$f":"IF('Data Input'!F165<>\"\",'Data Input'!F165,\"\")","v":""}]
[{"$f":"IF('Data Input'!A114<>\"\",'Data Input'!A114,\"\")","v":""},{"$f":"IF('Data Input'!B114<>\"\",'Data Input'!B114,\"\")","v":""},{"$f":"IF('Data Input'!C114<>\"\",'Data Input'!C114,\"\")","v":""},{"$f":"IF('Data Input'!D114<>\"\",'Data Input'!D114,\"\")","v":""},{"$f":"IF('Data Input'!E114<>\"\",'Data Input'!E114,\"\")","v":""},{"$f":"IF('Data Input'!F114<>\"\",'Data Input'!F114,\"\")","v":""},{"$f":"IF('Data Input'!A166<>\"\",'Data Input'!A166,\"\")","v":""},{"$f":"IF('Data Input'!B166<>\"\",'Data Input'!B166,\"\")","v":""},{"$f":"IF('Data Input'!C166<>\"\",'Data Input'!C166,\"\")","v":""},{"$f":"IF('Data Input'!D166<>\"\",'Data Input'!D166,\"\")","v":""},{"$f":"IF('Data Input'!E166<>\"\",'Data Input'!E166,\"\")","v":""},{"$f":"IF('Data Input'!F166<>\"\",'Data Input'!F166,\"\")","v":""}]
[{"$f":"IF('Data Input'!A115<>\"\",'Data Input'!A115,\"\")","v":""},{"$f":"IF('Data Input'!B115<>\"\",'Data Input'!B115,\"\")","v":""},{"$f":"IF('Data Input'!C115<>\"\",'Data Input'!C115,\"\")","v":""},{"$f":"IF('Data Input'!D115<>\"\",'Data Input'!D115,\"\")","v":""},{"$f":"IF('Data Input'!E115<>\"\",'Data Input'!E115,\"\")","v":""},{"$f":"IF('Data Input'!F115<>\"\",'Data Input'!F115,\"\")","v":""},{"$f":"IF('Data Input'!A167<>\"\",'Data Input'!A167,\"\")","v":""},{"$f":"IF('Data Input'!B167<>\"\",'Data Input'!B167,\"\")","v":""},{"$f":"IF('Data Input'!C167<>\"\",'Data Input'!C167,\"\")","v":""},{"$f":"IF('Data Input'!D167<>\"\",'Data Input'!D167,\"\")","v":""},{"$f":"IF('Data Input'!E167<>\"\",'Data Input'!E167,\"\")","v":""},{"$f":"IF('Data Input'!F167<>\"\",'Data Input'!F167,\"\")","v":""}]
[{"$f":"IF('Data Input'!A116<>\"\",'Data Input'!A116,\"\")","v":""},{"$f":"IF('Data Input'!B116<>\"\",'Data Input'!B116,\"\")","v":""},{"$f":"IF('Data Input'!C116<>\"\",'Data Input'!C116,\"\")","v":""},{"$f":"IF('Data Input'!D116<>\"\",'Data Input'!D116,\"\")","v":""},{"$f":"IF('Data Input'!E116<>\"\",'Data Input'!E116,\"\")","v":""},{"$f":"IF('Data Input'!F116<>\"\",'Data Input'!F116,\"\")","v":""},{"$f":"IF('Data Input'!A168<>\"\",'Data Input'!A168,\"\")","v":""},{"$f":"IF('Data Input'!B168<>\"\",'Data Input'!B168,\"\")","v":""},{"$f":"IF('Data Input'!C168<>\"\",'Data Input'!C168,\"\")","v":""},{"$f":"IF('Data Input'!D168<>\"\",'Data Input'!D168,\"\")","v":""},{"$f":"IF('Data Input'!E168<>\"\",'Data Input'!E168,\"\")","v":""},{"$f":"IF('Data Input'!F168<>\"\",'Data Input'!F168,\"\")","v":""}]
[{"$f":"IF('Data Input'!A117<>\"\",'Data Input'!A117,\"\")","v":""},{"$f":"IF('Data Input'!B117<>\"\",'Data Input'!B117,\"\")","v":""},{"$f":"IF('Data Input'!C117<>\"\",'Data Input'!C117,\"\")","v":""},{"$f":"IF('Data Input'!D117<>\"\",'Data Input'!D117,\"\")","v":""},{"$f":"IF('Data Input'!E117<>\"\",'Data Input'!E117,\"\")","v":""},{"$f":"IF('Data Input'!F117<>\"\",'Data Input'!F117,\"\")","v":""},{"$f":"IF('Data Input'!A169<>\"\",'Data Input'!A169,\"\")","v":""},{"$f":"IF('Data Input'!B169<>\"\",'Data Input'!B169,\"\")","v":""},{"$f":"IF('Data Input'!C169<>\"\",'Data Input'!C169,\"\")","v":""},{"$f":"IF('Data Input'!D169<>\"\",'Data Input'!D169,\"\")","v":""},{"$f":"IF('Data Input'!E169<>\"\",'Data Input'!E169,\"\")","v":""},{"$f":"IF('Data Input'!F169<>\"\",'Data Input'!F169,\"\")","v":""}]
[{"$f":"IF('Data Input'!A118<>\"\",'Data Input'!A118,\"\")","v":""},{"$f":"IF('Data Input'!B118<>\"\",'Data Input'!B118,\"\")","v":""},{"$f":"IF('Data Input'!C118<>\"\",'Data Input'!C118,\"\")","v":""},{"$f":"IF('Data Input'!D118<>\"\",'Data Input'!D118,\"\")","v":""},{"$f":"IF('Data Input'!E118<>\"\",'Data Input'!E118,\"\")","v":""},{"$f":"IF('Data Input'!F118<>\"\",'Data Input'!F118,\"\")","v":""},{"$f":"IF('Data Input'!A170<>\"\",'Data Input'!A170,\"\")","v":""},{"$f":"IF('Data Input'!B170<>\"\",'Data Input'!B170,\"\")","v":""},{"$f":"IF('Data Input'!C170<>\"\",'Data Input'!C170,\"\")","v":""},{"$f":"IF('Data Input'!D170<>\"\",'Data Input'!D170,\"\")","v":""},{"$f":"IF('Data Input'!E170<>\"\",'Data Input'!E170,\"\")","v":""},{"$f":"IF('Data Input'!F170<>\"\",'Data Input'!F170,\"\")","v":""}]
[{"$f":"IF('Data Input'!A119<>\"\",'Data Input'!A119,\"\")","v":""},{"$f":"IF('Data Input'!B119<>\"\",'Data Input'!B119,\"\")","v":""},{"$f":"IF('Data Input'!C119<>\"\",'Data Input'!C119,\"\")","v":""},{"$f":"IF('Data Input'!D119<>\"\",'Data Input'!D119,\"\")","v":""},{"$f":"IF('Data Input'!E119<>\"\",'Data Input'!E119,\"\")","v":""},{"$f":"IF('Data Input'!F119<>\"\",'Data Input'!F119,\"\")","v":""},{"$f":"IF('Data Input'!A171<>\"\",'Data Input'!A171,\"\")","v":""},{"$f":"IF('Data Input'!B171<>\"\",'Data Input'!B171,\"\")","v":""},{"$f":"IF('Data Input'!C171<>\"\",'Data Input'!C171,\"\")","v":""},{"$f":"IF('Data Input'!D171<>\"\",'Data Input'!D171,\"\")","v":""},{"$f":"IF('Data Input'!E171<>\"\",'Data Input'!E171,\"\")","v":""},{"$f":"IF('Data Input'!F171<>\"\",'Data Input'!F171,\"\")","v":""}]
[{"$f":"IF('Data Input'!A172<>\"\",'Data Input'!A172,\"\")","v":""},{"$f":"IF('Data Input'!B172<>\"\",'Data Input'!B172,\"\")","v":""},{"$f":"IF('Data Input'!C172<>\"\",'Data Input'!C172,\"\")","v":""},{"$f":"IF('Data Input'!D172<>\"\",'Data Input'!D172,\"\")","v":""},{"$f":"IF('Data Input'!E172<>\"\",'Data Input'!E172,\"\")","v":""},{"$f":"IF('Data Input'!F172<>\"\",'Data Input'!F172,\"\")","v":""},{"$f":"IF('Data Input'!A224<>\"\",'Data Input'!A224,\"\")","v":""},{"$f":"IF('Data Input'!B224<>\"\",'Data Input'!B224,\"\")","v":""},{"$f":"IF('Data Input'!C224<>\"\",'Data Input'!C224,\"\")","v":""},{"$f":"IF('Data Input'!D224<>\"\",'Data Input'!D224,\"\")","v":""},{"$f":"IF('Data Input'!E224<>\"\",'Data Input'!E224,\"\")","v":""},{"$f":"IF('Data Input'!F224<>\"\",'Data Input'!F224,\"\")","v":""}]
[{"$f":"IF('Data Input'!A173<>\"\",'Data Input'!A173,\"\")","v":""},{"$f":"IF('Data Input'!B173<>\"\",'Data Input'!B173,\"\")","v":""},{"$f":"IF('Data Input'!C173<>\"\",'Data Input'!C173,\"\")","v":""},{"$f":"IF('Data Input'!D173<>\"\",'Data Input'!D173,\"\")","v":""},{"$f":"IF('Data Input'!E173<>\"\",'Data Input'!E173,\"\")","v":""},{"$f":"IF('Data Input'!F173<>\"\",'Data Input'!F173,\"\")","v":""},{"$f":"IF('Data Input'!A225<>\"\",'Data Input'!A225,\"\")","v":""},{"$f":"IF('Data Input'!B225<>\"\",'Data Input'!B225,\"\")","v":""},{"$f":"IF('Data Input'!C225<>\"\",'Data Input'!C225,\"\")","v":""},{"$f":"IF('Data Input'!D225<>\"\",'Data Input'!D225,\"\")","v":""},{"$f":"IF('Data Input'!E225<>\"\",'Data Input'!E225,\"\")","v":""},{"$f":"IF('Data Input'!F225<>\"\",'Data Input'!F225,\"\")","v":""}]
[{"$f":"IF('Data Input'!A174<>\"\",'Data Input'!A174,\"\")","v":""},{"$f":"IF('Data Input'!B174<>\"\",'Data Input'!B174,\"\")","v":""},{"$f":"IF('Data Input'!C174<>\"\",'Data Input'!C174,\"\")","v":""},{"$f":"IF('Data Input'!D174<>\"\",'Data Input'!D174,\"\")","v":""},{"$f":"IF('Data Input'!E174<>\"\",'Data Input'!E174,\"\")","v":""},{"$f":"IF('Data Input'!F174<>\"\",'Data Input'!F174,\"\")","v":""},{"$f":"IF('Data Input'!A226<>\"\",'Data Input'!A226,\"\")","v":""},{"$f":"IF('Data Input'!B226<>\"\",'Data Input'!B226,\"\")","v":""},{"$f":"IF('Data Input'!C226<>\"\",'Data Input'!C226,\"\")","v":""},{"$f":"IF('Data Input'!D226<>\"\",'Data Input'!D226,\"\")","v":""},{"$f":"IF('Data Input'!E226<>\"\",'Data Input'!E226,\"\")","v":""},{"$f":"IF('Data Input'!F226<>\"\",'Data Input'!F226,\"\")","v":""}]
[{"$f":"IF('Data Input'!A175<>\"\",'Data Input'!A175,\"\")","v":""},{"$f":"IF('Data Input'!B175<>\"\",'Data Input'!B175,\"\")","v":""},{"$f":"IF('Data Input'!C175<>\"\",'Data Input'!C175,\"\")","v":""},{"$f":"IF('Data Input'!D175<>\"\",'Data Input'!D175,\"\")","v":""},{"$f":"IF('Data Input'!E175<>\"\",'Data Input'!E175,\"\")","v":""},{"$f":"IF('Data Input'!F175<>\"\",'Data Input'!F175,\"\")","v":""},{"$f":"IF('Data Input'!A227<>\"\",'Data Input'!A227,\"\")","v":""},{"$f":"IF('Data Input'!B227<>\"\",'Data Input'!B227,\"\")","v":""},{"$f":"IF('Data Input'!C227<>\"\",'Data Input'!C227,\"\")","v":""},{"$f":"IF('Data Input'!D227<>\"\",'Data Input'!D227,\"\")","v":""},{"$f":"IF('Data Input'!E227<>\"\",'Data Input'!E227,\"\")","v":""},{"$f":"IF('Data Input'!F227<>\"\",'Data Input'!F227,\"\")","v":""}]
[{"$f":"IF('Data Input'!A176<>\"\",'Data Input'!A176,\"\")","v":""},{"$f":"IF('Data Input'!B176<>\"\",'Data Input'!B176,\"\")","v":""},{"$f":"IF('Data Input'!C176<>\"\",'Data Input'!C176,\"\")","v":""},{"$f":"IF('Data Input'!D176<>\"\",'Data Input'!D176,\"\")","v":""},{"$f":"IF('Data Input'!E176<>\"\",'Data Input'!E176,\"\")","v":""},{"$f":"IF('Data Input'!F176<>\"\",'Data Input'!F176,\"\")","v":""},{"$f":"IF('Data Input'!A228<>\"\",'Data Input'!A228,\"\")","v":""},{"$f":"IF('Data Input'!B228<>\"\",'Data Input'!B228,\"\")","v":""},{"$f":"IF('Data Input'!C228<>\"\",'Data Input'!C228,\"\")","v":""},{"$f":"IF('Data Input'!D228<>\"\",'Data Input'!D228,\"\")","v":""},{"$f":"IF('Data Input'!E228<>\"\",'Data Input'!E228,\"\")","v":""},{"$f":"IF('Data Input'!F228<>\"\",'Data Input'!F228,\"\")","v":""}]
[{"$f":"IF('Data Input'!A177<>\"\",'Data Input'!A177,\"\")","v":""},{"$f":"IF('Data Input'!B177<>\"\",'Data Input'!B177,\"\")","v":""},{"$f":"IF('Data Input'!C177<>\"\",'Data Input'!C177,\"\")","v":""},{"$f":"IF('Data Input'!D177<>\"\",'Data Input'!D177,\"\")","v":""},{"$f":"IF('Data Input'!E177<>\"\",'Data Input'!E177,\"\")","v":""},{"$f":"IF('Data Input'!F177<>\"\",'Data Input'!F177,\"\")","v":""},{"$f":"IF('Data Input'!A229<>\"\",'Data Input'!A229,\"\")","v":""},{"$f":"IF('Data Input'!B229<>\"\",'Data Input'!B229,\"\")","v":""},{"$f":"IF('Data Input'!C229<>\"\",'Data Input'!C229,\"\")","v":""},{"$f":"IF('Data Input'!D229<>\"\",'Data Input'!D229,\"\")","v":""},{"$f":"IF('Data Input'!E229<>\"\",'Data Input'!E229,\"\")","v":""},{"$f":"IF('Data Input'!F229<>\"\",'Data Input'!F229,\"\")","v":""}]
[{"$f":"IF('Data Input'!A178<>\"\",'Data Input'!A178,\"\")","v":""},{"$f":"IF('Data Input'!B178<>\"\",'Data Input'!B178,\"\")","v":""},{"$f":"IF('Data Input'!C178<>\"\",'Data Input'!C178,\"\")","v":""},{"$f":"IF('Data Input'!D178<>\"\",'Data Input'!D178,\"\")","v":""},{"$f":"IF('Data Input'!E178<>\"\",'Data Input'!E178,\"\")","v":""},{"$f":"IF('Data Input'!F178<>\"\",'Data Input'!F178,\"\")","v":""},{"$f":"IF('Data Input'!A230<>\"\",'Data Input'!A230,\"\")","v":""},{"$f":"IF('Data Input'!B230<>\"\",'Data Input'!B230,\"\")","v":""},{"$f":"IF('Data Input'!C230<>\"\",'Data Input'!C230,\"\")","v":""},{"$f":"IF('Data Input'!D230<>\"\",'Data Input'!D230,\"\")","v":""},{"$f":"IF('Data Input'!E230<>\"\",'Data Input'!E230,\"\")","v":""},{"$f":"IF('Data Input'!F230<>\"\",'Data Input'!F230,\"\")","v":""}]
[{"$f":"IF('Data Input'!A179<>\"\",'Data Input'!A179,\"\")","v":""},{"$f":"IF('Data Input'!B179<>\"\",'Data Input'!B179,\"\")","v":""},{"$f":"IF('Data Input'!C179<>\"\",'Data Input'!C179,\"\")","v":""},{"$f":"IF('Data Input'!D179<>\"\",'Data Input'!D179,\"\")","v":""},{"$f":"IF('Data Input'!E179<>\"\",'Data Input'!E179,\"\")","v":""},{"$f":"IF('Data Input'!F179<>\"\",'Data Input'!F179,\"\")","v":""},{"$f":"IF('Data Input'!A231<>\"\",'Data Input'!A231,\"\")","v":""},{"$f":"IF('Data Input'!B231<>\"\",'Data Input'!B231,\"\")","v":""},{"$f":"IF('Data Input'!C231<>\"\",'Data Input'!C231,\"\")","v":""},{"$f":"IF('Data Input'!D231<>\"\",'Data Input'!D231,\"\")","v":""},{"$f":"IF('Data Input'!E231<>\"\",'Data Input'!E231,\"\")","v":""},{"$f":"IF('Data Input'!F231<>\"\",'Data Input'!F231,\"\")","v":""}]
[{"$f":"IF('Data Input'!A180<>\"\",'Data Input'!A180,\"\")","v":""},{"$f":"IF('Data Input'!B180<>\"\",'Data Input'!B180,\"\")","v":""},{"$f":"IF('Data Input'!C180<>\"\",'Data Input'!C180,\"\")","v":""},{"$f":"IF('Data Input'!D180<>\"\",'Data Input'!D180,\"\")","v":""},{"$f":"IF('Data Input'!E180<>\"\",'Data Input'!E180,\"\")","v":""},{"$f":"IF('Data Input'!F180<>\"\",'Data Input'!F180,\"\")","v":""},{"$f":"IF('Data Input'!A232<>\"\",'Data Input'!A232,\"\")","v":""},{"$f":"IF('Data Input'!B232<>\"\",'Data Input'!B232,\"\")","v":""},{"$f":"IF('Data Input'!C232<>\"\",'Data Input'!C232,\"\")","v":""},{"$f":"IF('Data Input'!D232<>\"\",'Data Input'!D232,\"\")","v":""},{"$f":"IF('Data Input'!E232<>\"\",'Data Input'!E232,\"\")","v":""},{"$f":"IF('Data Input'!F232<>\"\",'Data Input'!F232,\"\")","v":""}]
[{"$f":"IF('Data Input'!A181<>\"\",'Data Input'!A181,\"\")","v":""},{"$f":"IF('Data Input'!B181<>\"\",'Data Input'!B181,\"\")","v":""},{"$f":"IF('Data Input'!C181<>\"\",'Data Input'!C181,\"\")","v":""},{"$f":"IF('Data Input'!D181<>\"\",'Data Input'!D181,\"\")","v":""},{"$f":"IF('Data Input'!E181<>\"\",'Data Input'!E181,\"\")","v":""},{"$f":"IF('Data Input'!F181<>\"\",'Data Input'!F181,\"\")","v":""},{"$f":"IF('Data Input'!A233<>\"\",'Data Input'!A233,\"\")","v":""},{"$f":"IF('Data Input'!B233<>\"\",'Data Input'!B233,\"\")","v":""},{"$f":"IF('Data Input'!C233<>\"\",'Data Input'!C233,\"\")","v":""},{"$f":"IF('Data Input'!D233<>\"\",'Data Input'!D233,\"\")","v":""},{"$f":"IF('Data Input'!E233<>\"\",'Data Input'!E233,\"\")","v":""},{"$f":"IF('Data Input'!F233<>\"\",'Data Input'!F233,\"\")","v":""}]
[{"$f":"IF('Data Input'!A182<>\"\",'Data Input'!A182,\"\")","v":""},{"$f":"IF('Data Input'!B182<>\"\",'Data Input'!B182,\"\")","v":""},{"$f":"IF('Data Input'!C182<>\"\",'Data Input'!C182,\"\")","v":""},{"$f":"IF('Data Input'!D182<>\"\",'Data Input'!D182,\"\")","v":""},{"$f":"IF('Data Input'!E182<>\"\",'Data Input'!E182,\"\")","v":""},{"$f":"IF('Data Input'!F182<>\"\",'Data Input'!F182,\"\")","v":""},{"$f":"IF('Data Input'!A234<>\"\",'Data Input'!A234,\"\")","v":""},{"$f":"IF('Data Input'!B234<>\"\",'Data Input'!B234,\"\")","v":""},{"$f":"IF('Data Input'!C234<>\"\",'Data Input'!C234,\"\")","v":""},{"$f":"IF('Data Input'!D234<>\"\",'Data Input'!D234,\"\")","v":""},{"$f":"IF('Data Input'!E234<>\"\",'Data Input'!E234,\"\")","v":""},{"$f":"IF('Data Input'!F234<>\"\",'Data Input'!F234,\"\")","v":""}]
[{"$f":"IF('Data Input'!A183<>\"\",'Data Input'!A183,\"\")","v":""},{"$f":"IF('Data Input'!B183<>\"\",'Data Input'!B183,\"\")","v":""},{"$f":"IF('Data Input'!C183<>\"\",'Data Input'!C183,\"\")","v":""},{"$f":"IF('Data Input'!D183<>\"\",'Data Input'!D183,\"\")","v":""},{"$f":"IF('Data Input'!E183<>\"\",'Data Input'!E183,\"\")","v":""},{"$f":"IF('Data Input'!F183<>\"\",'Data Input'!F183,\"\")","v":""},{"$f":"IF('Data Input'!A235<>\"\",'Data Input'!A235,\"\")","v":""},{"$f":"IF('Data Input'!B235<>\"\",'Data Input'!B235,\"\")","v":""},{"$f":"IF('Data Input'!C235<>\"\",'Data Input'!C235,\"\")","v":""},{"$f":"IF('Data Input'!D235<>\"\",'Data Input'!D235,\"\")","v":""},{"$f":"IF('Data Input'!E235<>\"\",'Data Input'!E235,\"\")","v":""},{"$f":"IF('Data Input'!F235<>\"\",'Data Input'!F235,\"\")","v":""}]
[{"$f":"IF('Data Input'!A184<>\"\",'Data Input'!A184,\"\")","v":""},{"$f":"IF('Data Input'!B184<>\"\",'Data Input'!B184,\"\")","v":""},{"$f":"IF('Data Input'!C184<>\"\",'Data Input'!C184,\"\")","v":""},{"$f":"IF('Data Input'!D184<>\"\",'Data Input'!D184,\"\")","v":""},{"$f":"IF('Data Input'!E184<>\"\",'Data Input'!E184,\"\")","v":""},{"$f":"IF('Data Input'!F184<>\"\",'Data Input'!F184,\"\")","v":""},{"$f":"IF('Data Input'!A236<>\"\",'Data Input'!A236,\"\")","v":""},{"$f":"IF('Data Input'!B236<>\"\",'Data Input'!B236,\"\")","v":""},{"$f":"IF('Data Input'!C236<>\"\",'Data Input'!C236,\"\")","v":""},{"$f":"IF('Data Input'!D236<>\"\",'Data Input'!D236,\"\")","v":""},{"$f":"IF('Data Input'!E236<>\"\",'Data Input'!E236,\"\")","v":""},{"$f":"IF('Data Input'!F236<>\"\",'Data Input'!F236,\"\")","v":""}]
[{"$f":"IF('Data Input'!A185<>\"\",'Data Input'!A185,\"\")","v":""},{"$f":"IF('Data Input'!B185<>\"\",'Data Input'!B185,\"\")","v":""},{"$f":"IF('Data Input'!C185<>\"\",'Data Input'!C185,\"\")","v":""},{"$f":"IF('Data Input'!D185<>\"\",'Data Input'!D185,\"\")","v":""},{"$f":"IF('Data Input'!E185<>\"\",'Data Input'!E185,\"\")","v":""},{"$f":"IF('Data Input'!F185<>\"\",'Data Input'!F185,\"\")","v":""},{"$f":"IF('Data Input'!A237<>\"\",'Data Input'!A237,\"\")","v":""},{"$f":"IF('Data Input'!B237<>\"\",'Data Input'!B237,\"\")","v":""},{"$f":"IF('Data Input'!C237<>\"\",'Data Input'!C237,\"\")","v":""},{"$f":"IF('Data Input'!D237<>\"\",'Data Input'!D237,\"\")","v":""},{"$f":"IF('Data Input'!E237<>\"\",'Data Input'!E237,\"\")","v":""},{"$f":"IF('Data Input'!F237<>\"\",'Data Input'!F237,\"\")","v":""}]
[{"$f":"IF('Data Input'!A186<>\"\",'Data Input'!A186,\"\")","v":""},{"$f":"IF('Data Input'!B186<>\"\",'Data Input'!B186,\"\")","v":""},{"$f":"IF('Data Input'!C186<>\"\",'Data Input'!C186,\"\")","v":""},{"$f":"IF('Data Input'!D186<>\"\",'Data Input'!D186,\"\")","v":""},{"$f":"IF('Data Input'!E186<>\"\",'Data Input'!E186,\"\")","v":""},{"$f":"IF('Data Input'!F186<>\"\",'Data Input'!F186,\"\")","v":""},{"$f":"IF('Data Input'!A238<>\"\",'Data Input'!A238,\"\")","v":""},{"$f":"IF('Data Input'!B238<>\"\",'Data Input'!B238,\"\")","v":""},{"$f":"IF('Data Input'!C238<>\"\",'Data Input'!C238,\"\")","v":""},{"$f":"IF('Data Input'!D238<>\"\",'Data Input'!D238,\"\")","v":""},{"$f":"IF('Data Input'!E238<>\"\",'Data Input'!E238,\"\")","v":""},{"$f":"IF('Data Input'!F238<>\"\",'Data Input'!F238,\"\")","v":""}]
[{"$f":"IF('Data Input'!A187<>\"\",'Data Input'!A187,\"\")","v":""},{"$f":"IF('Data Input'!B187<>\"\",'Data Input'!B187,\"\")","v":""},{"$f":"IF('Data Input'!C187<>\"\",'Data Input'!C187,\"\")","v":""},{"$f":"IF('Data Input'!D187<>\"\",'Data Input'!D187,\"\")","v":""},{"$f":"IF('Data Input'!E187<>\"\",'Data Input'!E187,\"\")","v":""},{"$f":"IF('Data Input'!F187<>\"\",'Data Input'!F187,\"\")","v":""},{"$f":"IF('Data Input'!A239<>\"\",'Data Input'!A239,\"\")","v":""},{"$f":"IF('Data Input'!B239<>\"\",'Data Input'!B239,\"\")","v":""},{"$f":"IF('Data Input'!C239<>\"\",'Data Input'!C239,\"\")","v":""},{"$f":"IF('Data Input'!D239<>\"\",'Data Input'!D239,\"\")","v":""},{"$f":"IF('Data Input'!E239<>\"\",'Data Input'!E239,\"\")","v":""},{"$f":"IF('Data Input'!F239<>\"\",'Data Input'!F239,\"\")","v":""}]
[{"$f":"IF('Data Input'!A188<>\"\",'Data Input'!A188,\"\")","v":""},{"$f":"IF('Data Input'!B188<>\"\",'Data Input'!B188,\"\")","v":""},{"$f":"IF('Data Input'!C188<>\"\",'Data Input'!C188,\"\")","v":""},{"$f":"IF('Data Input'!D188<>\"\",'Data Input'!D188,\"\")","v":""},{"$f":"IF('Data Input'!E188<>\"\",'Data Input'!E188,\"\")","v":""},{"$f":"IF('Data Input'!F188<>\"\",'Data Input'!F188,\"\")","v":""},{"$f":"IF('Data Input'!A240<>\"\",'Data Input'!A240,\"\")","v":""},{"$f":"IF('Data Input'!B240<>\"\",'Data Input'!B240,\"\")","v":""},{"$f":"IF('Data Input'!C240<>\"\",'Data Input'!C240,\"\")","v":""},{"$f":"IF('Data Input'!D240<>\"\",'Data Input'!D240,\"\")","v":""},{"$f":"IF('Data Input'!E240<>\"\",'Data Input'!E240,\"\")","v":""},{"$f":"IF('Data Input'!F240<>\"\",'Data Input'!F240,\"\")","v":""}]
[{"$f":"IF('Data Input'!A189<>\"\",'Data Input'!A189,\"\")","v":""},{"$f":"IF('Data Input'!B189<>\"\",'Data Input'!B189,\"\")","v":""},{"$f":"IF('Data Input'!C189<>\"\",'Data Input'!C189,\"\")","v":""},{"$f":"IF('Data Input'!D189<>\"\",'Data Input'!D189,\"\")","v":""},{"$f":"IF('Data Input'!E189<>\"\",'Data Input'!E189,\"\")","v":""},{"$f":"IF('Data Input'!F189<>\"\",'Data Input'!F189,\"\")","v":""},{"$f":"IF('Data Input'!A241<>\"\",'Data Input'!A241,\"\")","v":""},{"$f":"IF('Data Input'!B241<>\"\",'Data Input'!B241,\"\")","v":""},{"$f":"IF('Data Input'!C241<>\"\",'Data Input'!C241,\"\")","v":""},{"$f":"IF('Data Input'!D241<>\"\",'Data Input'!D241,\"\")","v":""},{"$f":"IF('Data Input'!E241<>\"\",'Data Input'!E241,\"\")","v":""},{"$f":"IF('Data Input'!F241<>\"\",'Data Input'!F241,\"\")","v":""}]
[{"$f":"IF('Data Input'!A190<>\"\",'Data Input'!A190,\"\")","v":""},{"$f":"IF('Data Input'!B190<>\"\",'Data Input'!B190,\"\")","v":""},{"$f":"IF('Data Input'!C190<>\"\",'Data Input'!C190,\"\")","v":""},{"$f":"IF('Data Input'!D190<>\"\",'Data Input'!D190,\"\")","v":""},{"$f":"IF('Data Input'!E190<>\"\",'Data Input'!E190,\"\")","v":""},{"$f":"IF('Data Input'!F190<>\"\",'Data Input'!F190,\"\")","v":""},{"$f":"IF('Data Input'!A242<>\"\",'Data Input'!A242,\"\")","v":""},{"$f":"IF('Data Input'!B242<>\"\",'Data Input'!B242,\"\")","v":""},{"$f":"IF('Data Input'!C242<>\"\",'Data Input'!C242,\"\")","v":""},{"$f":"IF('Data Input'!D242<>\"\",'Data Input'!D242,\"\")","v":""},{"$f":"IF('Data Input'!E242<>\"\",'Data Input'!E242,\"\")","v":""},{"$f":"IF('Data Input'!F242<>\"\",'Data Input'!F242,\"\")","v":""}]
[{"$f":"IF('Data Input'!A191<>\"\",'Data Input'!A191,\"\")","v":""},{"$f":"IF('Data Input'!B191<>\"\",'Data Input'!B191,\"\")","v":""},{"$f":"IF('Data Input'!C191<>\"\",'Data Input'!C191,\"\")","v":""},{"$f":"IF('Data Input'!D191<>\"\",'Data Input'!D191,\"\")","v":""},{"$f":"IF('Data Input'!E191<>\"\",'Data Input'!E191,\"\")","v":""},{"$f":"IF('Data Input'!F191<>\"\",'Data Input'!F191,\"\")","v":""},{"$f":"IF('Data Input'!A243<>\"\",'Data Input'!A243,\"\")","v":""},{"$f":"IF('Data Input'!B243<>\"\",'Data Input'!B243,\"\")","v":""},{"$f":"IF('Data Input'!C243<>\"\",'Data Input'!C243,\"\")","v":""},{"$f":"IF('Data Input'!D243<>\"\",'Data Input'!D243,\"\")","v":""},{"$f":"IF('Data Input'!E243<>\"\",'Data Input'!E243,\"\")","v":""},{"$f":"IF('Data Input'!F243<>\"\",'Data Input'!F243,\"\")","v":""}]
[{"$f":"IF('Data Input'!A192<>\"\",'Data Input'!A192,\"\")","v":""},{"$f":"IF('Data Input'!B192<>\"\",'Data Input'!B192,\"\")","v":""},{"$f":"IF('Data Input'!C192<>\"\",'Data Input'!C192,\"\")","v":""},{"$f":"IF('Data Input'!D192<>\"\",'Data Input'!D192,\"\")","v":""},{"$f":"IF('Data Input'!E192<>\"\",'Data Input'!E192,\"\")","v":""},{"$f":"IF('Data Input'!F192<>\"\",'Data Input'!F192,\"\")","v":""},{"$f":"IF('Data Input'!A244<>\"\",'Data Input'!A244,\"\")","v":""},{"$f":"IF('Data Input'!B244<>\"\",'Data Input'!B244,\"\")","v":""},{"$f":"IF('Data Input'!C244<>\"\",'Data Input'!C244,\"\")","v":""},{"$f":"IF('Data Input'!D244<>\"\",'Data Input'!D244,\"\")","v":""},{"$f":"IF('Data Input'!E244<>\"\",'Data Input'!E244,\"\")","v":""},{"$f":"IF('Data Input'!F244<>\"\",'Data Input'!F244,\"\")","v":""}]
[{"$f":"IF('Data Input'!A193<>\"\",'Data Input'!A193,\"\")","v":""},{"$f":"IF('Data Input'!B193<>\"\",'Data Input'!B193,\"\")","v":""},{"$f":"IF('Data Input'!C193<>\"\",'Data Input'!C193,\"\")","v":""},{"$f":"IF('Data Input'!D193<>\"\",'Data Input'!D193,\"\")","v":""},{"$f":"IF('Data Input'!E193<>\"\",'Data Input'!E193,\"\")","v":""},{"$f":"IF('Data Input'!F193<>\"\",'Data Input'!F193,\"\")","v":""},{"$f":"IF('Data Input'!A245<>\"\",'Data Input'!A245,\"\")","v":""},{"$f":"IF('Data Input'!B245<>\"\",'Data Input'!B245,\"\")","v":""},{"$f":"IF('Data Input'!C245<>\"\",'Data Input'!C245,\"\")","v":""},{"$f":"IF('Data Input'!D245<>\"\",'Data Input'!D245,\"\")","v":""},{"$f":"IF('Data Input'!E245<>\"\",'Data Input'!E245,\"\")","v":""},{"$f":"IF('Data Input'!F245<>\"\",'Data Input'!F245,\"\")","v":""}]
[{"$f":"IF('Data Input'!A194<>\"\",'Data Input'!A194,\"\")","v":""},{"$f":"IF('Data Input'!B194<>\"\",'Data Input'!B194,\"\")","v":""},{"$f":"IF('Data Input'!C194<>\"\",'Data Input'!C194,\"\")","v":""},{"$f":"IF('Data Input'!D194<>\"\",'Data Input'!D194,\"\")","v":""},{"$f":"IF('Data Input'!E194<>\"\",'Data Input'!E194,\"\")","v":""},{"$f":"IF('Data Input'!F194<>\"\",'Data Input'!F194,\"\")","v":""},{"$f":"IF('Data Input'!A246<>\"\",'Data Input'!A246,\"\")","v":""},{"$f":"IF('Data Input'!B246<>\"\",'Data Input'!B246,\"\")","v":""},{"$f":"IF('Data Input'!C246<>\"\",'Data Input'!C246,\"\")","v":""},{"$f":"IF('Data Input'!D246<>\"\",'Data Input'!D246,\"\")","v":""},{"$f":"IF('Data Input'!E246<>\"\",'Data Input'!E246,\"\")","v":""},{"$f":"IF('Data Input'!F246<>\"\",'Data Input'!F246,\"\")","v":""}]
[{"$f":"IF('Data Input'!A195<>\"\",'Data Input'!A195,\"\")","v":""},{"$f":"IF('Data Input'!B195<>\"\",'Data Input'!B195,\"\")","v":""},{"$f":"IF('Data Input'!C195<>\"\",'Data Input'!C195,\"\")","v":""},{"$f":"IF('Data Input'!D195<>\"\",'Data Input'!D195,\"\")","v":""},{"$f":"IF('Data Input'!E195<>\"\",'Data Input'!E195,\"\")","v":""},{"$f":"IF('Data Input'!F195<>\"\",'Data Input'!F195,\"\")","v":""},{"$f":"IF('Data Input'!A247<>\"\",'Data Input'!A247,\"\")","v":""},{"$f":"IF('Data Input'!B247<>\"\",'Data Input'!B247,\"\")","v":""},{"$f":"IF('Data Input'!C247<>\"\",'Data Input'!C247,\"\")","v":""},{"$f":"IF('Data Input'!D247<>\"\",'Data Input'!D247,\"\")","v":""},{"$f":"IF('Data Input'!E247<>\"\",'Data Input'!E247,\"\")","v":""},{"$f":"IF('Data Input'!F247<>\"\",'Data Input'!F247,\"\")","v":""}]
[{"$f":"IF('Data Input'!A196<>\"\",'Data Input'!A196,\"\")","v":""},{"$f":"IF('Data Input'!B196<>\"\",'Data Input'!B196,\"\")","v":""},{"$f":"IF('Data Input'!C196<>\"\",'Data Input'!C196,\"\")","v":""},{"$f":"IF('Data Input'!D196<>\"\",'Data Input'!D196,\"\")","v":""},{"$f":"IF('Data Input'!E196<>\"\",'Data Input'!E196,\"\")","v":""},{"$f":"IF('Data Input'!F196<>\"\",'Data Input'!F196,\"\")","v":""},{"$f":"IF('Data Input'!A248<>\"\",'Data Input'!A248,\"\")","v":""},{"$f":"IF('Data Input'!B248<>\"\",'Data Input'!B248,\"\")","v":""},{"$f":"IF('Data Input'!C248<>\"\",'Data Input'!C248,\"\")","v":""},{"$f":"IF('Data Input'!D248<>\"\",'Data Input'!D248,\"\")","v":""},{"$f":"IF('Data Input'!E248<>\"\",'Data Input'!E248,\"\")","v":""},{"$f":"IF('Data Input'!F248<>\"\",'Data Input'!F248,\"\")","v":""}]
[{"$f":"IF('Data Input'!A197<>\"\",'Data Input'!A197,\"\")","v":""},{"$f":"IF('Data Input'!B197<>\"\",'Data Input'!B197,\"\")","v":""},{"$f":"IF('Data Input'!C197<>\"\",'Data Input'!C197,\"\")","v":""},{"$f":"IF('Data Input'!D197<>\"\",'Data Input'!D197,\"\")","v":""},{"$f":"IF('Data Input'!E197<>\"\",'Data Input'!E197,\"\")","v":""},{"$f":"IF('Data Input'!F197<>\"\",'Data Input'!F197,\"\")","v":""},{"$f":"IF('Data Input'!A249<>\"\",'Data Input'!A249,\"\")","v":""},{"$f":"IF('Data Input'!B249<>\"\",'Data Input'!B249,\"\")","v":""},{"$f":"IF('Data Input'!C249<>\"\",'Data Input'!C249,\"\")","v":""},{"$f":"IF('Data Input'!D249<>\"\",'Data Input'!D249,\"\")","v":""},{"$f":"IF('Data Input'!E249<>\"\",'Data Input'!E249,\"\")","v":""},{"$f":"IF('Data Input'!F249<>\"\",'Data Input'!F249,\"\")","v":""}]
[{"$f":"IF('Data Input'!A198<>\"\",'Data Input'!A198,\"\")","v":""},{"$f":"IF('Data Input'!B198<>\"\",'Data Input'!B198,\"\")","v":""},{"$f":"IF('Data Input'!C198<>\"\",'Data Input'!C198,\"\")","v":""},{"$f":"IF('Data Input'!D198<>\"\",'Data Input'!D198,\"\")","v":""},{"$f":"IF('Data Input'!E198<>\"\",'Data Input'!E198,\"\")","v":""},{"$f":"IF('Data Input'!F198<>\"\",'Data Input'!F198,\"\")","v":""},{"$f":"IF('Data Input'!A250<>\"\",'Data Input'!A250,\"\")","v":""},{"$f":"IF('Data Input'!B250<>\"\",'Data Input'!B250,\"\")","v":""},{"$f":"IF('Data Input'!C250<>\"\",'Data Input'!C250,\"\")","v":""},{"$f":"IF('Data Input'!D250<>\"\",'Data Input'!D250,\"\")","v":""},{"$f":"IF('Data Input'!E250<>\"\",'Data Input'!E250,\"\")","v":""},{"$f":"IF('Data Input'!F250<>\"\",'Data Input'!F250,\"\")","v":""}]
[{"$f":"IF('Data Input'!A199<>\"\",'Data Input'!A199,\"\")","v":""},{"$f":"IF('Data Input'!B199<>\"\",'Data Input'!B199,\"\")","v":""},{"$f":"IF('Data Input'!C199<>\"\",'Data Input'!C199,\"\")","v":""},{"$f":"IF('Data Input'!D199<>\"\",'Data Input'!D199,\"\")","v":""},{"$f":"IF('Data Input'!E199<>\"\",'Data Input'!E199,\"\")","v":""},{"$f":"IF('Data Input'!F199<>\"\",'Data Input'!F199,\"\")","v":""},{"$f":"IF('Data Input'!A251<>\"\",'Data Input'!A251,\"\")","v":""},{"$f":"IF('Data Input'!B251<>\"\",'Data Input'!B251,\"\")","v":""},{"$f":"IF('Data Input'!C251<>\"\",'Data Input'!C251,\"\")","v":""},{"$f":"IF('Data Input'!D251<>\"\",'Data Input'!D251,\"\")","v":""},{"$f":"IF('Data Input'!E251<>\"\",'Data Input'!E251,\"\")","v":""},{"$f":"IF('Data Input'!F251<>\"\",'Data Input'!F251,\"\")","v":""}]
[{"$f":"IF('Data Input'!A200<>\"\",'Data Input'!A200,\"\")","v":""},{"$f":"IF('Data Input'!B200<>\"\",'Data Input'!B200,\"\")","v":""},{"$f":"IF('Data Input'!C200<>\"\",'Data Input'!C200,\"\")","v":""},{"$f":"IF('Data Input'!D200<>\"\",'Data Input'!D200,\"\")","v":""},{"$f":"IF('Data Input'!E200<>\"\",'Data Input'!E200,\"\")","v":""},{"$f":"IF('Data Input'!F200<>\"\",'Data Input'!F200,\"\")","v":""},{"$f":"IF('Data Input'!A252<>\"\",'Data Input'!A252,\"\")","v":""},{"$f":"IF('Data Input'!B252<>\"\",'Data Input'!B252,\"\")","v":""},{"$f":"IF('Data Input'!C252<>\"\",'Data Input'!C252,\"\")","v":""},{"$f":"IF('Data Input'!D252<>\"\",'Data Input'!D252,\"\")","v":""},{"$f":"IF('Data Input'!E252<>\"\",'Data Input'!E252,\"\")","v":""},{"$f":"IF('Data Input'!F252<>\"\",'Data Input'!F252,\"\")","v":""}]
[{"$f":"IF('Data Input'!A201<>\"\",'Data Input'!A201,\"\")","v":""},{"$f":"IF('Data Input'!B201<>\"\",'Data Input'!B201,\"\")","v":""},{"$f":"IF('Data Input'!C201<>\"\",'Data Input'!C201,\"\")","v":""},{"$f":"IF('Data Input'!D201<>\"\",'Data Input'!D201,\"\")","v":""},{"$f":"IF('Data Input'!E201<>\"\",'Data Input'!E201,\"\")","v":""},{"$f":"IF('Data Input'!F201<>\"\",'Data Input'!F201,\"\")","v":""},{"$f":"IF('Data Input'!A253<>\"\",'Data Input'!A253,\"\")","v":""},{"$f":"IF('Data Input'!B253<>\"\",'Data Input'!B253,\"\")","v":""},{"$f":"IF('Data Input'!C253<>\"\",'Data Input'!C253,\"\")","v":""},{"$f":"IF('Data Input'!D253<>\"\",'Data Input'!D253,\"\")","v":""},{"$f":"IF('Data Input'!E253<>\"\",'Data Input'!E253,\"\")","v":""},{"$f":"IF('Data Input'!F253<>\"\",'Data Input'!F253,\"\")","v":""}]
[{"$f":"IF('Data Input'!A202<>\"\",'Data Input'!A202,\"\")","v":""},{"$f":"IF('Data Input'!B202<>\"\",'Data Input'!B202,\"\")","v":""},{"$f":"IF('Data Input'!C202<>\"\",'Data Input'!C202,\"\")","v":""},{"$f":"IF('Data Input'!D202<>\"\",'Data Input'!D202,\"\")","v":""},{"$f":"IF('Data Input'!E202<>\"\",'Data Input'!E202,\"\")","v":""},{"$f":"IF('Data Input'!F202<>\"\",'Data Input'!F202,\"\")","v":""},{"$f":"IF('Data Input'!A254<>\"\",'Data Input'!A254,\"\")","v":""},{"$f":"IF('Data Input'!B254<>\"\",'Data Input'!B254,\"\")","v":""},{"$f":"IF('Data Input'!C254<>\"\",'Data Input'!C254,\"\")","v":""},{"$f":"IF('Data Input'!D254<>\"\",'Data Input'!D254,\"\")","v":""},{"$f":"IF('Data Input'!E254<>\"\",'Data Input'!E254,\"\")","v":""},{"$f":"IF('Data Input'!F254<>\"\",'Data Input'!F254,\"\")","v":""}]
[{"$f":"IF('Data Input'!A203<>\"\",'Data Input'!A203,\"\")","v":""},{"$f":"IF('Data Input'!B203<>\"\",'Data Input'!B203,\"\")","v":""},{"$f":"IF('Data Input'!C203<>\"\",'Data Input'!C203,\"\")","v":""},{"$f":"IF('Data Input'!D203<>\"\",'Data Input'!D203,\"\")","v":""},{"$f":"IF('Data Input'!E203<>\"\",'Data Input'!E203,\"\")","v":""},{"$f":"IF('Data Input'!F203<>\"\",'Data Input'!F203,\"\")","v":""},{"$f":"IF('Data Input'!A255<>\"\",'Data Input'!A255,\"\")","v":""},{"$f":"IF('Data Input'!B255<>\"\",'Data Input'!B255,\"\")","v":""},{"$f":"IF('Data Input'!C255<>\"\",'Data Input'!C255,\"\")","v":""},{"$f":"IF('Data Input'!D255<>\"\",'Data Input'!D255,\"\")","v":""},{"$f":"IF('Data Input'!E255<>\"\",'Data Input'!E255,\"\")","v":""},{"$f":"IF('Data Input'!F255<>\"\",'Data Input'!F255,\"\")","v":""}]
[{"$f":"IF('Data Input'!A204<>\"\",'Data Input'!A204,\"\")","v":""},{"$f":"IF('Data Input'!B204<>\"\",'Data Input'!B204,\"\")","v":""},{"$f":"IF('Data Input'!C204<>\"\",'Data Input'!C204,\"\")","v":""},{"$f":"IF('Data Input'!D204<>\"\",'Data Input'!D204,\"\")","v":""},{"$f":"IF('Data Input'!E204<>\"\",'Data Input'!E204,\"\")","v":""},{"$f":"IF('Data Input'!F204<>\"\",'Data Input'!F204,\"\")","v":""},{"$f":"IF('Data Input'!A256<>\"\",'Data Input'!A256,\"\")","v":""},{"$f":"IF('Data Input'!B256<>\"\",'Data Input'!B256,\"\")","v":""},{"$f":"IF('Data Input'!C256<>\"\",'Data Input'!C256,\"\")","v":""},{"$f":"IF('Data Input'!D256<>\"\",'Data Input'!D256,\"\")","v":""},{"$f":"IF('Data Input'!E256<>\"\",'Data Input'!E256,\"\")","v":""},{"$f":"IF('Data Input'!F256<>\"\",'Data Input'!F256,\"\")","v":""}]
[{"$f":"IF('Data Input'!A205<>\"\",'Data Input'!A205,\"\")","v":""},{"$f":"IF('Data Input'!B205<>\"\",'Data Input'!B205,\"\")","v":""},{"$f":"IF('Data Input'!C205<>\"\",'Data Input'!C205,\"\")","v":""},{"$f":"IF('Data Input'!D205<>\"\",'Data Input'!D205,\"\")","v":""},{"$f":"IF('Data Input'!E205<>\"\",'Data Input'!E205,\"\")","v":""},{"$f":"IF('Data Input'!F205<>\"\",'Data Input'!F205,\"\")","v":""},{"$f":"IF('Data Input'!A257<>\"\",'Data Input'!A257,\"\")","v":""},{"$f":"IF('Data Input'!B257<>\"\",'Data Input'!B257,\"\")","v":""},{"$f":"IF('Data Input'!C257<>\"\",'Data Input'!C257,\"\")","v":""},{"$f":"IF('Data Input'!D257<>\"\",'Data Input'!D257,\"\")","v":""},{"$f":"IF('Data Input'!E257<>\"\",'Data Input'!E257,\"\")","v":""},{"$f":"IF('Data Input'!F257<>\"\",'Data Input'!F257,\"\")","v":""}]
[{"$f":"IF('Data Input'!A206<>\"\",'Data Input'!A206,\"\")","v":""},{"$f":"IF('Data Input'!B206<>\"\",'Data Input'!B206,\"\")","v":""},{"$f":"IF('Data Input'!C206<>\"\",'Data Input'!C206,\"\")","v":""},{"$f":"IF('Data Input'!D206<>\"\",'Data Input'!D206,\"\")","v":""},{"$f":"IF('Data Input'!E206<>\"\",'Data Input'!E206,\"\")","v":""},{"$f":"IF('Data Input'!F206<>\"\",'Data Input'!F206,\"\")","v":""},{"$f":"IF('Data Input'!A258<>\"\",'Data Input'!A258,\"\")","v":""},{"$f":"IF('Data Input'!B258<>\"\",'Data Input'!B258,\"\")","v":""},{"$f":"IF('Data Input'!C258<>\"\",'Data Input'!C258,\"\")","v":""},{"$f":"IF('Data Input'!D258<>\"\",'Data Input'!D258,\"\")","v":""},{"$f":"IF('Data Input'!E258<>\"\",'Data Input'!E258,\"\")","v":""},{"$f":"IF('Data Input'!F258<>\"\",'Data Input'!F258,\"\")","v":""}]
[{"$f":"IF('Data Input'!A207<>\"\",'Data Input'!A207,\"\")","v":""},{"$f":"IF('Data Input'!B207<>\"\",'Data Input'!B207,\"\")","v":""},{"$f":"IF('Data Input'!C207<>\"\",'Data Input'!C207,\"\")","v":""},{"$f":"IF('Data Input'!D207<>\"\",'Data Input'!D207,\"\")","v":""},{"$f":"IF('Data Input'!E207<>\"\",'Data Input'!E207,\"\")","v":""},{"$f":"IF('Data Input'!F207<>\"\",'Data Input'!F207,\"\")","v":""},{"$f":"IF('Data Input'!A259<>\"\",'Data Input'!A259,\"\")","v":""},{"$f":"IF('Data Input'!B259<>\"\",'Data Input'!B259,\"\")","v":""},{"$f":"IF('Data Input'!C259<>\"\",'Data Input'!C259,\"\")","v":""},{"$f":"IF('Data Input'!D259<>\"\",'Data Input'!D259,\"\")","v":""},{"$f":"IF('Data Input'!E259<>\"\",'Data Input'!E259,\"\")","v":""},{"$f":"IF('Data Input'!F259<>\"\",'Data Input'!F259,\"\")","v":""}]
[{"$f":"IF('Data Input'!A208<>\"\",'Data Input'!A208,\"\")","v":""},{"$f":"IF('Data Input'!B208<>\"\",'Data Input'!B208,\"\")","v":""},{"$f":"IF('Data Input'!C208<>\"\",'Data Input'!C208,\"\")","v":""},{"$f":"IF('Data Input'!D208<>\"\",'Data Input'!D208,\"\")","v":""},{"$f":"IF('Data Input'!E208<>\"\",'Data Input'!E208,\"\")","v":""},{"$f":"IF('Data Input'!F208<>\"\",'Data Input'!F208,\"\")","v":""},{"$f":"IF('Data Input'!A260<>\"\",'Data Input'!A260,\"\")","v":""},{"$f":"IF('Data Input'!B260<>\"\",'Data Input'!B260,\"\")","v":""},{"$f":"IF('Data Input'!C260<>\"\",'Data Input'!C260,\"\")","v":""},{"$f":"IF('Data Input'!D260<>\"\",'Data Input'!D260,\"\")","v":""},{"$f":"IF('Data Input'!E260<>\"\",'Data Input'!E260,\"\")","v":""},{"$f":"IF('Data Input'!F260<>\"\",'Data Input'!F260,\"\")","v":""}]
[{"$f":"IF('Data Input'!A209<>\"\",'Data Input'!A209,\"\")","v":""},{"$f":"IF('Data Input'!B209<>\"\",'Data Input'!B209,\"\")","v":""},{"$f":"IF('Data Input'!C209<>\"\",'Data Input'!C209,\"\")","v":""},{"$f":"IF('Data Input'!D209<>\"\",'Data Input'!D209,\"\")","v":""},{"$f":"IF('Data Input'!E209<>\"\",'Data Input'!E209,\"\")","v":""},{"$f":"IF('Data Input'!F209<>\"\",'Data Input'!F209,\"\")","v":""},{"$f":"IF('Data Input'!A261<>\"\",'Data Input'!A261,\"\")","v":""},{"$f":"IF('Data Input'!B261<>\"\",'Data Input'!B261,\"\")","v":""},{"$f":"IF('Data Input'!C261<>\"\",'Data Input'!C261,\"\")","v":""},{"$f":"IF('Data Input'!D261<>\"\",'Data Input'!D261,\"\")","v":""},{"$f":"IF('Data Input'!E261<>\"\",'Data Input'!E261,\"\")","v":""},{"$f":"IF('Data Input'!F261<>\"\",'Data Input'!F261,\"\")","v":""}]
[{"$f":"IF('Data Input'!A210<>\"\",'Data Input'!A210,\"\")","v":""},{"$f":"IF('Data Input'!B210<>\"\",'Data Input'!B210,\"\")","v":""},{"$f":"IF('Data Input'!C210<>\"\",'Data Input'!C210,\"\")","v":""},{"$f":"IF('Data Input'!D210<>\"\",'Data Input'!D210,\"\")","v":""},{"$f":"IF('Data Input'!E210<>\"\",'Data Input'!E210,\"\")","v":""},{"$f":"IF('Data Input'!F210<>\"\",'Data Input'!F210,\"\")","v":""},{"$f":"IF('Data Input'!A262<>\"\",'Data Input'!A262,\"\")","v":""},{"$f":"IF('Data Input'!B262<>\"\",'Data Input'!B262,\"\")","v":""},{"$f":"IF('Data Input'!C262<>\"\",'Data Input'!C262,\"\")","v":""},{"$f":"IF('Data Input'!D262<>\"\",'Data Input'!D262,\"\")","v":""},{"$f":"IF('Data Input'!E262<>\"\",'Data Input'!E262,\"\")","v":""},{"$f":"IF('Data Input'!F262<>\"\",'Data Input'!F262,\"\")","v":""}]
[{"$f":"IF('Data Input'!A211<>\"\",'Data Input'!A211,\"\")","v":""},{"$f":"IF('Data Input'!B211<>\"\",'Data Input'!B211,\"\")","v":""},{"$f":"IF('Data Input'!C211<>\"\",'Data Input'!C211,\"\")","v":""},{"$f":"IF('Data Input'!D211<>\"\",'Data Input'!D211,\"\")","v":""},{"$f":"IF('Data Input'!E211<>\"\",'Data Input'!E211,\"\")","v":""},{"$f":"IF('Data Input'!F211<>\"\",'Data Input'!F211,\"\")","v":""},{"$f":"IF('Data Input'!A263<>\"\",'Data Input'!A263,\"\")","v":""},{"$f":"IF('Data Input'!B263<>\"\",'Data Input'!B263,\"\")","v":""},{"$f":"IF('Data Input'!C263<>\"\",'Data Input'!C263,\"\")","v":""},{"$f":"IF('Data Input'!D263<>\"\",'Data Input'!D263,\"\")","v":""},{"$f":"IF('Data Input'!E263<>\"\",'Data Input'!E263,\"\")","v":""},{"$f":"IF('Data Input'!F263<>\"\",'Data Input'!F263,\"\")","v":""}]
[{"$f":"IF('Data Input'!A212<>\"\",'Data Input'!A212,\"\")","v":""},{"$f":"IF('Data Input'!B212<>\"\",'Data Input'!B212,\"\")","v":""},{"$f":"IF('Data Input'!C212<>\"\",'Data Input'!C212,\"\")","v":""},{"$f":"IF('Data Input'!D212<>\"\",'Data Input'!D212,\"\")","v":""},{"$f":"IF('Data Input'!E212<>\"\",'Data Input'!E212,\"\")","v":""},{"$f":"IF('Data Input'!F212<>\"\",'Data Input'!F212,\"\")","v":""},{"$f":"IF('Data Input'!A264<>\"\",'Data Input'!A264,\"\")","v":""},{"$f":"IF('Data Input'!B264<>\"\",'Data Input'!B264,\"\")","v":""},{"$f":"IF('Data Input'!C264<>\"\",'Data Input'!C264,\"\")","v":""},{"$f":"IF('Data Input'!D264<>\"\",'Data Input'!D264,\"\")","v":""},{"$f":"IF('Data Input'!E264<>\"\",'Data Input'!E264,\"\")","v":""},{"$f":"IF('Data Input'!F264<>\"\",'Data Input'!F264,\"\")","v":""}]
[{"$f":"IF('Data Input'!A213<>\"\",'Data Input'!A213,\"\")","v":""},{"$f":"IF('Data Input'!B213<>\"\",'Data Input'!B213,\"\")","v":""},{"$f":"IF('Data Input'!C213<>\"\",'Data Input'!C213,\"\")","v":""},{"$f":"IF('Data Input'!D213<>\"\",'Data Input'!D213,\"\")","v":""},{"$f":"IF('Data Input'!E213<>\"\",'Data Input'!E213,\"\")","v":""},{"$f":"IF('Data Input'!F213<>\"\",'Data Input'!F213,\"\")","v":""},{"$f":"IF('Data Input'!A265<>\"\",'Data Input'!A265,\"\")","v":""},{"$f":"IF('Data Input'!B265<>\"\",'Data Input'!B265,\"\")","v":""},{"$f":"IF('Data Input'!C265<>\"\",'Data Input'!C265,\"\")","v":""},{"$f":"IF('Data Input'!D265<>\"\",'Data Input'!D265,\"\")","v":""},{"$f":"IF('Data Input'!E265<>\"\",'Data Input'!E265,\"\")","v":""},{"$f":"IF('Data Input'!F265<>\"\",'Data Input'!F265,\"\")","v":""}]
[{"$f":"IF('Data Input'!A214<>\"\",'Data Input'!A214,\"\")","v":""},{"$f":"IF('Data Input'!B214<>\"\",'Data Input'!B214,\"\")","v":""},{"$f":"IF('Data Input'!C214<>\"\",'Data Input'!C214,\"\")","v":""},{"$f":"IF('Data Input'!D214<>\"\",'Data Input'!D214,\"\")","v":""},{"$f":"IF('Data Input'!E214<>\"\",'Data Input'!E214,\"\")","v":""},{"$f":"IF('Data Input'!F214<>\"\",'Data Input'!F214,\"\")","v":""},{"$f":"IF('Data Input'!A266<>\"\",'Data Input'!A266,\"\")","v":""},{"$f":"IF('Data Input'!B266<>\"\",'Data Input'!B266,\"\")","v":""},{"$f":"IF('Data Input'!C266<>\"\",'Data Input'!C266,\"\")","v":""},{"$f":"IF('Data Input'!D266<>\"\",'Data Input'!D266,\"\")","v":""},{"$f":"IF('Data Input'!E266<>\"\",'Data Input'!E266,\"\")","v":""},{"$f":"IF('Data Input'!F266<>\"\",'Data Input'!F266,\"\")","v":""}]
[{"$f":"IF('Data Input'!A215<>\"\",'Data Input'!A215,\"\")","v":""},{"$f":"IF('Data Input'!B215<>\"\",'Data Input'!B215,\"\")","v":""},{"$f":"IF('Data Input'!C215<>\"\",'Data Input'!C215,\"\")","v":""},{"$f":"IF('Data Input'!D215<>\"\",'Data Input'!D215,\"\")","v":""},{"$f":"IF('Data Input'!E215<>\"\",'Data Input'!E215,\"\")","v":""},{"$f":"IF('Data Input'!F215<>\"\",'Data Input'!F215,\"\")","v":""},{"$f":"IF('Data Input'!A267<>\"\",'Data Input'!A267,\"\")","v":""},{"$f":"IF('Data Input'!B267<>\"\",'Data Input'!B267,\"\")","v":""},{"$f":"IF('Data Input'!C267<>\"\",'Data Input'!C267,\"\")","v":""},{"$f":"IF('Data Input'!D267<>\"\",'Data Input'!D267,\"\")","v":""},{"$f":"IF('Data Input'!E267<>\"\",'Data Input'!E267,\"\")","v":""},{"$f":"IF('Data Input'!F267<>\"\",'Data Input'!F267,\"\")","v":""}]
[{"$f":"IF('Data Input'!A216<>\"\",'Data Input'!A216,\"\")","v":""},{"$f":"IF('Data Input'!B216<>\"\",'Data Input'!B216,\"\")","v":""},{"$f":"IF('Data Input'!C216<>\"\",'Data Input'!C216,\"\")","v":""},{"$f":"IF('Data Input'!D216<>\"\",'Data Input'!D216,\"\")","v":""},{"$f":"IF('Data Input'!E216<>\"\",'Data Input'!E216,\"\")","v":""},{"$f":"IF('Data Input'!F216<>\"\",'Data Input'!F216,\"\")","v":""},{"$f":"IF('Data Input'!A268<>\"\",'Data Input'!A268,\"\")","v":""},{"$f":"IF('Data Input'!B268<>\"\",'Data Input'!B268,\"\")","v":""},{"$f":"IF('Data Input'!C268<>\"\",'Data Input'!C268,\"\")","v":""},{"$f":"IF('Data Input'!D268<>\"\",'Data Input'!D268,\"\")","v":""},{"$f":"IF('Data Input'!E268<>\"\",'Data Input'!E268,\"\")","v":""},{"$f":"IF('Data Input'!F268<>\"\",'Data Input'!F268,\"\")","v":""}]
[{"$f":"IF('Data Input'!A217<>\"\",'Data Input'!A217,\"\")","v":""},{"$f":"IF('Data Input'!B217<>\"\",'Data Input'!B217,\"\")","v":""},{"$f":"IF('Data Input'!C217<>\"\",'Data Input'!C217,\"\")","v":""},{"$f":"IF('Data Input'!D217<>\"\",'Data Input'!D217,\"\")","v":""},{"$f":"IF('Data Input'!E217<>\"\",'Data Input'!E217,\"\")","v":""},{"$f":"IF('Data Input'!F217<>\"\",'Data Input'!F217,\"\")","v":""},{"$f":"IF('Data Input'!A269<>\"\",'Data Input'!A269,\"\")","v":""},{"$f":"IF('Data Input'!B269<>\"\",'Data Input'!B269,\"\")","v":""},{"$f":"IF('Data Input'!C269<>\"\",'Data Input'!C269,\"\")","v":""},{"$f":"IF('Data Input'!D269<>\"\",'Data Input'!D269,\"\")","v":""},{"$f":"IF('Data Input'!E269<>\"\",'Data Input'!E269,\"\")","v":""},{"$f":"IF('Data Input'!F269<>\"\",'Data Input'!F269,\"\")","v":""}]
[{"$f":"IF('Data Input'!A218<>\"\",'Data Input'!A218,\"\")","v":""},{"$f":"IF('Data Input'!B218<>\"\",'Data Input'!B218,\"\")","v":""},{"$f":"IF('Data Input'!C218<>\"\",'Data Input'!C218,\"\")","v":""},{"$f":"IF('Data Input'!D218<>\"\",'Data Input'!D218,\"\")","v":""},{"$f":"IF('Data Input'!E218<>\"\",'Data Input'!E218,\"\")","v":""},{"$f":"IF('Data Input'!F218<>\"\",'Data Input'!F218,\"\")","v":""},{"$f":"IF('Data Input'!A270<>\"\",'Data Input'!A270,\"\")","v":""},{"$f":"IF('Data Input'!B270<>\"\",'Data Input'!B270,\"\")","v":""},{"$f":"IF('Data Input'!C270<>\"\",'Data Input'!C270,\"\")","v":""},{"$f":"IF('Data Input'!D270<>\"\",'Data Input'!D270,\"\")","v":""},{"$f":"IF('Data Input'!E270<>\"\",'Data Input'!E270,\"\")","v":""},{"$f":"IF('Data Input'!F270<>\"\",'Data Input'!F270,\"\")","v":""}]
[{"$f":"IF('Data Input'!A219<>\"\",'Data Input'!A219,\"\")","v":""},{"$f":"IF('Data Input'!B219<>\"\",'Data Input'!B219,\"\")","v":""},{"$f":"IF('Data Input'!C219<>\"\",'Data Input'!C219,\"\")","v":""},{"$f":"IF('Data Input'!D219<>\"\",'Data Input'!D219,\"\")","v":""},{"$f":"IF('Data Input'!E219<>\"\",'Data Input'!E219,\"\")","v":""},{"$f":"IF('Data Input'!F219<>\"\",'Data Input'!F219,\"\")","v":""},{"$f":"IF('Data Input'!A271<>\"\",'Data Input'!A271,\"\")","v":""},{"$f":"IF('Data Input'!B271<>\"\",'Data Input'!B271,\"\")","v":""},{"$f":"IF('Data Input'!C271<>\"\",'Data Input'!C271,\"\")","v":""},{"$f":"IF('Data Input'!D271<>\"\",'Data Input'!D271,\"\")","v":""},{"$f":"IF('Data Input'!E271<>\"\",'Data Input'!E271,\"\")","v":""},{"$f":"IF('Data Input'!F271<>\"\",'Data Input'!F271,\"\")","v":""}]
[{"$f":"IF('Data Input'!A220<>\"\",'Data Input'!A220,\"\")","v":""},{"$f":"IF('Data Input'!B220<>\"\",'Data Input'!B220,\"\")","v":""},{"$f":"IF('Data Input'!C220<>\"\",'Data Input'!C220,\"\")","v":""},{"$f":"IF('Data Input'!D220<>\"\",'Data Input'!D220,\"\")","v":""},{"$f":"IF('Data Input'!E220<>\"\",'Data Input'!E220,\"\")","v":""},{"$f":"IF('Data Input'!F220<>\"\",'Data Input'!F220,\"\")","v":""},{"$f":"IF('Data Input'!A272<>\"\",'Data Input'!A272,\"\")","v":""},{"$f":"IF('Data Input'!B272<>\"\",'Data Input'!B272,\"\")","v":""},{"$f":"IF('Data Input'!C272<>\"\",'Data Input'!C272,\"\")","v":""},{"$f":"IF('Data Input'!D272<>\"\",'Data Input'!D272,\"\")","v":""},{"$f":"IF('Data Input'!E272<>\"\",'Data Input'!E272,\"\")","v":""},{"$f":"IF('Data Input'!F272<>\"\",'Data Input'!F272,\"\")","v":""}]
[{"$f":"IF('Data Input'!A221<>\"\",'Data Input'!A221,\"\")","v":""},{"$f":"IF('Data Input'!B221<>\"\",'Data Input'!B221,\"\")","v":""},{"$f":"IF('Data Input'!C221<>\"\",'Data Input'!C221,\"\")","v":""},{"$f":"IF('Data Input'!D221<>\"\",'Data Input'!D221,\"\")","v":""},{"$f":"IF('Data Input'!E221<>\"\",'Data Input'!E221,\"\")","v":""},{"$f":"IF('Data Input'!F221<>\"\",'Data Input'!F221,\"\")","v":""},{"$f":"IF('Data Input'!A273<>\"\",'Data Input'!A273,\"\")","v":""},{"$f":"IF('Data Input'!B273<>\"\",'Data Input'!B273,\"\")","v":""},{"$f":"IF('Data Input'!C273<>\"\",'Data Input'!C273,\"\")","v":""},{"$f":"IF('Data Input'!D273<>\"\",'Data Input'!D273,\"\")","v":""},{"$f":"IF('Data Input'!E273<>\"\",'Data Input'!E273,\"\")","v":""},{"$f":"IF('Data Input'!F273<>\"\",'Data Input'!F273,\"\")","v":""}]
[{"$f":"IF('Data Input'!A222<>\"\",'Data Input'!A222,\"\")","v":""},{"$f":"IF('Data Input'!B222<>\"\",'Data Input'!B222,\"\")","v":""},{"$f":"IF('Data Input'!C222<>\"\",'Data Input'!C222,\"\")","v":""},{"$f":"IF('Data Input'!D222<>\"\",'Data Input'!D222,\"\")","v":""},{"$f":"IF('Data Input'!E222<>\"\",'Data Input'!E222,\"\")","v":""},{"$f":"IF('Data Input'!F222<>\"\",'Data Input'!F222,\"\")","v":""},{"$f":"IF('Data Input'!A274<>\"\",'Data Input'!A274,\"\")","v":""},{"$f":"IF('Data Input'!B274<>\"\",'Data Input'!B274,\"\")","v":""},{"$f":"IF('Data Input'!C274<>\"\",'Data Input'!C274,\"\")","v":""},{"$f":"IF('Data Input'!D274<>\"\",'Data Input'!D274,\"\")","v":""},{"$f":"IF('Data Input'!E274<>\"\",'Data Input'!E274,\"\")","v":""},{"$f":"IF('Data Input'!F274<>\"\",'Data Input'!F274,\"\")","v":""}]
[{"$f":"IF('Data Input'!A223<>\"\",'Data Input'!A223,\"\")","v":""},{"$f":"IF('Data Input'!B223<>\"\",'Data Input'!B223,\"\")","v":""},{"$f":"IF('Data Input'!C223<>\"\",'Data Input'!C223,\"\")","v":""},{"$f":"IF('Data Input'!D223<>\"\",'Data Input'!D223,\"\")","v":""},{"$f":"IF('Data Input'!E223<>\"\",'Data Input'!E223,\"\")","v":""},{"$f":"IF('Data Input'!F223<>\"\",'Data Input'!F223,\"\")","v":""},{"$f":"IF('Data Input'!A275<>\"\",'Data Input'!A275,\"\")","v":""},{"$f":"IF('Data Input'!B275<>\"\",'Data Input'!B275,\"\")","v":""},{"$f":"IF('Data Input'!C275<>\"\",'Data Input'!C275,\"\")","v":""},{"$f":"IF('Data Input'!D275<>\"\",'Data Input'!D275,\"\")","v":""},{"$f":"IF('Data Input'!E275<>\"\",'Data Input'!E275,\"\")","v":""},{"$f":"IF('Data Input'!F275<>\"\",'Data Input'!F275,\"\")","v":""}]
[{"$f":"IF('Data Input'!A276<>\"\",'Data Input'!A276,\"\")","v":""},{"$f":"IF('Data Input'!B276<>\"\",'Data Input'!B276,\"\")","v":""},{"$f":"IF('Data Input'!C276<>\"\",'Data Input'!C276,\"\")","v":""},{"$f":"IF('Data Input'!D276<>\"\",'Data Input'!D276,\"\")","v":""},{"$f":"IF('Data Input'!E276<>\"\",'Data Input'!E276,\"\")","v":""},{"$f":"IF('Data Input'!F276<>\"\",'Data Input'!F276,\"\")","v":""},{"$f":"IF('Data Input'!A328<>\"\",'Data Input'!A328,\"\")","v":""},{"$f":"IF('Data Input'!B328<>\"\",'Data Input'!B328,\"\")","v":""},{"$f":"IF('Data Input'!C328<>\"\",'Data Input'!C328,\"\")","v":""},{"$f":"IF('Data Input'!D328<>\"\",'Data Input'!D328,\"\")","v":""},{"$f":"IF('Data Input'!E328<>\"\",'Data Input'!E328,\"\")","v":""},{"$f":"IF('Data Input'!F328<>\"\",'Data Input'!F328,\"\")","v":""}]
[{"$f":"IF('Data Input'!A277<>\"\",'Data Input'!A277,\"\")","v":""},{"$f":"IF('Data Input'!B277<>\"\",'Data Input'!B277,\"\")","v":""},{"$f":"IF('Data Input'!C277<>\"\",'Data Input'!C277,\"\")","v":""},{"$f":"IF('Data Input'!D277<>\"\",'Data Input'!D277,\"\")","v":""},{"$f":"IF('Data Input'!E277<>\"\",'Data Input'!E277,\"\")","v":""},{"$f":"IF('Data Input'!F277<>\"\",'Data Input'!F277,\"\")","v":""},{"$f":"IF('Data Input'!A329<>\"\",'Data Input'!A329,\"\")","v":""},{"$f":"IF('Data Input'!B329<>\"\",'Data Input'!B329,\"\")","v":""},{"$f":"IF('Data Input'!C329<>\"\",'Data Input'!C329,\"\")","v":""},{"$f":"IF('Data Input'!D329<>\"\",'Data Input'!D329,\"\")","v":""},{"$f":"IF('Data Input'!E329<>\"\",'Data Input'!E329,\"\")","v":""},{"$f":"IF('Data Input'!F329<>\"\",'Data Input'!F329,\"\")","v":""}]
[{"$f":"IF('Data Input'!A278<>\"\",'Data Input'!A278,\"\")","v":""},{"$f":"IF('Data Input'!B278<>\"\",'Data Input'!B278,\"\")","v":""},{"$f":"IF('Data Input'!C278<>\"\",'Data Input'!C278,\"\")","v":""},{"$f":"IF('Data Input'!D278<>\"\",'Data Input'!D278,\"\")","v":""},{"$f":"IF('Data Input'!E278<>\"\",'Data Input'!E278,\"\")","v":""},{"$f":"IF('Data Input'!F278<>\"\",'Data Input'!F278,\"\")","v":""},{"$f":"IF('Data Input'!A330<>\"\",'Data Input'!A330,\"\")","v":""},{"$f":"IF('Data Input'!B330<>\"\",'Data Input'!B330,\"\")","v":""},{"$f":"IF('Data Input'!C330<>\"\",'Data Input'!C330,\"\")","v":""},{"$f":"IF('Data Input'!D330<>\"\",'Data Input'!D330,\"\")","v":""},{"$f":"IF('Data Input'!E330<>\"\",'Data Input'!E330,\"\")","v":""},{"$f":"IF('Data Input'!F330<>\"\",'Data Input'!F330,\"\")","v":""}]
[{"$f":"IF('Data Input'!A279<>\"\",'Data Input'!A279,\"\")","v":""},{"$f":"IF('Data Input'!B279<>\"\",'Data Input'!B279,\"\")","v":""},{"$f":"IF('Data Input'!C279<>\"\",'Data Input'!C279,\"\")","v":""},{"$f":"IF('Data Input'!D279<>\"\",'Data Input'!D279,\"\")","v":""},{"$f":"IF('Data Input'!E279<>\"\",'Data Input'!E279,\"\")","v":""},{"$f":"IF('Data Input'!F279<>\"\",'Data Input'!F279,\"\")","v":""},{"$f":"IF('Data Input'!A331<>\"\",'Data Input'!A331,\"\")","v":""},{"$f":"IF('Data Input'!B331<>\"\",'Data Input'!B331,\"\")","v":""},{"$f":"IF('Data Input'!C331<>\"\",'Data Input'!C331,\"\")","v":""},{"$f":"IF('Data Input'!D331<>\"\",'Data Input'!D331,\"\")","v":""},{"$f":"IF('Data Input'!E331<>\"\",'Data Input'!E331,\"\")","v":""},{"$f":"IF('Data Input'!F331<>\"\",'Data Input'!F331,\"\")","v":""}]
[{"$f":"IF('Data Input'!A280<>\"\",'Data Input'!A280,\"\")","v":""},{"$f":"IF('Data Input'!B280<>\"\",'Data Input'!B280,\"\")","v":""},{"$f":"IF('Data Input'!C280<>\"\",'Data Input'!C280,\"\")","v":""},{"$f":"IF('Data Input'!D280<>\"\",'Data Input'!D280,\"\")","v":""},{"$f":"IF('Data Input'!E280<>\"\",'Data Input'!E280,\"\")","v":""},{"$f":"IF('Data Input'!F280<>\"\",'Data Input'!F280,\"\")","v":""},{"$f":"IF('Data Input'!A332<>\"\",'Data Input'!A332,\"\")","v":""},{"$f":"IF('Data Input'!B332<>\"\",'Data Input'!B332,\"\")","v":""},{"$f":"IF('Data Input'!C332<>\"\",'Data Input'!C332,\"\")","v":""},{"$f":"IF('Data Input'!D332<>\"\",'Data Input'!D332,\"\")","v":""},{"$f":"IF('Data Input'!E332<>\"\",'Data Input'!E332,\"\")","v":""},{"$f":"IF('Data Input'!F332<>\"\",'Data Input'!F332,\"\")","v":""}]
[{"$f":"IF('Data Input'!A281<>\"\",'Data Input'!A281,\"\")","v":""},{"$f":"IF('Data Input'!B281<>\"\",'Data Input'!B281,\"\")","v":""},{"$f":"IF('Data Input'!C281<>\"\",'Data Input'!C281,\"\")","v":""},{"$f":"IF('Data Input'!D281<>\"\",'Data Input'!D281,\"\")","v":""},{"$f":"IF('Data Input'!E281<>\"\",'Data Input'!E281,\"\")","v":""},{"$f":"IF('Data Input'!F281<>\"\",'Data Input'!F281,\"\")","v":""},{"$f":"IF('Data Input'!A333<>\"\",'Data Input'!A333,\"\")","v":""},{"$f":"IF('Data Input'!B333<>\"\",'Data Input'!B333,\"\")","v":""},{"$f":"IF('Data Input'!C333<>\"\",'Data Input'!C333,\"\")","v":""},{"$f":"IF('Data Input'!D333<>\"\",'Data Input'!D333,\"\")","v":""},{"$f":"IF('Data Input'!E333<>\"\",'Data Input'!E333,\"\")","v":""},{"$f":"IF('Data Input'!F333<>\"\",'Data Input'!F333,\"\")","v":""}]
[{"$f":"IF('Data Input'!A282<>\"\",'Data Input'!A282,\"\")","v":""},{"$f":"IF('Data Input'!B282<>\"\",'Data Input'!B282,\"\")","v":""},{"$f":"IF('Data Input'!C282<>\"\",'Data Input'!C282,\"\")","v":""},{"$f":"IF('Data Input'!D282<>\"\",'Data Input'!D282,\"\")","v":""},{"$f":"IF('Data Input'!E282<>\"\",'Data Input'!E282,\"\")","v":""},{"$f":"IF('Data Input'!F282<>\"\",'Data Input'!F282,\"\")","v":""},{"$f":"IF('Data Input'!A334<>\"\",'Data Input'!A334,\"\")","v":""},{"$f":"IF('Data Input'!B334<>\"\",'Data Input'!B334,\"\")","v":""},{"$f":"IF('Data Input'!C334<>\"\",'Data Input'!C334,\"\")","v":""},{"$f":"IF('Data Input'!D334<>\"\",'Data Input'!D334,\"\")","v":""},{"$f":"IF('Data Input'!E334<>\"\",'Data Input'!E334,\"\")","v":""},{"$f":"IF('Data Input'!F334<>\"\",'Data Input'!F334,\"\")","v":""}]
[{"$f":"IF('Data Input'!A283<>\"\",'Data Input'!A283,\"\")","v":""},{"$f":"IF('Data Input'!B283<>\"\",'Data Input'!B283,\"\")","v":""},{"$f":"IF('Data Input'!C283<>\"\",'Data Input'!C283,\"\")","v":""},{"$f":"IF('Data Input'!D283<>\"\",'Data Input'!D283,\"\")","v":""},{"$f":"IF('Data Input'!E283<>\"\",'Data Input'!E283,\"\")","v":""},{"$f":"IF('Data Input'!F283<>\"\",'Data Input'!F283,\"\")","v":""},{"$f":"IF('Data Input'!A335<>\"\",'Data Input'!A335,\"\")","v":""},{"$f":"IF('Data Input'!B335<>\"\",'Data Input'!B335,\"\")","v":""},{"$f":"IF('Data Input'!C335<>\"\",'Data Input'!C335,\"\")","v":""},{"$f":"IF('Data Input'!D335<>\"\",'Data Input'!D335,\"\")","v":""},{"$f":"IF('Data Input'!E335<>\"\",'Data Input'!E335,\"\")","v":""},{"$f":"IF('Data Input'!F335<>\"\",'Data Input'!F335,\"\")","v":""}]
[{"$f":"IF('Data Input'!A284<>\"\",'Data Input'!A284,\"\")","v":""},{"$f":"IF('Data Input'!B284<>\"\",'Data Input'!B284,\"\")","v":""},{"$f":"IF('Data Input'!C284<>\"\",'Data Input'!C284,\"\")","v":""},{"$f":"IF('Data Input'!D284<>\"\",'Data Input'!D284,\"\")","v":""},{"$f":"IF('Data Input'!E284<>\"\",'Data Input'!E284,\"\")","v":""},{"$f":"IF('Data Input'!F284<>\"\",'Data Input'!F284,\"\")","v":""},{"$f":"IF('Data Input'!A336<>\"\",'Data Input'!A336,\"\")","v":""},{"$f":"IF('Data Input'!B336<>\"\",'Data Input'!B336,\"\")","v":""},{"$f":"IF('Data Input'!C336<>\"\",'Data Input'!C336,\"\")","v":""},{"$f":"IF('Data Input'!D336<>\"\",'Data Input'!D336,\"\")","v":""},{"$f":"IF('Data Input'!E336<>\"\",'Data Input'!E336,\"\")","v":""},{"$f":"IF('Data Input'!F336<>\"\",'Data Input'!F336,\"\")","v":""}]
[{"$f":"IF('Data Input'!A285<>\"\",'Data Input'!A285,\"\")","v":""},{"$f":"IF('Data Input'!B285<>\"\",'Data Input'!B285,\"\")","v":""},{"$f":"IF('Data Input'!C285<>\"\",'Data Input'!C285,\"\")","v":""},{"$f":"IF('Data Input'!D285<>\"\",'Data Input'!D285,\"\")","v":""},{"$f":"IF('Data Input'!E285<>\"\",'Data Input'!E285,\"\")","v":""},{"$f":"IF('Data Input'!F285<>\"\",'Data Input'!F285,\"\")","v":""},{"$f":"IF('Data Input'!A337<>\"\",'Data Input'!A337,\"\")","v":""},{"$f":"IF('Data Input'!B337<>\"\",'Data Input'!B337,\"\")","v":""},{"$f":"IF('Data Input'!C337<>\"\",'Data Input'!C337,\"\")","v":""},{"$f":"IF('Data Input'!D337<>\"\",'Data Input'!D337,\"\")","v":""},{"$f":"IF('Data Input'!E337<>\"\",'Data Input'!E337,\"\")","v":""},{"$f":"IF('Data Input'!F337<>\"\",'Data Input'!F337,\"\")","v":""}]
[{"$f":"IF('Data Input'!A286<>\"\",'Data Input'!A286,\"\")","v":""},{"$f":"IF('Data Input'!B286<>\"\",'Data Input'!B286,\"\")","v":""},{"$f":"IF('Data Input'!C286<>\"\",'Data Input'!C286,\"\")","v":""},{"$f":"IF('Data Input'!D286<>\"\",'Data Input'!D286,\"\")","v":""},{"$f":"IF('Data Input'!E286<>\"\",'Data Input'!E286,\"\")","v":""},{"$f":"IF('Data Input'!F286<>\"\",'Data Input'!F286,\"\")","v":""},{"$f":"IF('Data Input'!A338<>\"\",'Data Input'!A338,\"\")","v":""},{"$f":"IF('Data Input'!B338<>\"\",'Data Input'!B338,\"\")","v":""},{"$f":"IF('Data Input'!C338<>\"\",'Data Input'!C338,\"\")","v":""},{"$f":"IF('Data Input'!D338<>\"\",'Data Input'!D338,\"\")","v":""},{"$f":"IF('Data Input'!E338<>\"\",'Data Input'!E338,\"\")","v":""},{"$f":"IF('Data Input'!F338<>\"\",'Data Input'!F338,\"\")","v":""}]
[{"$f":"IF('Data Input'!A287<>\"\",'Data Input'!A287,\"\")","v":""},{"$f":"IF('Data Input'!B287<>\"\",'Data Input'!B287,\"\")","v":""},{"$f":"IF('Data Input'!C287<>\"\",'Data Input'!C287,\"\")","v":""},{"$f":"IF('Data Input'!D287<>\"\",'Data Input'!D287,\"\")","v":""},{"$f":"IF('Data Input'!E287<>\"\",'Data Input'!E287,\"\")","v":""},{"$f":"IF('Data Input'!F287<>\"\",'Data Input'!F287,\"\")","v":""},{"$f":"IF('Data Input'!A339<>\"\",'Data Input'!A339,\"\")","v":""},{"$f":"IF('Data Input'!B339<>\"\",'Data Input'!B339,\"\")","v":""},{"$f":"IF('Data Input'!C339<>\"\",'Data Input'!C339,\"\")","v":""},{"$f":"IF('Data Input'!D339<>\"\",'Data Input'!D339,\"\")","v":""},{"$f":"IF('Data Input'!E339<>\"\",'Data Input'!E339,\"\")","v":""},{"$f":"IF('Data Input'!F339<>\"\",'Data Input'!F339,\"\")","v":""}]
[{"$f":"IF('Data Input'!A288<>\"\",'Data Input'!A288,\"\")","v":""},{"$f":"IF('Data Input'!B288<>\"\",'Data Input'!B288,\"\")","v":""},{"$f":"IF('Data Input'!C288<>\"\",'Data Input'!C288,\"\")","v":""},{"$f":"IF('Data Input'!D288<>\"\",'Data Input'!D288,\"\")","v":""},{"$f":"IF('Data Input'!E288<>\"\",'Data Input'!E288,\"\")","v":""},{"$f":"IF('Data Input'!F288<>\"\",'Data Input'!F288,\"\")","v":""},{"$f":"IF('Data Input'!A340<>\"\",'Data Input'!A340,\"\")","v":""},{"$f":"IF('Data Input'!B340<>\"\",'Data Input'!B340,\"\")","v":""},{"$f":"IF('Data Input'!C340<>\"\",'Data Input'!C340,\"\")","v":""},{"$f":"IF('Data Input'!D340<>\"\",'Data Input'!D340,\"\")","v":""},{"$f":"IF('Data Input'!E340<>\"\",'Data Input'!E340,\"\")","v":""},{"$f":"IF('Data Input'!F340<>\"\",'Data Input'!F340,\"\")","v":""}]
[{"$f":"IF('Data Input'!A289<>\"\",'Data Input'!A289,\"\")","v":""},{"$f":"IF('Data Input'!B289<>\"\",'Data Input'!B289,\"\")","v":""},{"$f":"IF('Data Input'!C289<>\"\",'Data Input'!C289,\"\")","v":""},{"$f":"IF('Data Input'!D289<>\"\",'Data Input'!D289,\"\")","v":""},{"$f":"IF('Data Input'!E289<>\"\",'Data Input'!E289,\"\")","v":""},{"$f":"IF('Data Input'!F289<>\"\",'Data Input'!F289,\"\")","v":""},{"$f":"IF('Data Input'!A341<>\"\",'Data Input'!A341,\"\")","v":""},{"$f":"IF('Data Input'!B341<>\"\",'Data Input'!B341,\"\")","v":""},{"$f":"IF('Data Input'!C341<>\"\",'Data Input'!C341,\"\")","v":""},{"$f":"IF('Data Input'!D341<>\"\",'Data Input'!D341,\"\")","v":""},{"$f":"IF('Data Input'!E341<>\"\",'Data Input'!E341,\"\")","v":""},{"$f":"IF('Data Input'!F341<>\"\",'Data Input'!F341,\"\")","v":""}]
[{"$f":"IF('Data Input'!A290<>\"\",'Data Input'!A290,\"\")","v":""},{"$f":"IF('Data Input'!B290<>\"\",'Data Input'!B290,\"\")","v":""},{"$f":"IF('Data Input'!C290<>\"\",'Data Input'!C290,\"\")","v":""},{"$f":"IF('Data Input'!D290<>\"\",'Data Input'!D290,\"\")","v":""},{"$f":"IF('Data Input'!E290<>\"\",'Data Input'!E290,\"\")","v":""},{"$f":"IF('Data Input'!F290<>\"\",'Data Input'!F290,\"\")","v":""},{"$f":"IF('Data Input'!A342<>\"\",'Data Input'!A342,\"\")","v":""},{"$f":"IF('Data Input'!B342<>\"\",'Data Input'!B342,\"\")","v":""},{"$f":"IF('Data Input'!C342<>\"\",'Data Input'!C342,\"\")","v":""},{"$f":"IF('Data Input'!D342<>\"\",'Data Input'!D342,\"\")","v":""},{"$f":"IF('Data Input'!E342<>\"\",'Data Input'!E342,\"\")","v":""},{"$f":"IF('Data Input'!F342<>\"\",'Data Input'!F342,\"\")","v":""}]
[{"$f":"IF('Data Input'!A291<>\"\",'Data Input'!A291,\"\")","v":""},{"$f":"IF('Data Input'!B291<>\"\",'Data Input'!B291,\"\")","v":""},{"$f":"IF('Data Input'!C291<>\"\",'Data Input'!C291,\"\")","v":""},{"$f":"IF('Data Input'!D291<>\"\",'Data Input'!D291,\"\")","v":""},{"$f":"IF('Data Input'!E291<>\"\",'Data Input'!E291,\"\")","v":""},{"$f":"IF('Data Input'!F291<>\"\",'Data Input'!F291,\"\")","v":""},{"$f":"IF('Data Input'!A343<>\"\",'Data Input'!A343,\"\")","v":""},{"$f":"IF('Data Input'!B343<>\"\",'Data Input'!B343,\"\")","v":""},{"$f":"IF('Data Input'!C343<>\"\",'Data Input'!C343,\"\")","v":""},{"$f":"IF('Data Input'!D343<>\"\",'Data Input'!D343,\"\")","v":""},{"$f":"IF('Data Input'!E343<>\"\",'Data Input'!E343,\"\")","v":""},{"$f":"IF('Data Input'!F343<>\"\",'Data Input'!F343,\"\")","v":""}]
[{"$f":"IF('Data Input'!A292<>\"\",'Data Input'!A292,\"\")","v":""},{"$f":"IF('Data Input'!B292<>\"\",'Data Input'!B292,\"\")","v":""},{"$f":"IF('Data Input'!C292<>\"\",'Data Input'!C292,\"\")","v":""},{"$f":"IF('Data Input'!D292<>\"\",'Data Input'!D292,\"\")","v":""},{"$f":"IF('Data Input'!E292<>\"\",'Data Input'!E292,\"\")","v":""},{"$f":"IF('Data Input'!F292<>\"\",'Data Input'!F292,\"\")","v":""},{"$f":"IF('Data Input'!A344<>\"\",'Data Input'!A344,\"\")","v":""},{"$f":"IF('Data Input'!B344<>\"\",'Data Input'!B344,\"\")","v":""},{"$f":"IF('Data Input'!C344<>\"\",'Data Input'!C344,\"\")","v":""},{"$f":"IF('Data Input'!D344<>\"\",'Data Input'!D344,\"\")","v":""},{"$f":"IF('Data Input'!E344<>\"\",'Data Input'!E344,\"\")","v":""},{"$f":"IF('Data Input'!F344<>\"\",'Data Input'!F344,\"\")","v":""}]
[{"$f":"IF('Data Input'!A293<>\"\",'Data Input'!A293,\"\")","v":""},{"$f":"IF('Data Input'!B293<>\"\",'Data Input'!B293,\"\")","v":""},{"$f":"IF('Data Input'!C293<>\"\",'Data Input'!C293,\"\")","v":""},{"$f":"IF('Data Input'!D293<>\"\",'Data Input'!D293,\"\")","v":""},{"$f":"IF('Data Input'!E293<>\"\",'Data Input'!E293,\"\")","v":""},{"$f":"IF('Data Input'!F293<>\"\",'Data Input'!F293,\"\")","v":""},{"$f":"IF('Data Input'!A345<>\"\",'Data Input'!A345,\"\")","v":""},{"$f":"IF('Data Input'!B345<>\"\",'Data Input'!B345,\"\")","v":""},{"$f":"IF('Data Input'!C345<>\"\",'Data Input'!C345,\"\")","v":""},{"$f":"IF('Data Input'!D345<>\"\",'Data Input'!D345,\"\")","v":""},{"$f":"IF('Data Input'!E345<>\"\",'Data Input'!E345,\"\")","v":""},{"$f":"IF('Data Input'!F345<>\"\",'Data Input'!F345,\"\")","v":""}]
[{"$f":"IF('Data Input'!A294<>\"\",'Data Input'!A294,\"\")","v":""},{"$f":"IF('Data Input'!B294<>\"\",'Data Input'!B294,\"\")","v":""},{"$f":"IF('Data Input'!C294<>\"\",'Data Input'!C294,\"\")","v":""},{"$f":"IF('Data Input'!D294<>\"\",'Data Input'!D294,\"\")","v":""},{"$f":"IF('Data Input'!E294<>\"\",'Data Input'!E294,\"\")","v":""},{"$f":"IF('Data Input'!F294<>\"\",'Data Input'!F294,\"\")","v":""},{"$f":"IF('Data Input'!A346<>\"\",'Data Input'!A346,\"\")","v":""},{"$f":"IF('Data Input'!B346<>\"\",'Data Input'!B346,\"\")","v":""},{"$f":"IF('Data Input'!C346<>\"\",'Data Input'!C346,\"\")","v":""},{"$f":"IF('Data Input'!D346<>\"\",'Data Input'!D346,\"\")","v":""},{"$f":"IF('Data Input'!E346<>\"\",'Data Input'!E346,\"\")","v":""},{"$f":"IF('Data Input'!F346<>\"\",'Data Input'!F346,\"\")","v":""}]
[{"$f":"IF('Data Input'!A295<>\"\",'Data Input'!A295,\"\")","v":""},{"$f":"IF('Data Input'!B295<>\"\",'Data Input'!B295,\"\")","v":""},{"$f":"IF('Data Input'!C295<>\"\",'Data Input'!C295,\"\")","v":""},{"$f":"IF('Data Input'!D295<>\"\",'Data Input'!D295,\"\")","v":""},{"$f":"IF('Data Input'!E295<>\"\",'Data Input'!E295,\"\")","v":""},{"$f":"IF('Data Input'!F295<>\"\",'Data Input'!F295,\"\")","v":""},{"$f":"IF('Data Input'!A347<>\"\",'Data Input'!A347,\"\")","v":""},{"$f":"IF('Data Input'!B347<>\"\",'Data Input'!B347,\"\")","v":""},{"$f":"IF('Data Input'!C347<>\"\",'Data Input'!C347,\"\")","v":""},{"$f":"IF('Data Input'!D347<>\"\",'Data Input'!D347,\"\")","v":""},{"$f":"IF('Data Input'!E347<>\"\",'Data Input'!E347,\"\")","v":""},{"$f":"IF('Data Input'!F347<>\"\",'Data Input'!F347,\"\")","v":""}]
[{"$f":"IF('Data Input'!A296<>\"\",'Data Input'!A296,\"\")","v":""},{"$f":"IF('Data Input'!B296<>\"\",'Data Input'!B296,\"\")","v":""},{"$f":"IF('Data Input'!C296<>\"\",'Data Input'!C296,\"\")","v":""},{"$f":"IF('Data Input'!D296<>\"\",'Data Input'!D296,\"\")","v":""},{"$f":"IF('Data Input'!E296<>\"\",'Data Input'!E296,\"\")","v":""},{"$f":"IF('Data Input'!F296<>\"\",'Data Input'!F296,\"\")","v":""},{"$f":"IF('Data Input'!A348<>\"\",'Data Input'!A348,\"\")","v":""},{"$f":"IF('Data Input'!B348<>\"\",'Data Input'!B348,\"\")","v":""},{"$f":"IF('Data Input'!C348<>\"\",'Data Input'!C348,\"\")","v":""},{"$f":"IF('Data Input'!D348<>\"\",'Data Input'!D348,\"\")","v":""},{"$f":"IF('Data Input'!E348<>\"\",'Data Input'!E348,\"\")","v":""},{"$f":"IF('Data Input'!F348<>\"\",'Data Input'!F348,\"\")","v":""}]
[{"$f":"IF('Data Input'!A297<>\"\",'Data Input'!A297,\"\")","v":""},{"$f":"IF('Data Input'!B297<>\"\",'Data Input'!B297,\"\")","v":""},{"$f":"IF('Data Input'!C297<>\"\",'Data Input'!C297,\"\")","v":""},{"$f":"IF('Data Input'!D297<>\"\",'Data Input'!D297,\"\")","v":""},{"$f":"IF('Data Input'!E297<>\"\",'Data Input'!E297,\"\")","v":""},{"$f":"IF('Data Input'!F297<>\"\",'Data Input'!F297,\"\")","v":""},{"$f":"IF('Data Input'!A349<>\"\",'Data Input'!A349,\"\")","v":""},{"$f":"IF('Data Input'!B349<>\"\",'Data Input'!B349,\"\")","v":""},{"$f":"IF('Data Input'!C349<>\"\",'Data Input'!C349,\"\")","v":""},{"$f":"IF('Data Input'!D349<>\"\",'Data Input'!D349,\"\")","v":""},{"$f":"IF('Data Input'!E349<>\"\",'Data Input'!E349,\"\")","v":""},{"$f":"IF('Data Input'!F349<>\"\",'Data Input'!F349,\"\")","v":""}]
[{"$f":"IF('Data Input'!A298<>\"\",'Data Input'!A298,\"\")","v":""},{"$f":"IF('Data Input'!B298<>\"\",'Data Input'!B298,\"\")","v":""},{"$f":"IF('Data Input'!C298<>\"\",'Data Input'!C298,\"\")","v":""},{"$f":"IF('Data Input'!D298<>\"\",'Data Input'!D298,\"\")","v":""},{"$f":"IF('Data Input'!E298<>\"\",'Data Input'!E298,\"\")","v":""},{"$f":"IF('Data Input'!F298<>\"\",'Data Input'!F298,\"\")","v":""},{"$f":"IF('Data Input'!A350<>\"\",'Data Input'!A350,\"\")","v":""},{"$f":"IF('Data Input'!B350<>\"\",'Data Input'!B350,\"\")","v":""},{"$f":"IF('Data Input'!C350<>\"\",'Data Input'!C350,\"\")","v":""},{"$f":"IF('Data Input'!D350<>\"\",'Data Input'!D350,\"\")","v":""},{"$f":"IF('Data Input'!E350<>\"\",'Data Input'!E350,\"\")","v":""},{"$f":"IF('Data Input'!F350<>\"\",'Data Input'!F350,\"\")","v":""}]
[{"$f":"IF('Data Input'!A299<>\"\",'Data Input'!A299,\"\")","v":""},{"$f":"IF('Data Input'!B299<>\"\",'Data Input'!B299,\"\")","v":""},{"$f":"IF('Data Input'!C299<>\"\",'Data Input'!C299,\"\")","v":""},{"$f":"IF('Data Input'!D299<>\"\",'Data Input'!D299,\"\")","v":""},{"$f":"IF('Data Input'!E299<>\"\",'Data Input'!E299,\"\")","v":""},{"$f":"IF('Data Input'!F299<>\"\",'Data Input'!F299,\"\")","v":""},{"$f":"IF('Data Input'!A351<>\"\",'Data Input'!A351,\"\")","v":""},{"$f":"IF('Data Input'!B351<>\"\",'Data Input'!B351,\"\")","v":""},{"$f":"IF('Data Input'!C351<>\"\",'Data Input'!C351,\"\")","v":""},{"$f":"IF('Data Input'!D351<>\"\",'Data Input'!D351,\"\")","v":""},{"$f":"IF('Data Input'!E351<>\"\",'Data Input'!E351,\"\")","v":""},{"$f":"IF('Data Input'!F351<>\"\",'Data Input'!F351,\"\")","v":""}]
[{"$f":"IF('Data Input'!A300<>\"\",'Data Input'!A300,\"\")","v":""},{"$f":"IF('Data Input'!B300<>\"\",'Data Input'!B300,\"\")","v":""},{"$f":"IF('Data Input'!C300<>\"\",'Data Input'!C300,\"\")","v":""},{"$f":"IF('Data Input'!D300<>\"\",'Data Input'!D300,\"\")","v":""},{"$f":"IF('Data Input'!E300<>\"\",'Data Input'!E300,\"\")","v":""},{"$f":"IF('Data Input'!F300<>\"\",'Data Input'!F300,\"\")","v":""},{"$f":"IF('Data Input'!A352<>\"\",'Data Input'!A352,\"\")","v":""},{"$f":"IF('Data Input'!B352<>\"\",'Data Input'!B352,\"\")","v":""},{"$f":"IF('Data Input'!C352<>\"\",'Data Input'!C352,\"\")","v":""},{"$f":"IF('Data Input'!D352<>\"\",'Data Input'!D352,\"\")","v":""},{"$f":"IF('Data Input'!E352<>\"\",'Data Input'!E352,\"\")","v":""},{"$f":"IF('Data Input'!F352<>\"\",'Data Input'!F352,\"\")","v":""}]
[{"$f":"IF('Data Input'!A301<>\"\",'Data Input'!A301,\"\")","v":""},{"$f":"IF('Data Input'!B301<>\"\",'Data Input'!B301,\"\")","v":""},{"$f":"IF('Data Input'!C301<>\"\",'Data Input'!C301,\"\")","v":""},{"$f":"IF('Data Input'!D301<>\"\",'Data Input'!D301,\"\")","v":""},{"$f":"IF('Data Input'!E301<>\"\",'Data Input'!E301,\"\")","v":""},{"$f":"IF('Data Input'!F301<>\"\",'Data Input'!F301,\"\")","v":""},{"$f":"IF('Data Input'!A353<>\"\",'Data Input'!A353,\"\")","v":""},{"$f":"IF('Data Input'!B353<>\"\",'Data Input'!B353,\"\")","v":""},{"$f":"IF('Data Input'!C353<>\"\",'Data Input'!C353,\"\")","v":""},{"$f":"IF('Data Input'!D353<>\"\",'Data Input'!D353,\"\")","v":""},{"$f":"IF('Data Input'!E353<>\"\",'Data Input'!E353,\"\")","v":""},{"$f":"IF('Data Input'!F353<>\"\",'Data Input'!F353,\"\")","v":""}]
[{"$f":"IF('Data Input'!A302<>\"\",'Data Input'!A302,\"\")","v":""},{"$f":"IF('Data Input'!B302<>\"\",'Data Input'!B302,\"\")","v":""},{"$f":"IF('Data Input'!C302<>\"\",'Data Input'!C302,\"\")","v":""},{"$f":"IF('Data Input'!D302<>\"\",'Data Input'!D302,\"\")","v":""},{"$f":"IF('Data Input'!E302<>\"\",'Data Input'!E302,\"\")","v":""},{"$f":"IF('Data Input'!F302<>\"\",'Data Input'!F302,\"\")","v":""},{"$f":"IF('Data Input'!A354<>\"\",'Data Input'!A354,\"\")","v":""},{"$f":"IF('Data Input'!B354<>\"\",'Data Input'!B354,\"\")","v":""},{"$f":"IF('Data Input'!C354<>\"\",'Data Input'!C354,\"\")","v":""},{"$f":"IF('Data Input'!D354<>\"\",'Data Input'!D354,\"\")","v":""},{"$f":"IF('Data Input'!E354<>\"\",'Data Input'!E354,\"\")","v":""},{"$f":"IF('Data Input'!F354<>\"\",'Data Input'!F354,\"\")","v":""}]
[{"$f":"IF('Data Input'!A303<>\"\",'Data Input'!A303,\"\")","v":""},{"$f":"IF('Data Input'!B303<>\"\",'Data Input'!B303,\"\")","v":""},{"$f":"IF('Data Input'!C303<>\"\",'Data Input'!C303,\"\")","v":""},{"$f":"IF('Data Input'!D303<>\"\",'Data Input'!D303,\"\")","v":""},{"$f":"IF('Data Input'!E303<>\"\",'Data Input'!E303,\"\")","v":""},{"$f":"IF('Data Input'!F303<>\"\",'Data Input'!F303,\"\")","v":""},{"$f":"IF('Data Input'!A355<>\"\",'Data Input'!A355,\"\")","v":""},{"$f":"IF('Data Input'!B355<>\"\",'Data Input'!B355,\"\")","v":""},{"$f":"IF('Data Input'!C355<>\"\",'Data Input'!C355,\"\")","v":""},{"$f":"IF('Data Input'!D355<>\"\",'Data Input'!D355,\"\")","v":""},{"$f":"IF('Data Input'!E355<>\"\",'Data Input'!E355,\"\")","v":""},{"$f":"IF('Data Input'!F355<>\"\",'Data Input'!F355,\"\")","v":""}]
[{"$f":"IF('Data Input'!A304<>\"\",'Data Input'!A304,\"\")","v":""},{"$f":"IF('Data Input'!B304<>\"\",'Data Input'!B304,\"\")","v":""},{"$f":"IF('Data Input'!C304<>\"\",'Data Input'!C304,\"\")","v":""},{"$f":"IF('Data Input'!D304<>\"\",'Data Input'!D304,\"\")","v":""},{"$f":"IF('Data Input'!E304<>\"\",'Data Input'!E304,\"\")","v":""},{"$f":"IF('Data Input'!F304<>\"\",'Data Input'!F304,\"\")","v":""},{"$f":"IF('Data Input'!A356<>\"\",'Data Input'!A356,\"\")","v":""},{"$f":"IF('Data Input'!B356<>\"\",'Data Input'!B356,\"\")","v":""},{"$f":"IF('Data Input'!C356<>\"\",'Data Input'!C356,\"\")","v":""},{"$f":"IF('Data Input'!D356<>\"\",'Data Input'!D356,\"\")","v":""},{"$f":"IF('Data Input'!E356<>\"\",'Data Input'!E356,\"\")","v":""},{"$f":"IF('Data Input'!F356<>\"\",'Data Input'!F356,\"\")","v":""}]
[{"$f":"IF('Data Input'!A305<>\"\",'Data Input'!A305,\"\")","v":""},{"$f":"IF('Data Input'!B305<>\"\",'Data Input'!B305,\"\")","v":""},{"$f":"IF('Data Input'!C305<>\"\",'Data Input'!C305,\"\")","v":""},{"$f":"IF('Data Input'!D305<>\"\",'Data Input'!D305,\"\")","v":""},{"$f":"IF('Data Input'!E305<>\"\",'Data Input'!E305,\"\")","v":""},{"$f":"IF('Data Input'!F305<>\"\",'Data Input'!F305,\"\")","v":""},{"$f":"IF('Data Input'!A357<>\"\",'Data Input'!A357,\"\")","v":""},{"$f":"IF('Data Input'!B357<>\"\",'Data Input'!B357,\"\")","v":""},{"$f":"IF('Data Input'!C357<>\"\",'Data Input'!C357,\"\")","v":""},{"$f":"IF('Data Input'!D357<>\"\",'Data Input'!D357,\"\")","v":""},{"$f":"IF('Data Input'!E357<>\"\",'Data Input'!E357,\"\")","v":""},{"$f":"IF('Data Input'!F357<>\"\",'Data Input'!F357,\"\")","v":""}]
[{"$f":"IF('Data Input'!A306<>\"\",'Data Input'!A306,\"\")","v":""},{"$f":"IF('Data Input'!B306<>\"\",'Data Input'!B306,\"\")","v":""},{"$f":"IF('Data Input'!C306<>\"\",'Data Input'!C306,\"\")","v":""},{"$f":"IF('Data Input'!D306<>\"\",'Data Input'!D306,\"\")","v":""},{"$f":"IF('Data Input'!E306<>\"\",'Data Input'!E306,\"\")","v":""},{"$f":"IF('Data Input'!F306<>\"\",'Data Input'!F306,\"\")","v":""},{"$f":"IF('Data Input'!A358<>\"\",'Data Input'!A358,\"\")","v":""},{"$f":"IF('Data Input'!B358<>\"\",'Data Input'!B358,\"\")","v":""},{"$f":"IF('Data Input'!C358<>\"\",'Data Input'!C358,\"\")","v":""},{"$f":"IF('Data Input'!D358<>\"\",'Data Input'!D358,\"\")","v":""},{"$f":"IF('Data Input'!E358<>\"\",'Data Input'!E358,\"\")","v":""},{"$f":"IF('Data Input'!F358<>\"\",'Data Input'!F358,\"\")","v":""}]
[{"$f":"IF('Data Input'!A307<>\"\",'Data Input'!A307,\"\")","v":""},{"$f":"IF('Data Input'!B307<>\"\",'Data Input'!B307,\"\")","v":""},{"$f":"IF('Data Input'!C307<>\"\",'Data Input'!C307,\"\")","v":""},{"$f":"IF('Data Input'!D307<>\"\",'Data Input'!D307,\"\")","v":""},{"$f":"IF('Data Input'!E307<>\"\",'Data Input'!E307,\"\")","v":""},{"$f":"IF('Data Input'!F307<>\"\",'Data Input'!F307,\"\")","v":""},{"$f":"IF('Data Input'!A359<>\"\",'Data Input'!A359,\"\")","v":""},{"$f":"IF('Data Input'!B359<>\"\",'Data Input'!B359,\"\")","v":""},{"$f":"IF('Data Input'!C359<>\"\",'Data Input'!C359,\"\")","v":""},{"$f":"IF('Data Input'!D359<>\"\",'Data Input'!D359,\"\")","v":""},{"$f":"IF('Data Input'!E359<>\"\",'Data Input'!E359,\"\")","v":""},{"$f":"IF('Data Input'!F359<>\"\",'Data Input'!F359,\"\")","v":""}]
[{"$f":"IF('Data Input'!A308<>\"\",'Data Input'!A308,\"\")","v":""},{"$f":"IF('Data Input'!B308<>\"\",'Data Input'!B308,\"\")","v":""},{"$f":"IF('Data Input'!C308<>\"\",'Data Input'!C308,\"\")","v":""},{"$f":"IF('Data Input'!D308<>\"\",'Data Input'!D308,\"\")","v":""},{"$f":"IF('Data Input'!E308<>\"\",'Data Input'!E308,\"\")","v":""},{"$f":"IF('Data Input'!F308<>\"\",'Data Input'!F308,\"\")","v":""},{"$f":"IF('Data Input'!A360<>\"\",'Data Input'!A360,\"\")","v":""},{"$f":"IF('Data Input'!B360<>\"\",'Data Input'!B360,\"\")","v":""},{"$f":"IF('Data Input'!C360<>\"\",'Data Input'!C360,\"\")","v":""},{"$f":"IF('Data Input'!D360<>\"\",'Data Input'!D360,\"\")","v":""},{"$f":"IF('Data Input'!E360<>\"\",'Data Input'!E360,\"\")","v":""},{"$f":"IF('Data Input'!F360<>\"\",'Data Input'!F360,\"\")","v":""}]
[{"$f":"IF('Data Input'!A309<>\"\",'Data Input'!A309,\"\")","v":""},{"$f":"IF('Data Input'!B309<>\"\",'Data Input'!B309,\"\")","v":""},{"$f":"IF('Data Input'!C309<>\"\",'Data Input'!C309,\"\")","v":""},{"$f":"IF('Data Input'!D309<>\"\",'Data Input'!D309,\"\")","v":""},{"$f":"IF('Data Input'!E309<>\"\",'Data Input'!E309,\"\")","v":""},{"$f":"IF('Data Input'!F309<>\"\",'Data Input'!F309,\"\")","v":""},{"$f":"IF('Data Input'!A361<>\"\",'Data Input'!A361,\"\")","v":""},{"$f":"IF('Data Input'!B361<>\"\",'Data Input'!B361,\"\")","v":""},{"$f":"IF('Data Input'!C361<>\"\",'Data Input'!C361,\"\")","v":""},{"$f":"IF('Data Input'!D361<>\"\",'Data Input'!D361,\"\")","v":""},{"$f":"IF('Data Input'!E361<>\"\",'Data Input'!E361,\"\")","v":""},{"$f":"IF('Data Input'!F361<>\"\",'Data Input'!F361,\"\")","v":""}]
[{"$f":"IF('Data Input'!A310<>\"\",'Data Input'!A310,\"\")","v":""},{"$f":"IF('Data Input'!B310<>\"\",'Data Input'!B310,\"\")","v":""},{"$f":"IF('Data Input'!C310<>\"\",'Data Input'!C310,\"\")","v":""},{"$f":"IF('Data Input'!D310<>\"\",'Data Input'!D310,\"\")","v":""},{"$f":"IF('Data Input'!E310<>\"\",'Data Input'!E310,\"\")","v":""},{"$f":"IF('Data Input'!F310<>\"\",'Data Input'!F310,\"\")","v":""},{"$f":"IF('Data Input'!A362<>\"\",'Data Input'!A362,\"\")","v":""},{"$f":"IF('Data Input'!B362<>\"\",'Data Input'!B362,\"\")","v":""},{"$f":"IF('Data Input'!C362<>\"\",'Data Input'!C362,\"\")","v":""},{"$f":"IF('Data Input'!D362<>\"\",'Data Input'!D362,\"\")","v":""},{"$f":"IF('Data Input'!E362<>\"\",'Data Input'!E362,\"\")","v":""},{"$f":"IF('Data Input'!F362<>\"\",'Data Input'!F362,\"\")","v":""}]
[{"$f":"IF('Data Input'!A311<>\"\",'Data Input'!A311,\"\")","v":""},{"$f":"IF('Data Input'!B311<>\"\",'Data Input'!B311,\"\")","v":""},{"$f":"IF('Data Input'!C311<>\"\",'Data Input'!C311,\"\")","v":""},{"$f":"IF('Data Input'!D311<>\"\",'Data Input'!D311,\"\")","v":""},{"$f":"IF('Data Input'!E311<>\"\",'Data Input'!E311,\"\")","v":""},{"$f":"IF('Data Input'!F311<>\"\",'Data Input'!F311,\"\")","v":""},{"$f":"IF('Data Input'!A363<>\"\",'Data Input'!A363,\"\")","v":""},{"$f":"IF('Data Input'!B363<>\"\",'Data Input'!B363,\"\")","v":""},{"$f":"IF('Data Input'!C363<>\"\",'Data Input'!C363,\"\")","v":""},{"$f":"IF('Data Input'!D363<>\"\",'Data Input'!D363,\"\")","v":""},{"$f":"IF('Data Input'!E363<>\"\",'Data Input'!E363,\"\")","v":""},{"$f":"IF('Data Input'!F363<>\"\",'Data Input'!F363,\"\")","v":""}]
[{"$f":"IF('Data Input'!A312<>\"\",'Data Input'!A312,\"\")","v":""},{"$f":"IF('Data Input'!B312<>\"\",'Data Input'!B312,\"\")","v":""},{"$f":"IF('Data Input'!C312<>\"\",'Data Input'!C312,\"\")","v":""},{"$f":"IF('Data Input'!D312<>\"\",'Data Input'!D312,\"\")","v":""},{"$f":"IF('Data Input'!E312<>\"\",'Data Input'!E312,\"\")","v":""},{"$f":"IF('Data Input'!F312<>\"\",'Data Input'!F312,\"\")","v":""},{"$f":"IF('Data Input'!A364<>\"\",'Data Input'!A364,\"\")","v":""},{"$f":"IF('Data Input'!B364<>\"\",'Data Input'!B364,\"\")","v":""},{"$f":"IF('Data Input'!C364<>\"\",'Data Input'!C364,\"\")","v":""},{"$f":"IF('Data Input'!D364<>\"\",'Data Input'!D364,\"\")","v":""},{"$f":"IF('Data Input'!E364<>\"\",'Data Input'!E364,\"\")","v":""},{"$f":"IF('Data Input'!F364<>\"\",'Data Input'!F364,\"\")","v":""}]
[{"$f":"IF('Data Input'!A313<>\"\",'Data Input'!A313,\"\")","v":""},{"$f":"IF('Data Input'!B313<>\"\",'Data Input'!B313,\"\")","v":""},{"$f":"IF('Data Input'!C313<>\"\",'Data Input'!C313,\"\")","v":""},{"$f":"IF('Data Input'!D313<>\"\",'Data Input'!D313,\"\")","v":""},{"$f":"IF('Data Input'!E313<>\"\",'Data Input'!E313,\"\")","v":""},{"$f":"IF('Data Input'!F313<>\"\",'Data Input'!F313,\"\")","v":""},{"$f":"IF('Data Input'!A365<>\"\",'Data Input'!A365,\"\")","v":""},{"$f":"IF('Data Input'!B365<>\"\",'Data Input'!B365,\"\")","v":""},{"$f":"IF('Data Input'!C365<>\"\",'Data Input'!C365,\"\")","v":""},{"$f":"IF('Data Input'!D365<>\"\",'Data Input'!D365,\"\")","v":""},{"$f":"IF('Data Input'!E365<>\"\",'Data Input'!E365,\"\")","v":""},{"$f":"IF('Data Input'!F365<>\"\",'Data Input'!F365,\"\")","v":""}]
[{"$f":"IF('Data Input'!A314<>\"\",'Data Input'!A314,\"\")","v":""},{"$f":"IF('Data Input'!B314<>\"\",'Data Input'!B314,\"\")","v":""},{"$f":"IF('Data Input'!C314<>\"\",'Data Input'!C314,\"\")","v":""},{"$f":"IF('Data Input'!D314<>\"\",'Data Input'!D314,\"\")","v":""},{"$f":"IF('Data Input'!E314<>\"\",'Data Input'!E314,\"\")","v":""},{"$f":"IF('Data Input'!F314<>\"\",'Data Input'!F314,\"\")","v":""},{"$f":"IF('Data Input'!A366<>\"\",'Data Input'!A366,\"\")","v":""},{"$f":"IF('Data Input'!B366<>\"\",'Data Input'!B366,\"\")","v":""},{"$f":"IF('Data Input'!C366<>\"\",'Data Input'!C366,\"\")","v":""},{"$f":"IF('Data Input'!D366<>\"\",'Data Input'!D366,\"\")","v":""},{"$f":"IF('Data Input'!E366<>\"\",'Data Input'!E366,\"\")","v":""},{"$f":"IF('Data Input'!F366<>\"\",'Data Input'!F366,\"\")","v":""}]
[{"$f":"IF('Data Input'!A315<>\"\",'Data Input'!A315,\"\")","v":""},{"$f":"IF('Data Input'!B315<>\"\",'Data Input'!B315,\"\")","v":""},{"$f":"IF('Data Input'!C315<>\"\",'Data Input'!C315,\"\")","v":""},{"$f":"IF('Data Input'!D315<>\"\",'Data Input'!D315,\"\")","v":""},{"$f":"IF('Data Input'!E315<>\"\",'Data Input'!E315,\"\")","v":""},{"$f":"IF('Data Input'!F315<>\"\",'Data Input'!F315,\"\")","v":""},{"$f":"IF('Data Input'!A367<>\"\",'Data Input'!A367,\"\")","v":""},{"$f":"IF('Data Input'!B367<>\"\",'Data Input'!B367,\"\")","v":""},{"$f":"IF('Data Input'!C367<>\"\",'Data Input'!C367,\"\")","v":""},{"$f":"IF('Data Input'!D367<>\"\",'Data Input'!D367,\"\")","v":""},{"$f":"IF('Data Input'!E367<>\"\",'Data Input'!E367,\"\")","v":""},{"$f":"IF('Data Input'!F367<>\"\",'Data Input'!F367,\"\")","v":""}]
[{"$f":"IF('Data Input'!A316<>\"\",'Data Input'!A316,\"\")","v":""},{"$f":"IF('Data Input'!B316<>\"\",'Data Input'!B316,\"\")","v":""},{"$f":"IF('Data Input'!C316<>\"\",'Data Input'!C316,\"\")","v":""},{"$f":"IF('Data Input'!D316<>\"\",'Data Input'!D316,\"\")","v":""},{"$f":"IF('Data Input'!E316<>\"\",'Data Input'!E316,\"\")","v":""},{"$f":"IF('Data Input'!F316<>\"\",'Data Input'!F316,\"\")","v":""},{"$f":"IF('Data Input'!A368<>\"\",'Data Input'!A368,\"\")","v":""},{"$f":"IF('Data Input'!B368<>\"\",'Data Input'!B368,\"\")","v":""},{"$f":"IF('Data Input'!C368<>\"\",'Data Input'!C368,\"\")","v":""},{"$f":"IF('Data Input'!D368<>\"\",'Data Input'!D368,\"\")","v":""},{"$f":"IF('Data Input'!E368<>\"\",'Data Input'!E368,\"\")","v":""},{"$f":"IF('Data Input'!F368<>\"\",'Data Input'!F368,\"\")","v":""}]
[{"$f":"IF('Data Input'!A317<>\"\",'Data Input'!A317,\"\")","v":""},{"$f":"IF('Data Input'!B317<>\"\",'Data Input'!B317,\"\")","v":""},{"$f":"IF('Data Input'!C317<>\"\",'Data Input'!C317,\"\")","v":""},{"$f":"IF('Data Input'!D317<>\"\",'Data Input'!D317,\"\")","v":""},{"$f":"IF('Data Input'!E317<>\"\",'Data Input'!E317,\"\")","v":""},{"$f":"IF('Data Input'!F317<>\"\",'Data Input'!F317,\"\")","v":""},{"$f":"IF('Data Input'!A369<>\"\",'Data Input'!A369,\"\")","v":""},{"$f":"IF('Data Input'!B369<>\"\",'Data Input'!B369,\"\")","v":""},{"$f":"IF('Data Input'!C369<>\"\",'Data Input'!C369,\"\")","v":""},{"$f":"IF('Data Input'!D369<>\"\",'Data Input'!D369,\"\")","v":""},{"$f":"IF('Data Input'!E369<>\"\",'Data Input'!E369,\"\")","v":""},{"$f":"IF('Data Input'!F369<>\"\",'Data Input'!F369,\"\")","v":""}]
[{"$f":"IF('Data Input'!A318<>\"\",'Data Input'!A318,\"\")","v":""},{"$f":"IF('Data Input'!B318<>\"\",'Data Input'!B318,\"\")","v":""},{"$f":"IF('Data Input'!C318<>\"\",'Data Input'!C318,\"\")","v":""},{"$f":"IF('Data Input'!D318<>\"\",'Data Input'!D318,\"\")","v":""},{"$f":"IF('Data Input'!E318<>\"\",'Data Input'!E318,\"\")","v":""},{"$f":"IF('Data Input'!F318<>\"\",'Data Input'!F318,\"\")","v":""},{"$f":"IF('Data Input'!A370<>\"\",'Data Input'!A370,\"\")","v":""},{"$f":"IF('Data Input'!B370<>\"\",'Data Input'!B370,\"\")","v":""},{"$f":"IF('Data Input'!C370<>\"\",'Data Input'!C370,\"\")","v":""},{"$f":"IF('Data Input'!D370<>\"\",'Data Input'!D370,\"\")","v":""},{"$f":"IF('Data Input'!E370<>\"\",'Data Input'!E370,\"\")","v":""},{"$f":"IF('Data Input'!F370<>\"\",'Data Input'!F370,\"\")","v":""}]
[{"$f":"IF('Data Input'!A319<>\"\",'Data Input'!A319,\"\")","v":""},{"$f":"IF('Data Input'!B319<>\"\",'Data Input'!B319,\"\")","v":""},{"$f":"IF('Data Input'!C319<>\"\",'Data Input'!C319,\"\")","v":""},{"$f":"IF('Data Input'!D319<>\"\",'Data Input'!D319,\"\")","v":""},{"$f":"IF('Data Input'!E319<>\"\",'Data Input'!E319,\"\")","v":""},{"$f":"IF('Data Input'!F319<>\"\",'Data Input'!F319,\"\")","v":""},{"$f":"IF('Data Input'!A371<>\"\",'Data Input'!A371,\"\")","v":""},{"$f":"IF('Data Input'!B371<>\"\",'Data Input'!B371,\"\")","v":""},{"$f":"IF('Data Input'!C371<>\"\",'Data Input'!C371,\"\")","v":""},{"$f":"IF('Data Input'!D371<>\"\",'Data Input'!D371,\"\")","v":""},{"$f":"IF('Data Input'!E371<>\"\",'Data Input'!E371,\"\")","v":""},{"$f":"IF('Data Input'!F371<>\"\",'Data Input'!F371,\"\")","v":""}]
[{"$f":"IF('Data Input'!A320<>\"\",'Data Input'!A320,\"\")","v":""},{"$f":"IF('Data Input'!B320<>\"\",'Data Input'!B320,\"\")","v":""},{"$f":"IF('Data Input'!C320<>\"\",'Data Input'!C320,\"\")","v":""},{"$f":"IF('Data Input'!D320<>\"\",'Data Input'!D320,\"\")","v":""},{"$f":"IF('Data Input'!E320<>\"\",'Data Input'!E320,\"\")","v":""},{"$f":"IF('Data Input'!F320<>\"\",'Data Input'!F320,\"\")","v":""},{"$f":"IF('Data Input'!A372<>\"\",'Data Input'!A372,\"\")","v":""},{"$f":"IF('Data Input'!B372<>\"\",'Data Input'!B372,\"\")","v":""},{"$f":"IF('Data Input'!C372<>\"\",'Data Input'!C372,\"\")","v":""},{"$f":"IF('Data Input'!D372<>\"\",'Data Input'!D372,\"\")","v":""},{"$f":"IF('Data Input'!E372<>\"\",'Data Input'!E372,\"\")","v":""},{"$f":"IF('Data Input'!F372<>\"\",'Data Input'!F372,\"\")","v":""}]
[{"$f":"IF('Data Input'!A321<>\"\",'Data Input'!A321,\"\")","v":""},{"$f":"IF('Data Input'!B321<>\"\",'Data Input'!B321,\"\")","v":""},{"$f":"IF('Data Input'!C321<>\"\",'Data Input'!C321,\"\")","v":""},{"$f":"IF('Data Input'!D321<>\"\",'Data Input'!D321,\"\")","v":""},{"$f":"IF('Data Input'!E321<>\"\",'Data Input'!E321,\"\")","v":""},{"$f":"IF('Data Input'!F321<>\"\",'Data Input'!F321,\"\")","v":""},{"$f":"IF('Data Input'!A373<>\"\",'Data Input'!A373,\"\")","v":""},{"$f":"IF('Data Input'!B373<>\"\",'Data Input'!B373,\"\")","v":""},{"$f":"IF('Data Input'!C373<>\"\",'Data Input'!C373,\"\")","v":""},{"$f":"IF('Data Input'!D373<>\"\",'Data Input'!D373,\"\")","v":""},{"$f":"IF('Data Input'!E373<>\"\",'Data Input'!E373,\"\")","v":""},{"$f":"IF('Data Input'!F373<>\"\",'Data Input'!F373,\"\")","v":""}]
[{"$f":"IF('Data Input'!A322<>\"\",'Data Input'!A322,\"\")","v":""},{"$f":"IF('Data Input'!B322<>\"\",'Data Input'!B322,\"\")","v":""},{"$f":"IF('Data Input'!C322<>\"\",'Data Input'!C322,\"\")","v":""},{"$f":"IF('Data Input'!D322<>\"\",'Data Input'!D322,\"\")","v":""},{"$f":"IF('Data Input'!E322<>\"\",'Data Input'!E322,\"\")","v":""},{"$f":"IF('Data Input'!F322<>\"\",'Data Input'!F322,\"\")","v":""},{"$f":"IF('Data Input'!A374<>\"\",'Data Input'!A374,\"\")","v":""},{"$f":"IF('Data Input'!B374<>\"\",'Data Input'!B374,\"\")","v":""},{"$f":"IF('Data Input'!C374<>\"\",'Data Input'!C374,\"\")","v":""},{"$f":"IF('Data Input'!D374<>\"\",'Data Input'!D374,\"\")","v":""},{"$f":"IF('Data Input'!E374<>\"\",'Data Input'!E374,\"\")","v":""},{"$f":"IF('Data Input'!F374<>\"\",'Data Input'!F374,\"\")","v":""}]
[{"$f":"IF('Data Input'!A323<>\"\",'Data Input'!A323,\"\")","v":""},{"$f":"IF('Data Input'!B323<>\"\",'Data Input'!B323,\"\")","v":""},{"$f":"IF('Data Input'!C323<>\"\",'Data Input'!C323,\"\")","v":""},{"$f":"IF('Data Input'!D323<>\"\",'Data Input'!D323,\"\")","v":""},{"$f":"IF('Data Input'!E323<>\"\",'Data Input'!E323,\"\")","v":""},{"$f":"IF('Data Input'!F323<>\"\",'Data Input'!F323,\"\")","v":""},{"$f":"IF('Data Input'!A375<>\"\",'Data Input'!A375,\"\")","v":""},{"$f":"IF('Data Input'!B375<>\"\",'Data Input'!B375,\"\")","v":""},{"$f":"IF('Data Input'!C375<>\"\",'Data Input'!C375,\"\")","v":""},{"$f":"IF('Data Input'!D375<>\"\",'Data Input'!D375,\"\")","v":""},{"$f":"IF('Data Input'!E375<>\"\",'Data Input'!E375,\"\")","v":""},{"$f":"IF('Data Input'!F375<>\"\",'Data Input'!F375,\"\")","v":""}]
[{"$f":"IF('Data Input'!A324<>\"\",'Data Input'!A324,\"\")","v":""},{"$f":"IF('Data Input'!B324<>\"\",'Data Input'!B324,\"\")","v":""},{"$f":"IF('Data Input'!C324<>\"\",'Data Input'!C324,\"\")","v":""},{"$f":"IF('Data Input'!D324<>\"\",'Data Input'!D324,\"\")","v":""},{"$f":"IF('Data Input'!E324<>\"\",'Data Input'!E324,\"\")","v":""},{"$f":"IF('Data Input'!F324<>\"\",'Data Input'!F324,\"\")","v":""},{"$f":"IF('Data Input'!A376<>\"\",'Data Input'!A376,\"\")","v":""},{"$f":"IF('Data Input'!B376<>\"\",'Data Input'!B376,\"\")","v":""},{"$f":"IF('Data Input'!C376<>\"\",'Data Input'!C376,\"\")","v":""},{"$f":"IF('Data Input'!D376<>\"\",'Data Input'!D376,\"\")","v":""},{"$f":"IF('Data Input'!E376<>\"\",'Data Input'!E376,\"\")","v":""},{"$f":"IF('Data Input'!F376<>\"\",'Data Input'!F376,\"\")","v":""}]
[{"$f":"IF('Data Input'!A325<>\"\",'Data Input'!A325,\"\")","v":""},{"$f":"IF('Data Input'!B325<>\"\",'Data Input'!B325,\"\")","v":""},{"$f":"IF('Data Input'!C325<>\"\",'Data Input'!C325,\"\")","v":""},{"$f":"IF('Data Input'!D325<>\"\",'Data Input'!D325,\"\")","v":""},{"$f":"IF('Data Input'!E325<>\"\",'Data Input'!E325,\"\")","v":""},{"$f":"IF('Data Input'!F325<>\"\",'Data Input'!F325,\"\")","v":""},{"$f":"IF('Data Input'!A377<>\"\",'Data Input'!A377,\"\")","v":""},{"$f":"IF('Data Input'!B377<>\"\",'Data Input'!B377,\"\")","v":""},{"$f":"IF('Data Input'!C377<>\"\",'Data Input'!C377,\"\")","v":""},{"$f":"IF('Data Input'!D377<>\"\",'Data Input'!D377,\"\")","v":""},{"$f":"IF('Data Input'!E377<>\"\",'Data Input'!E377,\"\")","v":""},{"$f":"IF('Data Input'!F377<>\"\",'Data Input'!F377,\"\")","v":""}]
[{"$f":"IF('Data Input'!A326<>\"\",'Data Input'!A326,\"\")","v":""},{"$f":"IF('Data Input'!B326<>\"\",'Data Input'!B326,\"\")","v":""},{"$f":"IF('Data Input'!C326<>\"\",'Data Input'!C326,\"\")","v":""},{"$f":"IF('Data Input'!D326<>\"\",'Data Input'!D326,\"\")","v":""},{"$f":"IF('Data Input'!E326<>\"\",'Data Input'!E326,\"\")","v":""},{"$f":"IF('Data Input'!F326<>\"\",'Data Input'!F326,\"\")","v":""},{"$f":"IF('Data Input'!A378<>\"\",'Data Input'!A378,\"\")","v":""},{"$f":"IF('Data Input'!B378<>\"\",'Data Input'!B378,\"\")","v":""},{"$f":"IF('Data Input'!C378<>\"\",'Data Input'!C378,\"\")","v":""},{"$f":"IF('Data Input'!D378<>\"\",'Data Input'!D378,\"\")","v":""},{"$f":"IF('Data Input'!E378<>\"\",'Data Input'!E378,\"\")","v":""},{"$f":"IF('Data Input'!F378<>\"\",'Data Input'!F378,\"\")","v":""}]
[{"$f":"IF('Data Input'!A327<>\"\",'Data Input'!A327,\"\")","v":""},{"$f":"IF('Data Input'!B327<>\"\",'Data Input'!B327,\"\")","v":""},{"$f":"IF('Data Input'!C327<>\"\",'Data Input'!C327,\"\")","v":""},{"$f":"IF('Data Input'!D327<>\"\",'Data Input'!D327,\"\")","v":""},{"$f":"IF('Data Input'!E327<>\"\",'Data Input'!E327,\"\")","v":""},{"$f":"IF('Data Input'!F327<>\"\",'Data Input'!F327,\"\")","v":""},{"$f":"IF('Data Input'!A379<>\"\",'Data Input'!A379,\"\")","v":""},{"$f":"IF('Data Input'!B379<>\"\",'Data Input'!B379,\"\")","v":""},{"$f":"IF('Data Input'!C379<>\"\",'Data Input'!C379,\"\")","v":""},{"$f":"IF('Data Input'!D379<>\"\",'Data Input'!D379,\"\")","v":""},{"$f":"IF('Data Input'!E379<>\"\",'Data Input'!E379,\"\")","v":""},{"$f":"IF('Data Input'!F379<>\"\",'Data Input'!F379,\"\")","v":""}]
[{"$f":"IF('Data Input'!A380<>\"\",'Data Input'!A380,\"\")","v":""},{"$f":"IF('Data Input'!B380<>\"\",'Data Input'!B380,\"\")","v":""},{"$f":"IF('Data Input'!C380<>\"\",'Data Input'!C380,\"\")","v":""},{"$f":"IF('Data Input'!D380<>\"\",'Data Input'!D380,\"\")","v":""},{"$f":"IF('Data Input'!E380<>\"\",'Data Input'!E380,\"\")","v":""},{"$f":"IF('Data Input'!F380<>\"\",'Data Input'!F380,\"\")","v":""},{"$f":"IF('Data Input'!A432<>\"\",'Data Input'!A432,\"\")","v":""},{"$f":"IF('Data Input'!B432<>\"\",'Data Input'!B432,\"\")","v":""},{"$f":"IF('Data Input'!C432<>\"\",'Data Input'!C432,\"\")","v":""},{"$f":"IF('Data Input'!D432<>\"\",'Data Input'!D432,\"\")","v":""},{"$f":"IF('Data Input'!E432<>\"\",'Data Input'!E432,\"\")","v":""},{"$f":"IF('Data Input'!F432<>\"\",'Data Input'!F432,\"\")","v":""}]
[{"$f":"IF('Data Input'!A381<>\"\",'Data Input'!A381,\"\")","v":""},{"$f":"IF('Data Input'!B381<>\"\",'Data Input'!B381,\"\")","v":""},{"$f":"IF('Data Input'!C381<>\"\",'Data Input'!C381,\"\")","v":""},{"$f":"IF('Data Input'!D381<>\"\",'Data Input'!D381,\"\")","v":""},{"$f":"IF('Data Input'!E381<>\"\",'Data Input'!E381,\"\")","v":""},{"$f":"IF('Data Input'!F381<>\"\",'Data Input'!F381,\"\")","v":""},{"$f":"IF('Data Input'!A433<>\"\",'Data Input'!A433,\"\")","v":""},{"$f":"IF('Data Input'!B433<>\"\",'Data Input'!B433,\"\")","v":""},{"$f":"IF('Data Input'!C433<>\"\",'Data Input'!C433,\"\")","v":""},{"$f":"IF('Data Input'!D433<>\"\",'Data Input'!D433,\"\")","v":""},{"$f":"IF('Data Input'!E433<>\"\",'Data Input'!E433,\"\")","v":""},{"$f":"IF('Data Input'!F433<>\"\",'Data Input'!F433,\"\")","v":""}]
[{"$f":"IF('Data Input'!A382<>\"\",'Data Input'!A382,\"\")","v":""},{"$f":"IF('Data Input'!B382<>\"\",'Data Input'!B382,\"\")","v":""},{"$f":"IF('Data Input'!C382<>\"\",'Data Input'!C382,\"\")","v":""},{"$f":"IF('Data Input'!D382<>\"\",'Data Input'!D382,\"\")","v":""},{"$f":"IF('Data Input'!E382<>\"\",'Data Input'!E382,\"\")","v":""},{"$f":"IF('Data Input'!F382<>\"\",'Data Input'!F382,\"\")","v":""},{"$f":"IF('Data Input'!A434<>\"\",'Data Input'!A434,\"\")","v":""},{"$f":"IF('Data Input'!B434<>\"\",'Data Input'!B434,\"\")","v":""},{"$f":"IF('Data Input'!C434<>\"\",'Data Input'!C434,\"\")","v":""},{"$f":"IF('Data Input'!D434<>\"\",'Data Input'!D434,\"\")","v":""},{"$f":"IF('Data Input'!E434<>\"\",'Data Input'!E434,\"\")","v":""},{"$f":"IF('Data Input'!F434<>\"\",'Data Input'!F434,\"\")","v":""}]
[{"$f":"IF('Data Input'!A383<>\"\",'Data Input'!A383,\"\")","v":""},{"$f":"IF('Data Input'!B383<>\"\",'Data Input'!B383,\"\")","v":""},{"$f":"IF('Data Input'!C383<>\"\",'Data Input'!C383,\"\")","v":""},{"$f":"IF('Data Input'!D383<>\"\",'Data Input'!D383,\"\")","v":""},{"$f":"IF('Data Input'!E383<>\"\",'Data Input'!E383,\"\")","v":""},{"$f":"IF('Data Input'!F383<>\"\",'Data Input'!F383,\"\")","v":""},{"$f":"IF('Data Input'!A435<>\"\",'Data Input'!A435,\"\")","v":""},{"$f":"IF('Data Input'!B435<>\"\",'Data Input'!B435,\"\")","v":""},{"$f":"IF('Data Input'!C435<>\"\",'Data Input'!C435,\"\")","v":""},{"$f":"IF('Data Input'!D435<>\"\",'Data Input'!D435,\"\")","v":""},{"$f":"IF('Data Input'!E435<>\"\",'Data Input'!E435,\"\")","v":""},{"$f":"IF('Data Input'!F435<>\"\",'Data Input'!F435,\"\")","v":""}]
[{"$f":"IF('Data Input'!A384<>\"\",'Data Input'!A384,\"\")","v":""},{"$f":"IF('Data Input'!B384<>\"\",'Data Input'!B384,\"\")","v":""},{"$f":"IF('Data Input'!C384<>\"\",'Data Input'!C384,\"\")","v":""},{"$f":"IF('Data Input'!D384<>\"\",'Data Input'!D384,\"\")","v":""},{"$f":"IF('Data Input'!E384<>\"\",'Data Input'!E384,\"\")","v":""},{"$f":"IF('Data Input'!F384<>\"\",'Data Input'!F384,\"\")","v":""},{"$f":"IF('Data Input'!A436<>\"\",'Data Input'!A436,\"\")","v":""},{"$f":"IF('Data Input'!B436<>\"\",'Data Input'!B436,\"\")","v":""},{"$f":"IF('Data Input'!C436<>\"\",'Data Input'!C436,\"\")","v":""},{"$f":"IF('Data Input'!D436<>\"\",'Data Input'!D436,\"\")","v":""},{"$f":"IF('Data Input'!E436<>\"\",'Data Input'!E436,\"\")","v":""},{"$f":"IF('Data Input'!F436<>\"\",'Data Input'!F436,\"\")","v":""}]
[{"$f":"IF('Data Input'!A385<>\"\",'Data Input'!A385,\"\")","v":""},{"$f":"IF('Data Input'!B385<>\"\",'Data Input'!B385,\"\")","v":""},{"$f":"IF('Data Input'!C385<>\"\",'Data Input'!C385,\"\")","v":""},{"$f":"IF('Data Input'!D385<>\"\",'Data Input'!D385,\"\")","v":""},{"$f":"IF('Data Input'!E385<>\"\",'Data Input'!E385,\"\")","v":""},{"$f":"IF('Data Input'!F385<>\"\",'Data Input'!F385,\"\")","v":""},{"$f":"IF('Data Input'!A437<>\"\",'Data Input'!A437,\"\")","v":""},{"$f":"IF('Data Input'!B437<>\"\",'Data Input'!B437,\"\")","v":""},{"$f":"IF('Data Input'!C437<>\"\",'Data Input'!C437,\"\")","v":""},{"$f":"IF('Data Input'!D437<>\"\",'Data Input'!D437,\"\")","v":""},{"$f":"IF('Data Input'!E437<>\"\",'Data Input'!E437,\"\")","v":""},{"$f":"IF('Data Input'!F437<>\"\",'Data Input'!F437,\"\")","v":""}]
[{"$f":"IF('Data Input'!A386<>\"\",'Data Input'!A386,\"\")","v":""},{"$f":"IF('Data Input'!B386<>\"\",'Data Input'!B386,\"\")","v":""},{"$f":"IF('Data Input'!C386<>\"\",'Data Input'!C386,\"\")","v":""},{"$f":"IF('Data Input'!D386<>\"\",'Data Input'!D386,\"\")","v":""},{"$f":"IF('Data Input'!E386<>\"\",'Data Input'!E386,\"\")","v":""},{"$f":"IF('Data Input'!F386<>\"\",'Data Input'!F386,\"\")","v":""},{"$f":"IF('Data Input'!A438<>\"\",'Data Input'!A438,\"\")","v":""},{"$f":"IF('Data Input'!B438<>\"\",'Data Input'!B438,\"\")","v":""},{"$f":"IF('Data Input'!C438<>\"\",'Data Input'!C438,\"\")","v":""},{"$f":"IF('Data Input'!D438<>\"\",'Data Input'!D438,\"\")","v":""},{"$f":"IF('Data Input'!E438<>\"\",'Data Input'!E438,\"\")","v":""},{"$f":"IF('Data Input'!F438<>\"\",'Data Input'!F438,\"\")","v":""}]
[{"$f":"IF('Data Input'!A387<>\"\",'Data Input'!A387,\"\")","v":""},{"$f":"IF('Data Input'!B387<>\"\",'Data Input'!B387,\"\")","v":""},{"$f":"IF('Data Input'!C387<>\"\",'Data Input'!C387,\"\")","v":""},{"$f":"IF('Data Input'!D387<>\"\",'Data Input'!D387,\"\")","v":""},{"$f":"IF('Data Input'!E387<>\"\",'Data Input'!E387,\"\")","v":""},{"$f":"IF('Data Input'!F387<>\"\",'Data Input'!F387,\"\")","v":""},{"$f":"IF('Data Input'!A439<>\"\",'Data Input'!A439,\"\")","v":""},{"$f":"IF('Data Input'!B439<>\"\",'Data Input'!B439,\"\")","v":""},{"$f":"IF('Data Input'!C439<>\"\",'Data Input'!C439,\"\")","v":""},{"$f":"IF('Data Input'!D439<>\"\",'Data Input'!D439,\"\")","v":""},{"$f":"IF('Data Input'!E439<>\"\",'Data Input'!E439,\"\")","v":""},{"$f":"IF('Data Input'!F439<>\"\",'Data Input'!F439,\"\")","v":""}]
[{"$f":"IF('Data Input'!A388<>\"\",'Data Input'!A388,\"\")","v":""},{"$f":"IF('Data Input'!B388<>\"\",'Data Input'!B388,\"\")","v":""},{"$f":"IF('Data Input'!C388<>\"\",'Data Input'!C388,\"\")","v":""},{"$f":"IF('Data Input'!D388<>\"\",'Data Input'!D388,\"\")","v":""},{"$f":"IF('Data Input'!E388<>\"\",'Data Input'!E388,\"\")","v":""},{"$f":"IF('Data Input'!F388<>\"\",'Data Input'!F388,\"\")","v":""},{"$f":"IF('Data Input'!A440<>\"\",'Data Input'!A440,\"\")","v":""},{"$f":"IF('Data Input'!B440<>\"\",'Data Input'!B440,\"\")","v":""},{"$f":"IF('Data Input'!C440<>\"\",'Data Input'!C440,\"\")","v":""},{"$f":"IF('Data Input'!D440<>\"\",'Data Input'!D440,\"\")","v":""},{"$f":"IF('Data Input'!E440<>\"\",'Data Input'!E440,\"\")","v":""},{"$f":"IF('Data Input'!F440<>\"\",'Data Input'!F440,\"\")","v":""}]
[{"$f":"IF('Data Input'!A389<>\"\",'Data Input'!A389,\"\")","v":""},{"$f":"IF('Data Input'!B389<>\"\",'Data Input'!B389,\"\")","v":""},{"$f":"IF('Data Input'!C389<>\"\",'Data Input'!C389,\"\")","v":""},{"$f":"IF('Data Input'!D389<>\"\",'Data Input'!D389,\"\")","v":""},{"$f":"IF('Data Input'!E389<>\"\",'Data Input'!E389,\"\")","v":""},{"$f":"IF('Data Input'!F389<>\"\",'Data Input'!F389,\"\")","v":""},{"$f":"IF('Data Input'!A441<>\"\",'Data Input'!A441,\"\")","v":""},{"$f":"IF('Data Input'!B441<>\"\",'Data Input'!B441,\"\")","v":""},{"$f":"IF('Data Input'!C441<>\"\",'Data Input'!C441,\"\")","v":""},{"$f":"IF('Data Input'!D441<>\"\",'Data Input'!D441,\"\")","v":""},{"$f":"IF('Data Input'!E441<>\"\",'Data Input'!E441,\"\")","v":""},{"$f":"IF('Data Input'!F441<>\"\",'Data Input'!F441,\"\")","v":""}]
[{"$f":"IF('Data Input'!A390<>\"\",'Data Input'!A390,\"\")","v":""},{"$f":"IF('Data Input'!B390<>\"\",'Data Input'!B390,\"\")","v":""},{"$f":"IF('Data Input'!C390<>\"\",'Data Input'!C390,\"\")","v":""},{"$f":"IF('Data Input'!D390<>\"\",'Data Input'!D390,\"\")","v":""},{"$f":"IF('Data Input'!E390<>\"\",'Data Input'!E390,\"\")","v":""},{"$f":"IF('Data Input'!F390<>\"\",'Data Input'!F390,\"\")","v":""},{"$f":"IF('Data Input'!A442<>\"\",'Data Input'!A442,\"\")","v":""},{"$f":"IF('Data Input'!B442<>\"\",'Data Input'!B442,\"\")","v":""},{"$f":"IF('Data Input'!C442<>\"\",'Data Input'!C442,\"\")","v":""},{"$f":"IF('Data Input'!D442<>\"\",'Data Input'!D442,\"\")","v":""},{"$f":"IF('Data Input'!E442<>\"\",'Data Input'!E442,\"\")","v":""},{"$f":"IF('Data Input'!F442<>\"\",'Data Input'!F442,\"\")","v":""}]
[{"$f":"IF('Data Input'!A391<>\"\",'Data Input'!A391,\"\")","v":""},{"$f":"IF('Data Input'!B391<>\"\",'Data Input'!B391,\"\")","v":""},{"$f":"IF('Data Input'!C391<>\"\",'Data Input'!C391,\"\")","v":""},{"$f":"IF('Data Input'!D391<>\"\",'Data Input'!D391,\"\")","v":""},{"$f":"IF('Data Input'!E391<>\"\",'Data Input'!E391,\"\")","v":""},{"$f":"IF('Data Input'!F391<>\"\",'Data Input'!F391,\"\")","v":""},{"$f":"IF('Data Input'!A443<>\"\",'Data Input'!A443,\"\")","v":""},{"$f":"IF('Data Input'!B443<>\"\",'Data Input'!B443,\"\")","v":""},{"$f":"IF('Data Input'!C443<>\"\",'Data Input'!C443,\"\")","v":""},{"$f":"IF('Data Input'!D443<>\"\",'Data Input'!D443,\"\")","v":""},{"$f":"IF('Data Input'!E443<>\"\",'Data Input'!E443,\"\")","v":""},{"$f":"IF('Data Input'!F443<>\"\",'Data Input'!F443,\"\")","v":""}]
[{"$f":"IF('Data Input'!A392<>\"\",'Data Input'!A392,\"\")","v":""},{"$f":"IF('Data Input'!B392<>\"\",'Data Input'!B392,\"\")","v":""},{"$f":"IF('Data Input'!C392<>\"\",'Data Input'!C392,\"\")","v":""},{"$f":"IF('Data Input'!D392<>\"\",'Data Input'!D392,\"\")","v":""},{"$f":"IF('Data Input'!E392<>\"\",'Data Input'!E392,\"\")","v":""},{"$f":"IF('Data Input'!F392<>\"\",'Data Input'!F392,\"\")","v":""},{"$f":"IF('Data Input'!A444<>\"\",'Data Input'!A444,\"\")","v":""},{"$f":"IF('Data Input'!B444<>\"\",'Data Input'!B444,\"\")","v":""},{"$f":"IF('Data Input'!C444<>\"\",'Data Input'!C444,\"\")","v":""},{"$f":"IF('Data Input'!D444<>\"\",'Data Input'!D444,\"\")","v":""},{"$f":"IF('Data Input'!E444<>\"\",'Data Input'!E444,\"\")","v":""},{"$f":"IF('Data Input'!F444<>\"\",'Data Input'!F444,\"\")","v":""}]
[{"$f":"IF('Data Input'!A393<>\"\",'Data Input'!A393,\"\")","v":""},{"$f":"IF('Data Input'!B393<>\"\",'Data Input'!B393,\"\")","v":""},{"$f":"IF('Data Input'!C393<>\"\",'Data Input'!C393,\"\")","v":""},{"$f":"IF('Data Input'!D393<>\"\",'Data Input'!D393,\"\")","v":""},{"$f":"IF('Data Input'!E393<>\"\",'Data Input'!E393,\"\")","v":""},{"$f":"IF('Data Input'!F393<>\"\",'Data Input'!F393,\"\")","v":""},{"$f":"IF('Data Input'!A445<>\"\",'Data Input'!A445,\"\")","v":""},{"$f":"IF('Data Input'!B445<>\"\",'Data Input'!B445,\"\")","v":""},{"$f":"IF('Data Input'!C445<>\"\",'Data Input'!C445,\"\")","v":""},{"$f":"IF('Data Input'!D445<>\"\",'Data Input'!D445,\"\")","v":""},{"$f":"IF('Data Input'!E445<>\"\",'Data Input'!E445,\"\")","v":""},{"$f":"IF('Data Input'!F445<>\"\",'Data Input'!F445,\"\")","v":""}]
[{"$f":"IF('Data Input'!A394<>\"\",'Data Input'!A394,\"\")","v":""},{"$f":"IF('Data Input'!B394<>\"\",'Data Input'!B394,\"\")","v":""},{"$f":"IF('Data Input'!C394<>\"\",'Data Input'!C394,\"\")","v":""},{"$f":"IF('Data Input'!D394<>\"\",'Data Input'!D394,\"\")","v":""},{"$f":"IF('Data Input'!E394<>\"\",'Data Input'!E394,\"\")","v":""},{"$f":"IF('Data Input'!F394<>\"\",'Data Input'!F394,\"\")","v":""},{"$f":"IF('Data Input'!A446<>\"\",'Data Input'!A446,\"\")","v":""},{"$f":"IF('Data Input'!B446<>\"\",'Data Input'!B446,\"\")","v":""},{"$f":"IF('Data Input'!C446<>\"\",'Data Input'!C446,\"\")","v":""},{"$f":"IF('Data Input'!D446<>\"\",'Data Input'!D446,\"\")","v":""},{"$f":"IF('Data Input'!E446<>\"\",'Data Input'!E446,\"\")","v":""},{"$f":"IF('Data Input'!F446<>\"\",'Data Input'!F446,\"\")","v":""}]
[{"$f":"IF('Data Input'!A395<>\"\",'Data Input'!A395,\"\")","v":""},{"$f":"IF('Data Input'!B395<>\"\",'Data Input'!B395,\"\")","v":""},{"$f":"IF('Data Input'!C395<>\"\",'Data Input'!C395,\"\")","v":""},{"$f":"IF('Data Input'!D395<>\"\",'Data Input'!D395,\"\")","v":""},{"$f":"IF('Data Input'!E395<>\"\",'Data Input'!E395,\"\")","v":""},{"$f":"IF('Data Input'!F395<>\"\",'Data Input'!F395,\"\")","v":""},{"$f":"IF('Data Input'!A447<>\"\",'Data Input'!A447,\"\")","v":""},{"$f":"IF('Data Input'!B447<>\"\",'Data Input'!B447,\"\")","v":""},{"$f":"IF('Data Input'!C447<>\"\",'Data Input'!C447,\"\")","v":""},{"$f":"IF('Data Input'!D447<>\"\",'Data Input'!D447,\"\")","v":""},{"$f":"IF('Data Input'!E447<>\"\",'Data Input'!E447,\"\")","v":""},{"$f":"IF('Data Input'!F447<>\"\",'Data Input'!F447,\"\")","v":""}]
[{"$f":"IF('Data Input'!A396<>\"\",'Data Input'!A396,\"\")","v":""},{"$f":"IF('Data Input'!B396<>\"\",'Data Input'!B396,\"\")","v":""},{"$f":"IF('Data Input'!C396<>\"\",'Data Input'!C396,\"\")","v":""},{"$f":"IF('Data Input'!D396<>\"\",'Data Input'!D396,\"\")","v":""},{"$f":"IF('Data Input'!E396<>\"\",'Data Input'!E396,\"\")","v":""},{"$f":"IF('Data Input'!F396<>\"\",'Data Input'!F396,\"\")","v":""},{"$f":"IF('Data Input'!A448<>\"\",'Data Input'!A448,\"\")","v":""},{"$f":"IF('Data Input'!B448<>\"\",'Data Input'!B448,\"\")","v":""},{"$f":"IF('Data Input'!C448<>\"\",'Data Input'!C448,\"\")","v":""},{"$f":"IF('Data Input'!D448<>\"\",'Data Input'!D448,\"\")","v":""},{"$f":"IF('Data Input'!E448<>\"\",'Data Input'!E448,\"\")","v":""},{"$f":"IF('Data Input'!F448<>\"\",'Data Input'!F448,\"\")","v":""}]
[{"$f":"IF('Data Input'!A397<>\"\",'Data Input'!A397,\"\")","v":""},{"$f":"IF('Data Input'!B397<>\"\",'Data Input'!B397,\"\")","v":""},{"$f":"IF('Data Input'!C397<>\"\",'Data Input'!C397,\"\")","v":""},{"$f":"IF('Data Input'!D397<>\"\",'Data Input'!D397,\"\")","v":""},{"$f":"IF('Data Input'!E397<>\"\",'Data Input'!E397,\"\")","v":""},{"$f":"IF('Data Input'!F397<>\"\",'Data Input'!F397,\"\")","v":""},{"$f":"IF('Data Input'!A449<>\"\",'Data Input'!A449,\"\")","v":""},{"$f":"IF('Data Input'!B449<>\"\",'Data Input'!B449,\"\")","v":""},{"$f":"IF('Data Input'!C449<>\"\",'Data Input'!C449,\"\")","v":""},{"$f":"IF('Data Input'!D449<>\"\",'Data Input'!D449,\"\")","v":""},{"$f":"IF('Data Input'!E449<>\"\",'Data Input'!E449,\"\")","v":""},{"$f":"IF('Data Input'!F449<>\"\",'Data Input'!F449,\"\")","v":""}]
[{"$f":"IF('Data Input'!A398<>\"\",'Data Input'!A398,\"\")","v":""},{"$f":"IF('Data Input'!B398<>\"\",'Data Input'!B398,\"\")","v":""},{"$f":"IF('Data Input'!C398<>\"\",'Data Input'!C398,\"\")","v":""},{"$f":"IF('Data Input'!D398<>\"\",'Data Input'!D398,\"\")","v":""},{"$f":"IF('Data Input'!E398<>\"\",'Data Input'!E398,\"\")","v":""},{"$f":"IF('Data Input'!F398<>\"\",'Data Input'!F398,\"\")","v":""},{"$f":"IF('Data Input'!A450<>\"\",'Data Input'!A450,\"\")","v":""},{"$f":"IF('Data Input'!B450<>\"\",'Data Input'!B450,\"\")","v":""},{"$f":"IF('Data Input'!C450<>\"\",'Data Input'!C450,\"\")","v":""},{"$f":"IF('Data Input'!D450<>\"\",'Data Input'!D450,\"\")","v":""},{"$f":"IF('Data Input'!E450<>\"\",'Data Input'!E450,\"\")","v":""},{"$f":"IF('Data Input'!F450<>\"\",'Data Input'!F450,\"\")","v":""}]
[{"$f":"IF('Data Input'!A399<>\"\",'Data Input'!A399,\"\")","v":""},{"$f":"IF('Data Input'!B399<>\"\",'Data Input'!B399,\"\")","v":""},{"$f":"IF('Data Input'!C399<>\"\",'Data Input'!C399,\"\")","v":""},{"$f":"IF('Data Input'!D399<>\"\",'Data Input'!D399,\"\")","v":""},{"$f":"IF('Data Input'!E399<>\"\",'Data Input'!E399,\"\")","v":""},{"$f":"IF('Data Input'!F399<>\"\",'Data Input'!F399,\"\")","v":""},{"$f":"IF('Data Input'!A451<>\"\",'Data Input'!A451,\"\")","v":""},{"$f":"IF('Data Input'!B451<>\"\",'Data Input'!B451,\"\")","v":""},{"$f":"IF('Data Input'!C451<>\"\",'Data Input'!C451,\"\")","v":""},{"$f":"IF('Data Input'!D451<>\"\",'Data Input'!D451,\"\")","v":""},{"$f":"IF('Data Input'!E451<>\"\",'Data Input'!E451,\"\")","v":""},{"$f":"IF('Data Input'!F451<>\"\",'Data Input'!F451,\"\")","v":""}]
[{"$f":"IF('Data Input'!A400<>\"\",'Data Input'!A400,\"\")","v":""},{"$f":"IF('Data Input'!B400<>\"\",'Data Input'!B400,\"\")","v":""},{"$f":"IF('Data Input'!C400<>\"\",'Data Input'!C400,\"\")","v":""},{"$f":"IF('Data Input'!D400<>\"\",'Data Input'!D400,\"\")","v":""},{"$f":"IF('Data Input'!E400<>\"\",'Data Input'!E400,\"\")","v":""},{"$f":"IF('Data Input'!F400<>\"\",'Data Input'!F400,\"\")","v":""},{"$f":"IF('Data Input'!A452<>\"\",'Data Input'!A452,\"\")","v":""},{"$f":"IF('Data Input'!B452<>\"\",'Data Input'!B452,\"\")","v":""},{"$f":"IF('Data Input'!C452<>\"\",'Data Input'!C452,\"\")","v":""},{"$f":"IF('Data Input'!D452<>\"\",'Data Input'!D452,\"\")","v":""},{"$f":"IF('Data Input'!E452<>\"\",'Data Input'!E452,\"\")","v":""},{"$f":"IF('Data Input'!F452<>\"\",'Data Input'!F452,\"\")","v":""}]
[{"$f":"IF('Data Input'!A401<>\"\",'Data Input'!A401,\"\")","v":""},{"$f":"IF('Data Input'!B401<>\"\",'Data Input'!B401,\"\")","v":""},{"$f":"IF('Data Input'!C401<>\"\",'Data Input'!C401,\"\")","v":""},{"$f":"IF('Data Input'!D401<>\"\",'Data Input'!D401,\"\")","v":""},{"$f":"IF('Data Input'!E401<>\"\",'Data Input'!E401,\"\")","v":""},{"$f":"IF('Data Input'!F401<>\"\",'Data Input'!F401,\"\")","v":""},{"$f":"IF('Data Input'!A453<>\"\",'Data Input'!A453,\"\")","v":""},{"$f":"IF('Data Input'!B453<>\"\",'Data Input'!B453,\"\")","v":""},{"$f":"IF('Data Input'!C453<>\"\",'Data Input'!C453,\"\")","v":""},{"$f":"IF('Data Input'!D453<>\"\",'Data Input'!D453,\"\")","v":""},{"$f":"IF('Data Input'!E453<>\"\",'Data Input'!E453,\"\")","v":""},{"$f":"IF('Data Input'!F453<>\"\",'Data Input'!F453,\"\")","v":""}]
[{"$f":"IF('Data Input'!A402<>\"\",'Data Input'!A402,\"\")","v":""},{"$f":"IF('Data Input'!B402<>\"\",'Data Input'!B402,\"\")","v":""},{"$f":"IF('Data Input'!C402<>\"\",'Data Input'!C402,\"\")","v":""},{"$f":"IF('Data Input'!D402<>\"\",'Data Input'!D402,\"\")","v":""},{"$f":"IF('Data Input'!E402<>\"\",'Data Input'!E402,\"\")","v":""},{"$f":"IF('Data Input'!F402<>\"\",'Data Input'!F402,\"\")","v":""},{"$f":"IF('Data Input'!A454<>\"\",'Data Input'!A454,\"\")","v":""},{"$f":"IF('Data Input'!B454<>\"\",'Data Input'!B454,\"\")","v":""},{"$f":"IF('Data Input'!C454<>\"\",'Data Input'!C454,\"\")","v":""},{"$f":"IF('Data Input'!D454<>\"\",'Data Input'!D454,\"\")","v":""},{"$f":"IF('Data Input'!E454<>\"\",'Data Input'!E454,\"\")","v":""},{"$f":"IF('Data Input'!F454<>\"\",'Data Input'!F454,\"\")","v":""}]
[{"$f":"IF('Data Input'!A403<>\"\",'Data Input'!A403,\"\")","v":""},{"$f":"IF('Data Input'!B403<>\"\",'Data Input'!B403,\"\")","v":""},{"$f":"IF('Data Input'!C403<>\"\",'Data Input'!C403,\"\")","v":""},{"$f":"IF('Data Input'!D403<>\"\",'Data Input'!D403,\"\")","v":""},{"$f":"IF('Data Input'!E403<>\"\",'Data Input'!E403,\"\")","v":""},{"$f":"IF('Data Input'!F403<>\"\",'Data Input'!F403,\"\")","v":""},{"$f":"IF('Data Input'!A455<>\"\",'Data Input'!A455,\"\")","v":""},{"$f":"IF('Data Input'!B455<>\"\",'Data Input'!B455,\"\")","v":""},{"$f":"IF('Data Input'!C455<>\"\",'Data Input'!C455,\"\")","v":""},{"$f":"IF('Data Input'!D455<>\"\",'Data Input'!D455,\"\")","v":""},{"$f":"IF('Data Input'!E455<>\"\",'Data Input'!E455,\"\")","v":""},{"$f":"IF('Data Input'!F455<>\"\",'Data Input'!F455,\"\")","v":""}]
[{"$f":"IF('Data Input'!A404<>\"\",'Data Input'!A404,\"\")","v":""},{"$f":"IF('Data Input'!B404<>\"\",'Data Input'!B404,\"\")","v":""},{"$f":"IF('Data Input'!C404<>\"\",'Data Input'!C404,\"\")","v":""},{"$f":"IF('Data Input'!D404<>\"\",'Data Input'!D404,\"\")","v":""},{"$f":"IF('Data Input'!E404<>\"\",'Data Input'!E404,\"\")","v":""},{"$f":"IF('Data Input'!F404<>\"\",'Data Input'!F404,\"\")","v":""},{"$f":"IF('Data Input'!A456<>\"\",'Data Input'!A456,\"\")","v":""},{"$f":"IF('Data Input'!B456<>\"\",'Data Input'!B456,\"\")","v":""},{"$f":"IF('Data Input'!C456<>\"\",'Data Input'!C456,\"\")","v":""},{"$f":"IF('Data Input'!D456<>\"\",'Data Input'!D456,\"\")","v":""},{"$f":"IF('Data Input'!E456<>\"\",'Data Input'!E456,\"\")","v":""},{"$f":"IF('Data Input'!F456<>\"\",'Data Input'!F456,\"\")","v":""}]
[{"$f":"IF('Data Input'!A405<>\"\",'Data Input'!A405,\"\")","v":""},{"$f":"IF('Data Input'!B405<>\"\",'Data Input'!B405,\"\")","v":""},{"$f":"IF('Data Input'!C405<>\"\",'Data Input'!C405,\"\")","v":""},{"$f":"IF('Data Input'!D405<>\"\",'Data Input'!D405,\"\")","v":""},{"$f":"IF('Data Input'!E405<>\"\",'Data Input'!E405,\"\")","v":""},{"$f":"IF('Data Input'!F405<>\"\",'Data Input'!F405,\"\")","v":""},{"$f":"IF('Data Input'!A457<>\"\",'Data Input'!A457,\"\")","v":""},{"$f":"IF('Data Input'!B457<>\"\",'Data Input'!B457,\"\")","v":""},{"$f":"IF('Data Input'!C457<>\"\",'Data Input'!C457,\"\")","v":""},{"$f":"IF('Data Input'!D457<>\"\",'Data Input'!D457,\"\")","v":""},{"$f":"IF('Data Input'!E457<>\"\",'Data Input'!E457,\"\")","v":""},{"$f":"IF('Data Input'!F457<>\"\",'Data Input'!F457,\"\")","v":""}]
[{"$f":"IF('Data Input'!A406<>\"\",'Data Input'!A406,\"\")","v":""},{"$f":"IF('Data Input'!B406<>\"\",'Data Input'!B406,\"\")","v":""},{"$f":"IF('Data Input'!C406<>\"\",'Data Input'!C406,\"\")","v":""},{"$f":"IF('Data Input'!D406<>\"\",'Data Input'!D406,\"\")","v":""},{"$f":"IF('Data Input'!E406<>\"\",'Data Input'!E406,\"\")","v":""},{"$f":"IF('Data Input'!F406<>\"\",'Data Input'!F406,\"\")","v":""},{"$f":"IF('Data Input'!A458<>\"\",'Data Input'!A458,\"\")","v":""},{"$f":"IF('Data Input'!B458<>\"\",'Data Input'!B458,\"\")","v":""},{"$f":"IF('Data Input'!C458<>\"\",'Data Input'!C458,\"\")","v":""},{"$f":"IF('Data Input'!D458<>\"\",'Data Input'!D458,\"\")","v":""},{"$f":"IF('Data Input'!E458<>\"\",'Data Input'!E458,\"\")","v":""},{"$f":"IF('Data Input'!F458<>\"\",'Data Input'!F458,\"\")","v":""}]
[{"$f":"IF('Data Input'!A407<>\"\",'Data Input'!A407,\"\")","v":""},{"$f":"IF('Data Input'!B407<>\"\",'Data Input'!B407,\"\")","v":""},{"$f":"IF('Data Input'!C407<>\"\",'Data Input'!C407,\"\")","v":""},{"$f":"IF('Data Input'!D407<>\"\",'Data Input'!D407,\"\")","v":""},{"$f":"IF('Data Input'!E407<>\"\",'Data Input'!E407,\"\")","v":""},{"$f":"IF('Data Input'!F407<>\"\",'Data Input'!F407,\"\")","v":""},{"$f":"IF('Data Input'!A459<>\"\",'Data Input'!A459,\"\")","v":""},{"$f":"IF('Data Input'!B459<>\"\",'Data Input'!B459,\"\")","v":""},{"$f":"IF('Data Input'!C459<>\"\",'Data Input'!C459,\"\")","v":""},{"$f":"IF('Data Input'!D459<>\"\",'Data Input'!D459,\"\")","v":""},{"$f":"IF('Data Input'!E459<>\"\",'Data Input'!E459,\"\")","v":""},{"$f":"IF('Data Input'!F459<>\"\",'Data Input'!F459,\"\")","v":""}]
[{"$f":"IF('Data Input'!A408<>\"\",'Data Input'!A408,\"\")","v":""},{"$f":"IF('Data Input'!B408<>\"\",'Data Input'!B408,\"\")","v":""},{"$f":"IF('Data Input'!C408<>\"\",'Data Input'!C408,\"\")","v":""},{"$f":"IF('Data Input'!D408<>\"\",'Data Input'!D408,\"\")","v":""},{"$f":"IF('Data Input'!E408<>\"\",'Data Input'!E408,\"\")","v":""},{"$f":"IF('Data Input'!F408<>\"\",'Data Input'!F408,\"\")","v":""},{"$f":"IF('Data Input'!A460<>\"\",'Data Input'!A460,\"\")","v":""},{"$f":"IF('Data Input'!B460<>\"\",'Data Input'!B460,\"\")","v":""},{"$f":"IF('Data Input'!C460<>\"\",'Data Input'!C460,\"\")","v":""},{"$f":"IF('Data Input'!D460<>\"\",'Data Input'!D460,\"\")","v":""},{"$f":"IF('Data Input'!E460<>\"\",'Data Input'!E460,\"\")","v":""},{"$f":"IF('Data Input'!F460<>\"\",'Data Input'!F460,\"\")","v":""}]
[{"$f":"IF('Data Input'!A409<>\"\",'Data Input'!A409,\"\")","v":""},{"$f":"IF('Data Input'!B409<>\"\",'Data Input'!B409,\"\")","v":""},{"$f":"IF('Data Input'!C409<>\"\",'Data Input'!C409,\"\")","v":""},{"$f":"IF('Data Input'!D409<>\"\",'Data Input'!D409,\"\")","v":""},{"$f":"IF('Data Input'!E409<>\"\",'Data Input'!E409,\"\")","v":""},{"$f":"IF('Data Input'!F409<>\"\",'Data Input'!F409,\"\")","v":""},{"$f":"IF('Data Input'!A461<>\"\",'Data Input'!A461,\"\")","v":""},{"$f":"IF('Data Input'!B461<>\"\",'Data Input'!B461,\"\")","v":""},{"$f":"IF('Data Input'!C461<>\"\",'Data Input'!C461,\"\")","v":""},{"$f":"IF('Data Input'!D461<>\"\",'Data Input'!D461,\"\")","v":""},{"$f":"IF('Data Input'!E461<>\"\",'Data Input'!E461,\"\")","v":""},{"$f":"IF('Data Input'!F461<>\"\",'Data Input'!F461,\"\")","v":""}]
[{"$f":"IF('Data Input'!A410<>\"\",'Data Input'!A410,\"\")","v":""},{"$f":"IF('Data Input'!B410<>\"\",'Data Input'!B410,\"\")","v":""},{"$f":"IF('Data Input'!C410<>\"\",'Data Input'!C410,\"\")","v":""},{"$f":"IF('Data Input'!D410<>\"\",'Data Input'!D410,\"\")","v":""},{"$f":"IF('Data Input'!E410<>\"\",'Data Input'!E410,\"\")","v":""},{"$f":"IF('Data Input'!F410<>\"\",'Data Input'!F410,\"\")","v":""},{"$f":"IF('Data Input'!A462<>\"\",'Data Input'!A462,\"\")","v":""},{"$f":"IF('Data Input'!B462<>\"\",'Data Input'!B462,\"\")","v":""},{"$f":"IF('Data Input'!C462<>\"\",'Data Input'!C462,\"\")","v":""},{"$f":"IF('Data Input'!D462<>\"\",'Data Input'!D462,\"\")","v":""},{"$f":"IF('Data Input'!E462<>\"\",'Data Input'!E462,\"\")","v":""},{"$f":"IF('Data Input'!F462<>\"\",'Data Input'!F462,\"\")","v":""}]
[{"$f":"IF('Data Input'!A411<>\"\",'Data Input'!A411,\"\")","v":""},{"$f":"IF('Data Input'!B411<>\"\",'Data Input'!B411,\"\")","v":""},{"$f":"IF('Data Input'!C411<>\"\",'Data Input'!C411,\"\")","v":""},{"$f":"IF('Data Input'!D411<>\"\",'Data Input'!D411,\"\")","v":""},{"$f":"IF('Data Input'!E411<>\"\",'Data Input'!E411,\"\")","v":""},{"$f":"IF('Data Input'!F411<>\"\",'Data Input'!F411,\"\")","v":""},{"$f":"IF('Data Input'!A463<>\"\",'Data Input'!A463,\"\")","v":""},{"$f":"IF('Data Input'!B463<>\"\",'Data Input'!B463,\"\")","v":""},{"$f":"IF('Data Input'!C463<>\"\",'Data Input'!C463,\"\")","v":""},{"$f":"IF('Data Input'!D463<>\"\",'Data Input'!D463,\"\")","v":""},{"$f":"IF('Data Input'!E463<>\"\",'Data Input'!E463,\"\")","v":""},{"$f":"IF('Data Input'!F463<>\"\",'Data Input'!F463,\"\")","v":""}]
[{"$f":"IF('Data Input'!A412<>\"\",'Data Input'!A412,\"\")","v":""},{"$f":"IF('Data Input'!B412<>\"\",'Data Input'!B412,\"\")","v":""},{"$f":"IF('Data Input'!C412<>\"\",'Data Input'!C412,\"\")","v":""},{"$f":"IF('Data Input'!D412<>\"\",'Data Input'!D412,\"\")","v":""},{"$f":"IF('Data Input'!E412<>\"\",'Data Input'!E412,\"\")","v":""},{"$f":"IF('Data Input'!F412<>\"\",'Data Input'!F412,\"\")","v":""},{"$f":"IF('Data Input'!A464<>\"\",'Data Input'!A464,\"\")","v":""},{"$f":"IF('Data Input'!B464<>\"\",'Data Input'!B464,\"\")","v":""},{"$f":"IF('Data Input'!C464<>\"\",'Data Input'!C464,\"\")","v":""},{"$f":"IF('Data Input'!D464<>\"\",'Data Input'!D464,\"\")","v":""},{"$f":"IF('Data Input'!E464<>\"\",'Data Input'!E464,\"\")","v":""},{"$f":"IF('Data Input'!F464<>\"\",'Data Input'!F464,\"\")","v":""}]
[{"$f":"IF('Data Input'!A413<>\"\",'Data Input'!A413,\"\")","v":""},{"$f":"IF('Data Input'!B413<>\"\",'Data Input'!B413,\"\")","v":""},{"$f":"IF('Data Input'!C413<>\"\",'Data Input'!C413,\"\")","v":""},{"$f":"IF('Data Input'!D413<>\"\",'Data Input'!D413,\"\")","v":""},{"$f":"IF('Data Input'!E413<>\"\",'Data Input'!E413,\"\")","v":""},{"$f":"IF('Data Input'!F413<>\"\",'Data Input'!F413,\"\")","v":""},{"$f":"IF('Data Input'!A465<>\"\",'Data Input'!A465,\"\")","v":""},{"$f":"IF('Data Input'!B465<>\"\",'Data Input'!B465,\"\")","v":""},{"$f":"IF('Data Input'!C465<>\"\",'Data Input'!C465,\"\")","v":""},{"$f":"IF('Data Input'!D465<>\"\",'Data Input'!D465,\"\")","v":""},{"$f":"IF('Data Input'!E465<>\"\",'Data Input'!E465,\"\")","v":""},{"$f":"IF('Data Input'!F465<>\"\",'Data Input'!F465,\"\")","v":""}]
[{"$f":"IF('Data Input'!A414<>\"\",'Data Input'!A414,\"\")","v":""},{"$f":"IF('Data Input'!B414<>\"\",'Data Input'!B414,\"\")","v":""},{"$f":"IF('Data Input'!C414<>\"\",'Data Input'!C414,\"\")","v":""},{"$f":"IF('Data Input'!D414<>\"\",'Data Input'!D414,\"\")","v":""},{"$f":"IF('Data Input'!E414<>\"\",'Data Input'!E414,\"\")","v":""},{"$f":"IF('Data Input'!F414<>\"\",'Data Input'!F414,\"\")","v":""},{"$f":"IF('Data Input'!A466<>\"\",'Data Input'!A466,\"\")","v":""},{"$f":"IF('Data Input'!B466<>\"\",'Data Input'!B466,\"\")","v":""},{"$f":"IF('Data Input'!C466<>\"\",'Data Input'!C466,\"\")","v":""},{"$f":"IF('Data Input'!D466<>\"\",'Data Input'!D466,\"\")","v":""},{"$f":"IF('Data Input'!E466<>\"\",'Data Input'!E466,\"\")","v":""},{"$f":"IF('Data Input'!F466<>\"\",'Data Input'!F466,\"\")","v":""}]
[{"$f":"IF('Data Input'!A415<>\"\",'Data Input'!A415,\"\")","v":""},{"$f":"IF('Data Input'!B415<>\"\",'Data Input'!B415,\"\")","v":""},{"$f":"IF('Data Input'!C415<>\"\",'Data Input'!C415,\"\")","v":""},{"$f":"IF('Data Input'!D415<>\"\",'Data Input'!D415,\"\")","v":""},{"$f":"IF('Data Input'!E415<>\"\",'Data Input'!E415,\"\")","v":""},{"$f":"IF('Data Input'!F415<>\"\",'Data Input'!F415,\"\")","v":""},{"$f":"IF('Data Input'!A467<>\"\",'Data Input'!A467,\"\")","v":""},{"$f":"IF('Data Input'!B467<>\"\",'Data Input'!B467,\"\")","v":""},{"$f":"IF('Data Input'!C467<>\"\",'Data Input'!C467,\"\")","v":""},{"$f":"IF('Data Input'!D467<>\"\",'Data Input'!D467,\"\")","v":""},{"$f":"IF('Data Input'!E467<>\"\",'Data Input'!E467,\"\")","v":""},{"$f":"IF('Data Input'!F467<>\"\",'Data Input'!F467,\"\")","v":""}]
[{"$f":"IF('Data Input'!A416<>\"\",'Data Input'!A416,\"\")","v":""},{"$f":"IF('Data Input'!B416<>\"\",'Data Input'!B416,\"\")","v":""},{"$f":"IF('Data Input'!C416<>\"\",'Data Input'!C416,\"\")","v":""},{"$f":"IF('Data Input'!D416<>\"\",'Data Input'!D416,\"\")","v":""},{"$f":"IF('Data Input'!E416<>\"\",'Data Input'!E416,\"\")","v":""},{"$f":"IF('Data Input'!F416<>\"\",'Data Input'!F416,\"\")","v":""},{"$f":"IF('Data Input'!A468<>\"\",'Data Input'!A468,\"\")","v":""},{"$f":"IF('Data Input'!B468<>\"\",'Data Input'!B468,\"\")","v":""},{"$f":"IF('Data Input'!C468<>\"\",'Data Input'!C468,\"\")","v":""},{"$f":"IF('Data Input'!D468<>\"\",'Data Input'!D468,\"\")","v":""},{"$f":"IF('Data Input'!E468<>\"\",'Data Input'!E468,\"\")","v":""},{"$f":"IF('Data Input'!F468<>\"\",'Data Input'!F468,\"\")","v":""}]
[{"$f":"IF('Data Input'!A417<>\"\",'Data Input'!A417,\"\")","v":""},{"$f":"IF('Data Input'!B417<>\"\",'Data Input'!B417,\"\")","v":""},{"$f":"IF('Data Input'!C417<>\"\",'Data Input'!C417,\"\")","v":""},{"$f":"IF('Data Input'!D417<>\"\",'Data Input'!D417,\"\")","v":""},{"$f":"IF('Data Input'!E417<>\"\",'Data Input'!E417,\"\")","v":""},{"$f":"IF('Data Input'!F417<>\"\",'Data Input'!F417,\"\")","v":""},{"$f":"IF('Data Input'!A469<>\"\",'Data Input'!A469,\"\")","v":""},{"$f":"IF('Data Input'!B469<>\"\",'Data Input'!B469,\"\")","v":""},{"$f":"IF('Data Input'!C469<>\"\",'Data Input'!C469,\"\")","v":""},{"$f":"IF('Data Input'!D469<>\"\",'Data Input'!D469,\"\")","v":""},{"$f":"IF('Data Input'!E469<>\"\",'Data Input'!E469,\"\")","v":""},{"$f":"IF('Data Input'!F469<>\"\",'Data Input'!F469,\"\")","v":""}]
[{"$f":"IF('Data Input'!A418<>\"\",'Data Input'!A418,\"\")","v":""},{"$f":"IF('Data Input'!B418<>\"\",'Data Input'!B418,\"\")","v":""},{"$f":"IF('Data Input'!C418<>\"\",'Data Input'!C418,\"\")","v":""},{"$f":"IF('Data Input'!D418<>\"\",'Data Input'!D418,\"\")","v":""},{"$f":"IF('Data Input'!E418<>\"\",'Data Input'!E418,\"\")","v":""},{"$f":"IF('Data Input'!F418<>\"\",'Data Input'!F418,\"\")","v":""},{"$f":"IF('Data Input'!A470<>\"\",'Data Input'!A470,\"\")","v":""},{"$f":"IF('Data Input'!B470<>\"\",'Data Input'!B470,\"\")","v":""},{"$f":"IF('Data Input'!C470<>\"\",'Data Input'!C470,\"\")","v":""},{"$f":"IF('Data Input'!D470<>\"\",'Data Input'!D470,\"\")","v":""},{"$f":"IF('Data Input'!E470<>\"\",'Data Input'!E470,\"\")","v":""},{"$f":"IF('Data Input'!F470<>\"\",'Data Input'!F470,\"\")","v":""}]
[{"$f":"IF('Data Input'!A419<>\"\",'Data Input'!A419,\"\")","v":""},{"$f":"IF('Data Input'!B419<>\"\",'Data Input'!B419,\"\")","v":""},{"$f":"IF('Data Input'!C419<>\"\",'Data Input'!C419,\"\")","v":""},{"$f":"IF('Data Input'!D419<>\"\",'Data Input'!D419,\"\")","v":""},{"$f":"IF('Data Input'!E419<>\"\",'Data Input'!E419,\"\")","v":""},{"$f":"IF('Data Input'!F419<>\"\",'Data Input'!F419,\"\")","v":""},{"$f":"IF('Data Input'!A471<>\"\",'Data Input'!A471,\"\")","v":""},{"$f":"IF('Data Input'!B471<>\"\",'Data Input'!B471,\"\")","v":""},{"$f":"IF('Data Input'!C471<>\"\",'Data Input'!C471,\"\")","v":""},{"$f":"IF('Data Input'!D471<>\"\",'Data Input'!D471,\"\")","v":""},{"$f":"IF('Data Input'!E471<>\"\",'Data Input'!E471,\"\")","v":""},{"$f":"IF('Data Input'!F471<>\"\",'Data Input'!F471,\"\")","v":""}]
[{"$f":"IF('Data Input'!A420<>\"\",'Data Input'!A420,\"\")","v":""},{"$f":"IF('Data Input'!B420<>\"\",'Data Input'!B420,\"\")","v":""},{"$f":"IF('Data Input'!C420<>\"\",'Data Input'!C420,\"\")","v":""},{"$f":"IF('Data Input'!D420<>\"\",'Data Input'!D420,\"\")","v":""},{"$f":"IF('Data Input'!E420<>\"\",'Data Input'!E420,\"\")","v":""},{"$f":"IF('Data Input'!F420<>\"\",'Data Input'!F420,\"\")","v":""},{"$f":"IF('Data Input'!A472<>\"\",'Data Input'!A472,\"\")","v":""},{"$f":"IF('Data Input'!B472<>\"\",'Data Input'!B472,\"\")","v":""},{"$f":"IF('Data Input'!C472<>\"\",'Data Input'!C472,\"\")","v":""},{"$f":"IF('Data Input'!D472<>\"\",'Data Input'!D472,\"\")","v":""},{"$f":"IF('Data Input'!E472<>\"\",'Data Input'!E472,\"\")","v":""},{"$f":"IF('Data Input'!F472<>\"\",'Data Input'!F472,\"\")","v":""}]
[{"$f":"IF('Data Input'!A421<>\"\",'Data Input'!A421,\"\")","v":""},{"$f":"IF('Data Input'!B421<>\"\",'Data Input'!B421,\"\")","v":""},{"$f":"IF('Data Input'!C421<>\"\",'Data Input'!C421,\"\")","v":""},{"$f":"IF('Data Input'!D421<>\"\",'Data Input'!D421,\"\")","v":""},{"$f":"IF('Data Input'!E421<>\"\",'Data Input'!E421,\"\")","v":""},{"$f":"IF('Data Input'!F421<>\"\",'Data Input'!F421,\"\")","v":""},{"$f":"IF('Data Input'!A473<>\"\",'Data Input'!A473,\"\")","v":""},{"$f":"IF('Data Input'!B473<>\"\",'Data Input'!B473,\"\")","v":""},{"$f":"IF('Data Input'!C473<>\"\",'Data Input'!C473,\"\")","v":""},{"$f":"IF('Data Input'!D473<>\"\",'Data Input'!D473,\"\")","v":""},{"$f":"IF('Data Input'!E473<>\"\",'Data Input'!E473,\"\")","v":""},{"$f":"IF('Data Input'!F473<>\"\",'Data Input'!F473,\"\")","v":""}]
[{"$f":"IF('Data Input'!A422<>\"\",'Data Input'!A422,\"\")","v":""},{"$f":"IF('Data Input'!B422<>\"\",'Data Input'!B422,\"\")","v":""},{"$f":"IF('Data Input'!C422<>\"\",'Data Input'!C422,\"\")","v":""},{"$f":"IF('Data Input'!D422<>\"\",'Data Input'!D422,\"\")","v":""},{"$f":"IF('Data Input'!E422<>\"\",'Data Input'!E422,\"\")","v":""},{"$f":"IF('Data Input'!F422<>\"\",'Data Input'!F422,\"\")","v":""},{"$f":"IF('Data Input'!A474<>\"\",'Data Input'!A474,\"\")","v":""},{"$f":"IF('Data Input'!B474<>\"\",'Data Input'!B474,\"\")","v":""},{"$f":"IF('Data Input'!C474<>\"\",'Data Input'!C474,\"\")","v":""},{"$f":"IF('Data Input'!D474<>\"\",'Data Input'!D474,\"\")","v":""},{"$f":"IF('Data Input'!E474<>\"\",'Data Input'!E474,\"\")","v":""},{"$f":"IF('Data Input'!F474<>\"\",'Data Input'!F474,\"\")","v":""}]
[{"$f":"IF('Data Input'!A423<>\"\",'Data Input'!A423,\"\")","v":""},{"$f":"IF('Data Input'!B423<>\"\",'Data Input'!B423,\"\")","v":""},{"$f":"IF('Data Input'!C423<>\"\",'Data Input'!C423,\"\")","v":""},{"$f":"IF('Data Input'!D423<>\"\",'Data Input'!D423,\"\")","v":""},{"$f":"IF('Data Input'!E423<>\"\",'Data Input'!E423,\"\")","v":""},{"$f":"IF('Data Input'!F423<>\"\",'Data Input'!F423,\"\")","v":""},{"$f":"IF('Data Input'!A475<>\"\",'Data Input'!A475,\"\")","v":""},{"$f":"IF('Data Input'!B475<>\"\",'Data Input'!B475,\"\")","v":""},{"$f":"IF('Data Input'!C475<>\"\",'Data Input'!C475,\"\")","v":""},{"$f":"IF('Data Input'!D475<>\"\",'Data Input'!D475,\"\")","v":""},{"$f":"IF('Data Input'!E475<>\"\",'Data Input'!E475,\"\")","v":""},{"$f":"IF('Data Input'!F475<>\"\",'Data Input'!F475,\"\")","v":""}]
[{"$f":"IF('Data Input'!A424<>\"\",'Data Input'!A424,\"\")","v":""},{"$f":"IF('Data Input'!B424<>\"\",'Data Input'!B424,\"\")","v":""},{"$f":"IF('Data Input'!C424<>\"\",'Data Input'!C424,\"\")","v":""},{"$f":"IF('Data Input'!D424<>\"\",'Data Input'!D424,\"\")","v":""},{"$f":"IF('Data Input'!E424<>\"\",'Data Input'!E424,\"\")","v":""},{"$f":"IF('Data Input'!F424<>\"\",'Data Input'!F424,\"\")","v":""},{"$f":"IF('Data Input'!A476<>\"\",'Data Input'!A476,\"\")","v":""},{"$f":"IF('Data Input'!B476<>\"\",'Data Input'!B476,\"\")","v":""},{"$f":"IF('Data Input'!C476<>\"\",'Data Input'!C476,\"\")","v":""},{"$f":"IF('Data Input'!D476<>\"\",'Data Input'!D476,\"\")","v":""},{"$f":"IF('Data Input'!E476<>\"\",'Data Input'!E476,\"\")","v":""},{"$f":"IF('Data Input'!F476<>\"\",'Data Input'!F476,\"\")","v":""}]
[{"$f":"IF('Data Input'!A425<>\"\",'Data Input'!A425,\"\")","v":""},{"$f":"IF('Data Input'!B425<>\"\",'Data Input'!B425,\"\")","v":""},{"$f":"IF('Data Input'!C425<>\"\",'Data Input'!C425,\"\")","v":""},{"$f":"IF('Data Input'!D425<>\"\",'Data Input'!D425,\"\")","v":""},{"$f":"IF('Data Input'!E425<>\"\",'Data Input'!E425,\"\")","v":""},{"$f":"IF('Data Input'!F425<>\"\",'Data Input'!F425,\"\")","v":""},{"$f":"IF('Data Input'!A477<>\"\",'Data Input'!A477,\"\")","v":""},{"$f":"IF('Data Input'!B477<>\"\",'Data Input'!B477,\"\")","v":""},{"$f":"IF('Data Input'!C477<>\"\",'Data Input'!C477,\"\")","v":""},{"$f":"IF('Data Input'!D477<>\"\",'Data Input'!D477,\"\")","v":""},{"$f":"IF('Data Input'!E477<>\"\",'Data Input'!E477,\"\")","v":""},{"$f":"IF('Data Input'!F477<>\"\",'Data Input'!F477,\"\")","v":""}]
[{"$f":"IF('Data Input'!A426<>\"\",'Data Input'!A426,\"\")","v":""},{"$f":"IF('Data Input'!B426<>\"\",'Data Input'!B426,\"\")","v":""},{"$f":"IF('Data Input'!C426<>\"\",'Data Input'!C426,\"\")","v":""},{"$f":"IF('Data Input'!D426<>\"\",'Data Input'!D426,\"\")","v":""},{"$f":"IF('Data Input'!E426<>\"\",'Data Input'!E426,\"\")","v":""},{"$f":"IF('Data Input'!F426<>\"\",'Data Input'!F426,\"\")","v":""},{"$f":"IF('Data Input'!A478<>\"\",'Data Input'!A478,\"\")","v":""},{"$f":"IF('Data Input'!B478<>\"\",'Data Input'!B478,\"\")","v":""},{"$f":"IF('Data Input'!C478<>\"\",'Data Input'!C478,\"\")","v":""},{"$f":"IF('Data Input'!D478<>\"\",'Data Input'!D478,\"\")","v":""},{"$f":"IF('Data Input'!E478<>\"\",'Data Input'!E478,\"\")","v":""},{"$f":"IF('Data Input'!F478<>\"\",'Data Input'!F478,\"\")","v":""}]
[{"$f":"IF('Data Input'!A427<>\"\",'Data Input'!A427,\"\")","v":""},{"$f":"IF('Data Input'!B427<>\"\",'Data Input'!B427,\"\")","v":""},{"$f":"IF('Data Input'!C427<>\"\",'Data Input'!C427,\"\")","v":""},{"$f":"IF('Data Input'!D427<>\"\",'Data Input'!D427,\"\")","v":""},{"$f":"IF('Data Input'!E427<>\"\",'Data Input'!E427,\"\")","v":""},{"$f":"IF('Data Input'!F427<>\"\",'Data Input'!F427,\"\")","v":""},{"$f":"IF('Data Input'!A479<>\"\",'Data Input'!A479,\"\")","v":""},{"$f":"IF('Data Input'!B479<>\"\",'Data Input'!B479,\"\")","v":""},{"$f":"IF('Data Input'!C479<>\"\",'Data Input'!C479,\"\")","v":""},{"$f":"IF('Data Input'!D479<>\"\",'Data Input'!D479,\"\")","v":""},{"$f":"IF('Data Input'!E479<>\"\",'Data Input'!E479,\"\")","v":""},{"$f":"IF('Data Input'!F479<>\"\",'Data Input'!F479,\"\")","v":""}]
[{"$f":"IF('Data Input'!A428<>\"\",'Data Input'!A428,\"\")","v":""},{"$f":"IF('Data Input'!B428<>\"\",'Data Input'!B428,\"\")","v":""},{"$f":"IF('Data Input'!C428<>\"\",'Data Input'!C428,\"\")","v":""},{"$f":"IF('Data Input'!D428<>\"\",'Data Input'!D428,\"\")","v":""},{"$f":"IF('Data Input'!E428<>\"\",'Data Input'!E428,\"\")","v":""},{"$f":"IF('Data Input'!F428<>\"\",'Data Input'!F428,\"\")","v":""},{"$f":"IF('Data Input'!A480<>\"\",'Data Input'!A480,\"\")","v":""},{"$f":"IF('Data Input'!B480<>\"\",'Data Input'!B480,\"\")","v":""},{"$f":"IF('Data Input'!C480<>\"\",'Data Input'!C480,\"\")","v":""},{"$f":"IF('Data Input'!D480<>\"\",'Data Input'!D480,\"\")","v":""},{"$f":"IF('Data Input'!E480<>\"\",'Data Input'!E480,\"\")","v":""},{"$f":"IF('Data Input'!F480<>\"\",'Data Input'!F480,\"\")","v":""}]
[{"$f":"IF('Data Input'!A429<>\"\",'Data Input'!A429,\"\")","v":""},{"$f":"IF('Data Input'!B429<>\"\",'Data Input'!B429,\"\")","v":""},{"$f":"IF('Data Input'!C429<>\"\",'Data Input'!C429,\"\")","v":""},{"$f":"IF('Data Input'!D429<>\"\",'Data Input'!D429,\"\")","v":""},{"$f":"IF('Data Input'!E429<>\"\",'Data Input'!E429,\"\")","v":""},{"$f":"IF('Data Input'!F429<>\"\",'Data Input'!F429,\"\")","v":""},{"$f":"IF('Data Input'!A481<>\"\",'Data Input'!A481,\"\")","v":""},{"$f":"IF('Data Input'!B481<>\"\",'Data Input'!B481,\"\")","v":""},{"$f":"IF('Data Input'!C481<>\"\",'Data Input'!C481,\"\")","v":""},{"$f":"IF('Data Input'!D481<>\"\",'Data Input'!D481,\"\")","v":""},{"$f":"IF('Data Input'!E481<>\"\",'Data Input'!E481,\"\")","v":""},{"$f":"IF('Data Input'!F481<>\"\",'Data Input'!F481,\"\")","v":""}]
[{"$f":"IF('Data Input'!A430<>\"\",'Data Input'!A430,\"\")","v":""},{"$f":"IF('Data Input'!B430<>\"\",'Data Input'!B430,\"\")","v":""},{"$f":"IF('Data Input'!C430<>\"\",'Data Input'!C430,\"\")","v":""},{"$f":"IF('Data Input'!D430<>\"\",'Data Input'!D430,\"\")","v":""},{"$f":"IF('Data Input'!E430<>\"\",'Data Input'!E430,\"\")","v":""},{"$f":"IF('Data Input'!F430<>\"\",'Data Input'!F430,\"\")","v":""},{"$f":"IF('Data Input'!A482<>\"\",'Data Input'!A482,\"\")","v":""},{"$f":"IF('Data Input'!B482<>\"\",'Data Input'!B482,\"\")","v":""},{"$f":"IF('Data Input'!C482<>\"\",'Data Input'!C482,\"\")","v":""},{"$f":"IF('Data Input'!D482<>\"\",'Data Input'!D482,\"\")","v":""},{"$f":"IF('Data Input'!E482<>\"\",'Data Input'!E482,\"\")","v":""},{"$f":"IF('Data Input'!F482<>\"\",'Data Input'!F482,\"\")","v":""}]
[{"$f":"IF('Data Input'!A431<>\"\",'Data Input'!A431,\"\")","v":""},{"$f":"IF('Data Input'!B431<>\"\",'Data Input'!B431,\"\")","v":""},{"$f":"IF('Data Input'!C431<>\"\",'Data Input'!C431,\"\")","v":""},{"$f":"IF('Data Input'!D431<>\"\",'Data Input'!D431,\"\")","v":""},{"$f":"IF('Data Input'!E431<>\"\",'Data Input'!E431,\"\")","v":""},{"$f":"IF('Data Input'!F431<>\"\",'Data Input'!F431,\"\")","v":""},{"$f":"IF('Data Input'!A483<>\"\",'Data Input'!A483,\"\")","v":""},{"$f":"IF('Data Input'!B483<>\"\",'Data Input'!B483,\"\")","v":""},{"$f":"IF('Data Input'!C483<>\"\",'Data Input'!C483,\"\")","v":""},{"$f":"IF('Data Input'!D483<>\"\",'Data Input'!D483,\"\")","v":""},{"$f":"IF('Data Input'!E483<>\"\",'Data Input'!E483,\"\")","v":""},{"$f":"IF('Data Input'!F483<>\"\",'Data Input'!F483,\"\")","v":""}]
[{"$f":"IF('Data Input'!A484<>\"\",'Data Input'!A484,\"\")","v":""},{"$f":"IF('Data Input'!B484<>\"\",'Data Input'!B484,\"\")","v":""},{"$f":"IF('Data Input'!C484<>\"\",'Data Input'!C484,\"\")","v":""},{"$f":"IF('Data Input'!D484<>\"\",'Data Input'!D484,\"\")","v":""},{"$f":"IF('Data Input'!E484<>\"\",'Data Input'!E484,\"\")","v":""},{"$f":"IF('Data Input'!F484<>\"\",'Data Input'!F484,\"\")","v":""},{"$f":"IF('Data Input'!A536<>\"\",'Data Input'!A536,\"\")","v":""},{"$f":"IF('Data Input'!B536<>\"\",'Data Input'!B536,\"\")","v":""},{"$f":"IF('Data Input'!C536<>\"\",'Data Input'!C536,\"\")","v":""},{"$f":"IF('Data Input'!D536<>\"\",'Data Input'!D536,\"\")","v":""},{"$f":"IF('Data Input'!E536<>\"\",'Data Input'!E536,\"\")","v":""},{"$f":"IF('Data Input'!F536<>\"\",'Data Input'!F536,\"\")","v":""}]
[{"$f":"IF('Data Input'!A485<>\"\",'Data Input'!A485,\"\")","v":""},{"$f":"IF('Data Input'!B485<>\"\",'Data Input'!B485,\"\")","v":""},{"$f":"IF('Data Input'!C485<>\"\",'Data Input'!C485,\"\")","v":""},{"$f":"IF('Data Input'!D485<>\"\",'Data Input'!D485,\"\")","v":""},{"$f":"IF('Data Input'!E485<>\"\",'Data Input'!E485,\"\")","v":""},{"$f":"IF('Data Input'!F485<>\"\",'Data Input'!F485,\"\")","v":""},{"$f":"IF('Data Input'!A537<>\"\",'Data Input'!A537,\"\")","v":""},{"$f":"IF('Data Input'!B537<>\"\",'Data Input'!B537,\"\")","v":""},{"$f":"IF('Data Input'!C537<>\"\",'Data Input'!C537,\"\")","v":""},{"$f":"IF('Data Input'!D537<>\"\",'Data Input'!D537,\"\")","v":""},{"$f":"IF('Data Input'!E537<>\"\",'Data Input'!E537,\"\")","v":""},{"$f":"IF('Data Input'!F537<>\"\",'Data Input'!F537,\"\")","v":""}]
[{"$f":"IF('Data Input'!A486<>\"\",'Data Input'!A486,\"\")","v":""},{"$f":"IF('Data Input'!B486<>\"\",'Data Input'!B486,\"\")","v":""},{"$f":"IF('Data Input'!C486<>\"\",'Data Input'!C486,\"\")","v":""},{"$f":"IF('Data Input'!D486<>\"\",'Data Input'!D486,\"\")","v":""},{"$f":"IF('Data Input'!E486<>\"\",'Data Input'!E486,\"\")","v":""},{"$f":"IF('Data Input'!F486<>\"\",'Data Input'!F486,\"\")","v":""},{"$f":"IF('Data Input'!A538<>\"\",'Data Input'!A538,\"\")","v":""},{"$f":"IF('Data Input'!B538<>\"\",'Data Input'!B538,\"\")","v":""},{"$f":"IF('Data Input'!C538<>\"\",'Data Input'!C538,\"\")","v":""},{"$f":"IF('Data Input'!D538<>\"\",'Data Input'!D538,\"\")","v":""},{"$f":"IF('Data Input'!E538<>\"\",'Data Input'!E538,\"\")","v":""},{"$f":"IF('Data Input'!F538<>\"\",'Data Input'!F538,\"\")","v":""}]
[{"$f":"IF('Data Input'!A487<>\"\",'Data Input'!A487,\"\")","v":""},{"$f":"IF('Data Input'!B487<>\"\",'Data Input'!B487,\"\")","v":""},{"$f":"IF('Data Input'!C487<>\"\",'Data Input'!C487,\"\")","v":""},{"$f":"IF('Data Input'!D487<>\"\",'Data Input'!D487,\"\")","v":""},{"$f":"IF('Data Input'!E487<>\"\",'Data Input'!E487,\"\")","v":""},{"$f":"IF('Data Input'!F487<>\"\",'Data Input'!F487,\"\")","v":""},{"$f":"IF('Data Input'!A539<>\"\",'Data Input'!A539,\"\")","v":""},{"$f":"IF('Data Input'!B539<>\"\",'Data Input'!B539,\"\")","v":""},{"$f":"IF('Data Input'!C539<>\"\",'Data Input'!C539,\"\")","v":""},{"$f":"IF('Data Input'!D539<>\"\",'Data Input'!D539,\"\")","v":""},{"$f":"IF('Data Input'!E539<>\"\",'Data Input'!E539,\"\")","v":""},{"$f":"IF('Data Input'!F539<>\"\",'Data Input'!F539,\"\")","v":""}]
[{"$f":"IF('Data Input'!A488<>\"\",'Data Input'!A488,\"\")","v":""},{"$f":"IF('Data Input'!B488<>\"\",'Data Input'!B488,\"\")","v":""},{"$f":"IF('Data Input'!C488<>\"\",'Data Input'!C488,\"\")","v":""},{"$f":"IF('Data Input'!D488<>\"\",'Data Input'!D488,\"\")","v":""},{"$f":"IF('Data Input'!E488<>\"\",'Data Input'!E488,\"\")","v":""},{"$f":"IF('Data Input'!F488<>\"\",'Data Input'!F488,\"\")","v":""},{"$f":"IF('Data Input'!A540<>\"\",'Data Input'!A540,\"\")","v":""},{"$f":"IF('Data Input'!B540<>\"\",'Data Input'!B540,\"\")","v":""},{"$f":"IF('Data Input'!C540<>\"\",'Data Input'!C540,\"\")","v":""},{"$f":"IF('Data Input'!D540<>\"\",'Data Input'!D540,\"\")","v":""},{"$f":"IF('Data Input'!E540<>\"\",'Data Input'!E540,\"\")","v":""},{"$f":"IF('Data Input'!F540<>\"\",'Data Input'!F540,\"\")","v":""}]
[{"$f":"IF('Data Input'!A489<>\"\",'Data Input'!A489,\"\")","v":""},{"$f":"IF('Data Input'!B489<>\"\",'Data Input'!B489,\"\")","v":""},{"$f":"IF('Data Input'!C489<>\"\",'Data Input'!C489,\"\")","v":""},{"$f":"IF('Data Input'!D489<>\"\",'Data Input'!D489,\"\")","v":""},{"$f":"IF('Data Input'!E489<>\"\",'Data Input'!E489,\"\")","v":""},{"$f":"IF('Data Input'!F489<>\"\",'Data Input'!F489,\"\")","v":""},{"$f":"IF('Data Input'!A541<>\"\",'Data Input'!A541,\"\")","v":""},{"$f":"IF('Data Input'!B541<>\"\",'Data Input'!B541,\"\")","v":""},{"$f":"IF('Data Input'!C541<>\"\",'Data Input'!C541,\"\")","v":""},{"$f":"IF('Data Input'!D541<>\"\",'Data Input'!D541,\"\")","v":""},{"$f":"IF('Data Input'!E541<>\"\",'Data Input'!E541,\"\")","v":""},{"$f":"IF('Data Input'!F541<>\"\",'Data Input'!F541,\"\")","v":""}]
[{"$f":"IF('Data Input'!A490<>\"\",'Data Input'!A490,\"\")","v":""},{"$f":"IF('Data Input'!B490<>\"\",'Data Input'!B490,\"\")","v":""},{"$f":"IF('Data Input'!C490<>\"\",'Data Input'!C490,\"\")","v":""},{"$f":"IF('Data Input'!D490<>\"\",'Data Input'!D490,\"\")","v":""},{"$f":"IF('Data Input'!E490<>\"\",'Data Input'!E490,\"\")","v":""},{"$f":"IF('Data Input'!F490<>\"\",'Data Input'!F490,\"\")","v":""},{"$f":"IF('Data Input'!A542<>\"\",'Data Input'!A542,\"\")","v":""},{"$f":"IF('Data Input'!B542<>\"\",'Data Input'!B542,\"\")","v":""},{"$f":"IF('Data Input'!C542<>\"\",'Data Input'!C542,\"\")","v":""},{"$f":"IF('Data Input'!D542<>\"\",'Data Input'!D542,\"\")","v":""},{"$f":"IF('Data Input'!E542<>\"\",'Data Input'!E542,\"\")","v":""},{"$f":"IF('Data Input'!F542<>\"\",'Data Input'!F542,\"\")","v":""}]
[{"$f":"IF('Data Input'!A491<>\"\",'Data Input'!A491,\"\")","v":""},{"$f":"IF('Data Input'!B491<>\"\",'Data Input'!B491,\"\")","v":""},{"$f":"IF('Data Input'!C491<>\"\",'Data Input'!C491,\"\")","v":""},{"$f":"IF('Data Input'!D491<>\"\",'Data Input'!D491,\"\")","v":""},{"$f":"IF('Data Input'!E491<>\"\",'Data Input'!E491,\"\")","v":""},{"$f":"IF('Data Input'!F491<>\"\",'Data Input'!F491,\"\")","v":""},{"$f":"IF('Data Input'!A543<>\"\",'Data Input'!A543,\"\")","v":""},{"$f":"IF('Data Input'!B543<>\"\",'Data Input'!B543,\"\")","v":""},{"$f":"IF('Data Input'!C543<>\"\",'Data Input'!C543,\"\")","v":""},{"$f":"IF('Data Input'!D543<>\"\",'Data Input'!D543,\"\")","v":""},{"$f":"IF('Data Input'!E543<>\"\",'Data Input'!E543,\"\")","v":""},{"$f":"IF('Data Input'!F543<>\"\",'Data Input'!F543,\"\")","v":""}]
[{"$f":"IF('Data Input'!A492<>\"\",'Data Input'!A492,\"\")","v":""},{"$f":"IF('Data Input'!B492<>\"\",'Data Input'!B492,\"\")","v":""},{"$f":"IF('Data Input'!C492<>\"\",'Data Input'!C492,\"\")","v":""},{"$f":"IF('Data Input'!D492<>\"\",'Data Input'!D492,\"\")","v":""},{"$f":"IF('Data Input'!E492<>\"\",'Data Input'!E492,\"\")","v":""},{"$f":"IF('Data Input'!F492<>\"\",'Data Input'!F492,\"\")","v":""},{"$f":"IF('Data Input'!A544<>\"\",'Data Input'!A544,\"\")","v":""},{"$f":"IF('Data Input'!B544<>\"\",'Data Input'!B544,\"\")","v":""},{"$f":"IF('Data Input'!C544<>\"\",'Data Input'!C544,\"\")","v":""},{"$f":"IF('Data Input'!D544<>\"\",'Data Input'!D544,\"\")","v":""},{"$f":"IF('Data Input'!E544<>\"\",'Data Input'!E544,\"\")","v":""},{"$f":"IF('Data Input'!F544<>\"\",'Data Input'!F544,\"\")","v":""}]
[{"$f":"IF('Data Input'!A493<>\"\",'Data Input'!A493,\"\")","v":""},{"$f":"IF('Data Input'!B493<>\"\",'Data Input'!B493,\"\")","v":""},{"$f":"IF('Data Input'!C493<>\"\",'Data Input'!C493,\"\")","v":""},{"$f":"IF('Data Input'!D493<>\"\",'Data Input'!D493,\"\")","v":""},{"$f":"IF('Data Input'!E493<>\"\",'Data Input'!E493,\"\")","v":""},{"$f":"IF('Data Input'!F493<>\"\",'Data Input'!F493,\"\")","v":""},{"$f":"IF('Data Input'!A545<>\"\",'Data Input'!A545,\"\")","v":""},{"$f":"IF('Data Input'!B545<>\"\",'Data Input'!B545,\"\")","v":""},{"$f":"IF('Data Input'!C545<>\"\",'Data Input'!C545,\"\")","v":""},{"$f":"IF('Data Input'!D545<>\"\",'Data Input'!D545,\"\")","v":""},{"$f":"IF('Data Input'!E545<>\"\",'Data Input'!E545,\"\")","v":""},{"$f":"IF('Data Input'!F545<>\"\",'Data Input'!F545,\"\")","v":""}]
[{"$f":"IF('Data Input'!A494<>\"\",'Data Input'!A494,\"\")","v":""},{"$f":"IF('Data Input'!B494<>\"\",'Data Input'!B494,\"\")","v":""},{"$f":"IF('Data Input'!C494<>\"\",'Data Input'!C494,\"\")","v":""},{"$f":"IF('Data Input'!D494<>\"\",'Data Input'!D494,\"\")","v":""},{"$f":"IF('Data Input'!E494<>\"\",'Data Input'!E494,\"\")","v":""},{"$f":"IF('Data Input'!F494<>\"\",'Data Input'!F494,\"\")","v":""},{"$f":"IF('Data Input'!A546<>\"\",'Data Input'!A546,\"\")","v":""},{"$f":"IF('Data Input'!B546<>\"\",'Data Input'!B546,\"\")","v":""},{"$f":"IF('Data Input'!C546<>\"\",'Data Input'!C546,\"\")","v":""},{"$f":"IF('Data Input'!D546<>\"\",'Data Input'!D546,\"\")","v":""},{"$f":"IF('Data Input'!E546<>\"\",'Data Input'!E546,\"\")","v":""},{"$f":"IF('Data Input'!F546<>\"\",'Data Input'!F546,\"\")","v":""}]
[{"$f":"IF('Data Input'!A495<>\"\",'Data Input'!A495,\"\")","v":""},{"$f":"IF('Data Input'!B495<>\"\",'Data Input'!B495,\"\")","v":""},{"$f":"IF('Data Input'!C495<>\"\",'Data Input'!C495,\"\")","v":""},{"$f":"IF('Data Input'!D495<>\"\",'Data Input'!D495,\"\")","v":""},{"$f":"IF('Data Input'!E495<>\"\",'Data Input'!E495,\"\")","v":""},{"$f":"IF('Data Input'!F495<>\"\",'Data Input'!F495,\"\")","v":""},{"$f":"IF('Data Input'!A547<>\"\",'Data Input'!A547,\"\")","v":""},{"$f":"IF('Data Input'!B547<>\"\",'Data Input'!B547,\"\")","v":""},{"$f":"IF('Data Input'!C547<>\"\",'Data Input'!C547,\"\")","v":""},{"$f":"IF('Data Input'!D547<>\"\",'Data Input'!D547,\"\")","v":""},{"$f":"IF('Data Input'!E547<>\"\",'Data Input'!E547,\"\")","v":""},{"$f":"IF('Data Input'!F547<>\"\",'Data Input'!F547,\"\")","v":""}]
[{"$f":"IF('Data Input'!A496<>\"\",'Data Input'!A496,\"\")","v":""},{"$f":"IF('Data Input'!B496<>\"\",'Data Input'!B496,\"\")","v":""},{"$f":"IF('Data Input'!C496<>\"\",'Data Input'!C496,\"\")","v":""},{"$f":"IF('Data Input'!D496<>\"\",'Data Input'!D496,\"\")","v":""},{"$f":"IF('Data Input'!E496<>\"\",'Data Input'!E496,\"\")","v":""},{"$f":"IF('Data Input'!F496<>\"\",'Data Input'!F496,\"\")","v":""},{"$f":"IF('Data Input'!A548<>\"\",'Data Input'!A548,\"\")","v":""},{"$f":"IF('Data Input'!B548<>\"\",'Data Input'!B548,\"\")","v":""},{"$f":"IF('Data Input'!C548<>\"\",'Data Input'!C548,\"\")","v":""},{"$f":"IF('Data Input'!D548<>\"\",'Data Input'!D548,\"\")","v":""},{"$f":"IF('Data Input'!E548<>\"\",'Data Input'!E548,\"\")","v":""},{"$f":"IF('Data Input'!F548<>\"\",'Data Input'!F548,\"\")","v":""}]
[{"$f":"IF('Data Input'!A497<>\"\",'Data Input'!A497,\"\")","v":""},{"$f":"IF('Data Input'!B497<>\"\",'Data Input'!B497,\"\")","v":""},{"$f":"IF('Data Input'!C497<>\"\",'Data Input'!C497,\"\")","v":""},{"$f":"IF('Data Input'!D497<>\"\",'Data Input'!D497,\"\")","v":""},{"$f":"IF('Data Input'!E497<>\"\",'Data Input'!E497,\"\")","v":""},{"$f":"IF('Data Input'!F497<>\"\",'Data Input'!F497,\"\")","v":""},{"$f":"IF('Data Input'!A549<>\"\",'Data Input'!A549,\"\")","v":""},{"$f":"IF('Data Input'!B549<>\"\",'Data Input'!B549,\"\")","v":""},{"$f":"IF('Data Input'!C549<>\"\",'Data Input'!C549,\"\")","v":""},{"$f":"IF('Data Input'!D549<>\"\",'Data Input'!D549,\"\")","v":""},{"$f":"IF('Data Input'!E549<>\"\",'Data Input'!E549,\"\")","v":""},{"$f":"IF('Data Input'!F549<>\"\",'Data Input'!F549,\"\")","v":""}]
[{"$f":"IF('Data Input'!A498<>\"\",'Data Input'!A498,\"\")","v":""},{"$f":"IF('Data Input'!B498<>\"\",'Data Input'!B498,\"\")","v":""},{"$f":"IF('Data Input'!C498<>\"\",'Data Input'!C498,\"\")","v":""},{"$f":"IF('Data Input'!D498<>\"\",'Data Input'!D498,\"\")","v":""},{"$f":"IF('Data Input'!E498<>\"\",'Data Input'!E498,\"\")","v":""},{"$f":"IF('Data Input'!F498<>\"\",'Data Input'!F498,\"\")","v":""},{"$f":"IF('Data Input'!A550<>\"\",'Data Input'!A550,\"\")","v":""},{"$f":"IF('Data Input'!B550<>\"\",'Data Input'!B550,\"\")","v":""},{"$f":"IF('Data Input'!C550<>\"\",'Data Input'!C550,\"\")","v":""},{"$f":"IF('Data Input'!D550<>\"\",'Data Input'!D550,\"\")","v":""},{"$f":"IF('Data Input'!E550<>\"\",'Data Input'!E550,\"\")","v":""},{"$f":"IF('Data Input'!F550<>\"\",'Data Input'!F550,\"\")","v":""}]
[{"$f":"IF('Data Input'!A499<>\"\",'Data Input'!A499,\"\")","v":""},{"$f":"IF('Data Input'!B499<>\"\",'Data Input'!B499,\"\")","v":""},{"$f":"IF('Data Input'!C499<>\"\",'Data Input'!C499,\"\")","v":""},{"$f":"IF('Data Input'!D499<>\"\",'Data Input'!D499,\"\")","v":""},{"$f":"IF('Data Input'!E499<>\"\",'Data Input'!E499,\"\")","v":""},{"$f":"IF('Data Input'!F499<>\"\",'Data Input'!F499,\"\")","v":""},{"$f":"IF('Data Input'!A551<>\"\",'Data Input'!A551,\"\")","v":""},{"$f":"IF('Data Input'!B551<>\"\",'Data Input'!B551,\"\")","v":""},{"$f":"IF('Data Input'!C551<>\"\",'Data Input'!C551,\"\")","v":""},{"$f":"IF('Data Input'!D551<>\"\",'Data Input'!D551,\"\")","v":""},{"$f":"IF('Data Input'!E551<>\"\",'Data Input'!E551,\"\")","v":""},{"$f":"IF('Data Input'!F551<>\"\",'Data Input'!F551,\"\")","v":""}]
[{"$f":"IF('Data Input'!A500<>\"\",'Data Input'!A500,\"\")","v":""},{"$f":"IF('Data Input'!B500<>\"\",'Data Input'!B500,\"\")","v":""},{"$f":"IF('Data Input'!C500<>\"\",'Data Input'!C500,\"\")","v":""},{"$f":"IF('Data Input'!D500<>\"\",'Data Input'!D500,\"\")","v":""},{"$f":"IF('Data Input'!E500<>\"\",'Data Input'!E500,\"\")","v":""},{"$f":"IF('Data Input'!F500<>\"\",'Data Input'!F500,\"\")","v":""},{"$f":"IF('Data Input'!A552<>\"\",'Data Input'!A552,\"\")","v":""},{"$f":"IF('Data Input'!B552<>\"\",'Data Input'!B552,\"\")","v":""},{"$f":"IF('Data Input'!C552<>\"\",'Data Input'!C552,\"\")","v":""},{"$f":"IF('Data Input'!D552<>\"\",'Data Input'!D552,\"\")","v":""},{"$f":"IF('Data Input'!E552<>\"\",'Data Input'!E552,\"\")","v":""},{"$f":"IF('Data Input'!F552<>\"\",'Data Input'!F552,\"\")","v":""}]
[{"$f":"IF('Data Input'!A501<>\"\",'Data Input'!A501,\"\")","v":""},{"$f":"IF('Data Input'!B501<>\"\",'Data Input'!B501,\"\")","v":""},{"$f":"IF('Data Input'!C501<>\"\",'Data Input'!C501,\"\")","v":""},{"$f":"IF('Data Input'!D501<>\"\",'Data Input'!D501,\"\")","v":""},{"$f":"IF('Data Input'!E501<>\"\",'Data Input'!E501,\"\")","v":""},{"$f":"IF('Data Input'!F501<>\"\",'Data Input'!F501,\"\")","v":""},{"$f":"IF('Data Input'!A553<>\"\",'Data Input'!A553,\"\")","v":""},{"$f":"IF('Data Input'!B553<>\"\",'Data Input'!B553,\"\")","v":""},{"$f":"IF('Data Input'!C553<>\"\",'Data Input'!C553,\"\")","v":""},{"$f":"IF('Data Input'!D553<>\"\",'Data Input'!D553,\"\")","v":""},{"$f":"IF('Data Input'!E553<>\"\",'Data Input'!E553,\"\")","v":""},{"$f":"IF('Data Input'!F553<>\"\",'Data Input'!F553,\"\")","v":""}]
[{"$f":"IF('Data Input'!A502<>\"\",'Data Input'!A502,\"\")","v":""},{"$f":"IF('Data Input'!B502<>\"\",'Data Input'!B502,\"\")","v":""},{"$f":"IF('Data Input'!C502<>\"\",'Data Input'!C502,\"\")","v":""},{"$f":"IF('Data Input'!D502<>\"\",'Data Input'!D502,\"\")","v":""},{"$f":"IF('Data Input'!E502<>\"\",'Data Input'!E502,\"\")","v":""},{"$f":"IF('Data Input'!F502<>\"\",'Data Input'!F502,\"\")","v":""},{"$f":"IF('Data Input'!A554<>\"\",'Data Input'!A554,\"\")","v":""},{"$f":"IF('Data Input'!B554<>\"\",'Data Input'!B554,\"\")","v":""},{"$f":"IF('Data Input'!C554<>\"\",'Data Input'!C554,\"\")","v":""},{"$f":"IF('Data Input'!D554<>\"\",'Data Input'!D554,\"\")","v":""},{"$f":"IF('Data Input'!E554<>\"\",'Data Input'!E554,\"\")","v":""},{"$f":"IF('Data Input'!F554<>\"\",'Data Input'!F554,\"\")","v":""}]
[{"$f":"IF('Data Input'!A503<>\"\",'Data Input'!A503,\"\")","v":""},{"$f":"IF('Data Input'!B503<>\"\",'Data Input'!B503,\"\")","v":""},{"$f":"IF('Data Input'!C503<>\"\",'Data Input'!C503,\"\")","v":""},{"$f":"IF('Data Input'!D503<>\"\",'Data Input'!D503,\"\")","v":""},{"$f":"IF('Data Input'!E503<>\"\",'Data Input'!E503,\"\")","v":""},{"$f":"IF('Data Input'!F503<>\"\",'Data Input'!F503,\"\")","v":""},{"$f":"IF('Data Input'!A555<>\"\",'Data Input'!A555,\"\")","v":""},{"$f":"IF('Data Input'!B555<>\"\",'Data Input'!B555,\"\")","v":""},{"$f":"IF('Data Input'!C555<>\"\",'Data Input'!C555,\"\")","v":""},{"$f":"IF('Data Input'!D555<>\"\",'Data Input'!D555,\"\")","v":""},{"$f":"IF('Data Input'!E555<>\"\",'Data Input'!E555,\"\")","v":""},{"$f":"IF('Data Input'!F555<>\"\",'Data Input'!F555,\"\")","v":""}]
[{"$f":"IF('Data Input'!A504<>\"\",'Data Input'!A504,\"\")","v":""},{"$f":"IF('Data Input'!B504<>\"\",'Data Input'!B504,\"\")","v":""},{"$f":"IF('Data Input'!C504<>\"\",'Data Input'!C504,\"\")","v":""},{"$f":"IF('Data Input'!D504<>\"\",'Data Input'!D504,\"\")","v":""},{"$f":"IF('Data Input'!E504<>\"\",'Data Input'!E504,\"\")","v":""},{"$f":"IF('Data Input'!F504<>\"\",'Data Input'!F504,\"\")","v":""},{"$f":"IF('Data Input'!A556<>\"\",'Data Input'!A556,\"\")","v":""},{"$f":"IF('Data Input'!B556<>\"\",'Data Input'!B556,\"\")","v":""},{"$f":"IF('Data Input'!C556<>\"\",'Data Input'!C556,\"\")","v":""},{"$f":"IF('Data Input'!D556<>\"\",'Data Input'!D556,\"\")","v":""},{"$f":"IF('Data Input'!E556<>\"\",'Data Input'!E556,\"\")","v":""},{"$f":"IF('Data Input'!F556<>\"\",'Data Input'!F556,\"\")","v":""}]
[{"$f":"IF('Data Input'!A505<>\"\",'Data Input'!A505,\"\")","v":""},{"$f":"IF('Data Input'!B505<>\"\",'Data Input'!B505,\"\")","v":""},{"$f":"IF('Data Input'!C505<>\"\",'Data Input'!C505,\"\")","v":""},{"$f":"IF('Data Input'!D505<>\"\",'Data Input'!D505,\"\")","v":""},{"$f":"IF('Data Input'!E505<>\"\",'Data Input'!E505,\"\")","v":""},{"$f":"IF('Data Input'!F505<>\"\",'Data Input'!F505,\"\")","v":""},{"$f":"IF('Data Input'!A557<>\"\",'Data Input'!A557,\"\")","v":""},{"$f":"IF('Data Input'!B557<>\"\",'Data Input'!B557,\"\")","v":""},{"$f":"IF('Data Input'!C557<>\"\",'Data Input'!C557,\"\")","v":""},{"$f":"IF('Data Input'!D557<>\"\",'Data Input'!D557,\"\")","v":""},{"$f":"IF('Data Input'!E557<>\"\",'Data Input'!E557,\"\")","v":""},{"$f":"IF('Data Input'!F557<>\"\",'Data Input'!F557,\"\")","v":""}]
[{"$f":"IF('Data Input'!A506<>\"\",'Data Input'!A506,\"\")","v":""},{"$f":"IF('Data Input'!B506<>\"\",'Data Input'!B506,\"\")","v":""},{"$f":"IF('Data Input'!C506<>\"\",'Data Input'!C506,\"\")","v":""},{"$f":"IF('Data Input'!D506<>\"\",'Data Input'!D506,\"\")","v":""},{"$f":"IF('Data Input'!E506<>\"\",'Data Input'!E506,\"\")","v":""},{"$f":"IF('Data Input'!F506<>\"\",'Data Input'!F506,\"\")","v":""},{"$f":"IF('Data Input'!A558<>\"\",'Data Input'!A558,\"\")","v":""},{"$f":"IF('Data Input'!B558<>\"\",'Data Input'!B558,\"\")","v":""},{"$f":"IF('Data Input'!C558<>\"\",'Data Input'!C558,\"\")","v":""},{"$f":"IF('Data Input'!D558<>\"\",'Data Input'!D558,\"\")","v":""},{"$f":"IF('Data Input'!E558<>\"\",'Data Input'!E558,\"\")","v":""},{"$f":"IF('Data Input'!F558<>\"\",'Data Input'!F558,\"\")","v":""}]
[{"$f":"IF('Data Input'!A507<>\"\",'Data Input'!A507,\"\")","v":""},{"$f":"IF('Data Input'!B507<>\"\",'Data Input'!B507,\"\")","v":""},{"$f":"IF('Data Input'!C507<>\"\",'Data Input'!C507,\"\")","v":""},{"$f":"IF('Data Input'!D507<>\"\",'Data Input'!D507,\"\")","v":""},{"$f":"IF('Data Input'!E507<>\"\",'Data Input'!E507,\"\")","v":""},{"$f":"IF('Data Input'!F507<>\"\",'Data Input'!F507,\"\")","v":""},{"$f":"IF('Data Input'!A559<>\"\",'Data Input'!A559,\"\")","v":""},{"$f":"IF('Data Input'!B559<>\"\",'Data Input'!B559,\"\")","v":""},{"$f":"IF('Data Input'!C559<>\"\",'Data Input'!C559,\"\")","v":""},{"$f":"IF('Data Input'!D559<>\"\",'Data Input'!D559,\"\")","v":""},{"$f":"IF('Data Input'!E559<>\"\",'Data Input'!E559,\"\")","v":""},{"$f":"IF('Data Input'!F559<>\"\",'Data Input'!F559,\"\")","v":""}]
[{"$f":"IF('Data Input'!A508<>\"\",'Data Input'!A508,\"\")","v":""},{"$f":"IF('Data Input'!B508<>\"\",'Data Input'!B508,\"\")","v":""},{"$f":"IF('Data Input'!C508<>\"\",'Data Input'!C508,\"\")","v":""},{"$f":"IF('Data Input'!D508<>\"\",'Data Input'!D508,\"\")","v":""},{"$f":"IF('Data Input'!E508<>\"\",'Data Input'!E508,\"\")","v":""},{"$f":"IF('Data Input'!F508<>\"\",'Data Input'!F508,\"\")","v":""},{"$f":"IF('Data Input'!A560<>\"\",'Data Input'!A560,\"\")","v":""},{"$f":"IF('Data Input'!B560<>\"\",'Data Input'!B560,\"\")","v":""},{"$f":"IF('Data Input'!C560<>\"\",'Data Input'!C560,\"\")","v":""},{"$f":"IF('Data Input'!D560<>\"\",'Data Input'!D560,\"\")","v":""},{"$f":"IF('Data Input'!E560<>\"\",'Data Input'!E560,\"\")","v":""},{"$f":"IF('Data Input'!F560<>\"\",'Data Input'!F560,\"\")","v":""}]
[{"$f":"IF('Data Input'!A509<>\"\",'Data Input'!A509,\"\")","v":""},{"$f":"IF('Data Input'!B509<>\"\",'Data Input'!B509,\"\")","v":""},{"$f":"IF('Data Input'!C509<>\"\",'Data Input'!C509,\"\")","v":""},{"$f":"IF('Data Input'!D509<>\"\",'Data Input'!D509,\"\")","v":""},{"$f":"IF('Data Input'!E509<>\"\",'Data Input'!E509,\"\")","v":""},{"$f":"IF('Data Input'!F509<>\"\",'Data Input'!F509,\"\")","v":""},{"$f":"IF('Data Input'!A561<>\"\",'Data Input'!A561,\"\")","v":""},{"$f":"IF('Data Input'!B561<>\"\",'Data Input'!B561,\"\")","v":""},{"$f":"IF('Data Input'!C561<>\"\",'Data Input'!C561,\"\")","v":""},{"$f":"IF('Data Input'!D561<>\"\",'Data Input'!D561,\"\")","v":""},{"$f":"IF('Data Input'!E561<>\"\",'Data Input'!E561,\"\")","v":""},{"$f":"IF('Data Input'!F561<>\"\",'Data Input'!F561,\"\")","v":""}]
[{"$f":"IF('Data Input'!A510<>\"\",'Data Input'!A510,\"\")","v":""},{"$f":"IF('Data Input'!B510<>\"\",'Data Input'!B510,\"\")","v":""},{"$f":"IF('Data Input'!C510<>\"\",'Data Input'!C510,\"\")","v":""},{"$f":"IF('Data Input'!D510<>\"\",'Data Input'!D510,\"\")","v":""},{"$f":"IF('Data Input'!E510<>\"\",'Data Input'!E510,\"\")","v":""},{"$f":"IF('Data Input'!F510<>\"\",'Data Input'!F510,\"\")","v":""},{"$f":"IF('Data Input'!A562<>\"\",'Data Input'!A562,\"\")","v":""},{"$f":"IF('Data Input'!B562<>\"\",'Data Input'!B562,\"\")","v":""},{"$f":"IF('Data Input'!C562<>\"\",'Data Input'!C562,\"\")","v":""},{"$f":"IF('Data Input'!D562<>\"\",'Data Input'!D562,\"\")","v":""},{"$f":"IF('Data Input'!E562<>\"\",'Data Input'!E562,\"\")","v":""},{"$f":"IF('Data Input'!F562<>\"\",'Data Input'!F562,\"\")","v":""}]
[{"$f":"IF('Data Input'!A511<>\"\",'Data Input'!A511,\"\")","v":""},{"$f":"IF('Data Input'!B511<>\"\",'Data Input'!B511,\"\")","v":""},{"$f":"IF('Data Input'!C511<>\"\",'Data Input'!C511,\"\")","v":""},{"$f":"IF('Data Input'!D511<>\"\",'Data Input'!D511,\"\")","v":""},{"$f":"IF('Data Input'!E511<>\"\",'Data Input'!E511,\"\")","v":""},{"$f":"IF('Data Input'!F511<>\"\",'Data Input'!F511,\"\")","v":""},{"$f":"IF('Data Input'!A563<>\"\",'Data Input'!A563,\"\")","v":""},{"$f":"IF('Data Input'!B563<>\"\",'Data Input'!B563,\"\")","v":""},{"$f":"IF('Data Input'!C563<>\"\",'Data Input'!C563,\"\")","v":""},{"$f":"IF('Data Input'!D563<>\"\",'Data Input'!D563,\"\")","v":""},{"$f":"IF('Data Input'!E563<>\"\",'Data Input'!E563,\"\")","v":""},{"$f":"IF('Data Input'!F563<>\"\",'Data Input'!F563,\"\")","v":""}]
[{"$f":"IF('Data Input'!A512<>\"\",'Data Input'!A512,\"\")","v":""},{"$f":"IF('Data Input'!B512<>\"\",'Data Input'!B512,\"\")","v":""},{"$f":"IF('Data Input'!C512<>\"\",'Data Input'!C512,\"\")","v":""},{"$f":"IF('Data Input'!D512<>\"\",'Data Input'!D512,\"\")","v":""},{"$f":"IF('Data Input'!E512<>\"\",'Data Input'!E512,\"\")","v":""},{"$f":"IF('Data Input'!F512<>\"\",'Data Input'!F512,\"\")","v":""},{"$f":"IF('Data Input'!A564<>\"\",'Data Input'!A564,\"\")","v":""},{"$f":"IF('Data Input'!B564<>\"\",'Data Input'!B564,\"\")","v":""},{"$f":"IF('Data Input'!C564<>\"\",'Data Input'!C564,\"\")","v":""},{"$f":"IF('Data Input'!D564<>\"\",'Data Input'!D564,\"\")","v":""},{"$f":"IF('Data Input'!E564<>\"\",'Data Input'!E564,\"\")","v":""},{"$f":"IF('Data Input'!F564<>\"\",'Data Input'!F564,\"\")","v":""}]
[{"$f":"IF('Data Input'!A513<>\"\",'Data Input'!A513,\"\")","v":""},{"$f":"IF('Data Input'!B513<>\"\",'Data Input'!B513,\"\")","v":""},{"$f":"IF('Data Input'!C513<>\"\",'Data Input'!C513,\"\")","v":""},{"$f":"IF('Data Input'!D513<>\"\",'Data Input'!D513,\"\")","v":""},{"$f":"IF('Data Input'!E513<>\"\",'Data Input'!E513,\"\")","v":""},{"$f":"IF('Data Input'!F513<>\"\",'Data Input'!F513,\"\")","v":""},{"$f":"IF('Data Input'!A565<>\"\",'Data Input'!A565,\"\")","v":""},{"$f":"IF('Data Input'!B565<>\"\",'Data Input'!B565,\"\")","v":""},{"$f":"IF('Data Input'!C565<>\"\",'Data Input'!C565,\"\")","v":""},{"$f":"IF('Data Input'!D565<>\"\",'Data Input'!D565,\"\")","v":""},{"$f":"IF('Data Input'!E565<>\"\",'Data Input'!E565,\"\")","v":""},{"$f":"IF('Data Input'!F565<>\"\",'Data Input'!F565,\"\")","v":""}]
[{"$f":"IF('Data Input'!A514<>\"\",'Data Input'!A514,\"\")","v":""},{"$f":"IF('Data Input'!B514<>\"\",'Data Input'!B514,\"\")","v":""},{"$f":"IF('Data Input'!C514<>\"\",'Data Input'!C514,\"\")","v":""},{"$f":"IF('Data Input'!D514<>\"\",'Data Input'!D514,\"\")","v":""},{"$f":"IF('Data Input'!E514<>\"\",'Data Input'!E514,\"\")","v":""},{"$f":"IF('Data Input'!F514<>\"\",'Data Input'!F514,\"\")","v":""},{"$f":"IF('Data Input'!A566<>\"\",'Data Input'!A566,\"\")","v":""},{"$f":"IF('Data Input'!B566<>\"\",'Data Input'!B566,\"\")","v":""},{"$f":"IF('Data Input'!C566<>\"\",'Data Input'!C566,\"\")","v":""},{"$f":"IF('Data Input'!D566<>\"\",'Data Input'!D566,\"\")","v":""},{"$f":"IF('Data Input'!E566<>\"\",'Data Input'!E566,\"\")","v":""},{"$f":"IF('Data Input'!F566<>\"\",'Data Input'!F566,\"\")","v":""}]
[{"$f":"IF('Data Input'!A515<>\"\",'Data Input'!A515,\"\")","v":""},{"$f":"IF('Data Input'!B515<>\"\",'Data Input'!B515,\"\")","v":""},{"$f":"IF('Data Input'!C515<>\"\",'Data Input'!C515,\"\")","v":""},{"$f":"IF('Data Input'!D515<>\"\",'Data Input'!D515,\"\")","v":""},{"$f":"IF('Data Input'!E515<>\"\",'Data Input'!E515,\"\")","v":""},{"$f":"IF('Data Input'!F515<>\"\",'Data Input'!F515,\"\")","v":""},{"$f":"IF('Data Input'!A567<>\"\",'Data Input'!A567,\"\")","v":""},{"$f":"IF('Data Input'!B567<>\"\",'Data Input'!B567,\"\")","v":""},{"$f":"IF('Data Input'!C567<>\"\",'Data Input'!C567,\"\")","v":""},{"$f":"IF('Data Input'!D567<>\"\",'Data Input'!D567,\"\")","v":""},{"$f":"IF('Data Input'!E567<>\"\",'Data Input'!E567,\"\")","v":""},{"$f":"IF('Data Input'!F567<>\"\",'Data Input'!F567,\"\")","v":""}]
[{"$f":"IF('Data Input'!A516<>\"\",'Data Input'!A516,\"\")","v":""},{"$f":"IF('Data Input'!B516<>\"\",'Data Input'!B516,\"\")","v":""},{"$f":"IF('Data Input'!C516<>\"\",'Data Input'!C516,\"\")","v":""},{"$f":"IF('Data Input'!D516<>\"\",'Data Input'!D516,\"\")","v":""},{"$f":"IF('Data Input'!E516<>\"\",'Data Input'!E516,\"\")","v":""},{"$f":"IF('Data Input'!F516<>\"\",'Data Input'!F516,\"\")","v":""},{"$f":"IF('Data Input'!A568<>\"\",'Data Input'!A568,\"\")","v":""},{"$f":"IF('Data Input'!B568<>\"\",'Data Input'!B568,\"\")","v":""},{"$f":"IF('Data Input'!C568<>\"\",'Data Input'!C568,\"\")","v":""},{"$f":"IF('Data Input'!D568<>\"\",'Data Input'!D568,\"\")","v":""},{"$f":"IF('Data Input'!E568<>\"\",'Data Input'!E568,\"\")","v":""},{"$f":"IF('Data Input'!F568<>\"\",'Data Input'!F568,\"\")","v":""}]
[{"$f":"IF('Data Input'!A517<>\"\",'Data Input'!A517,\"\")","v":""},{"$f":"IF('Data Input'!B517<>\"\",'Data Input'!B517,\"\")","v":""},{"$f":"IF('Data Input'!C517<>\"\",'Data Input'!C517,\"\")","v":""},{"$f":"IF('Data Input'!D517<>\"\",'Data Input'!D517,\"\")","v":""},{"$f":"IF('Data Input'!E517<>\"\",'Data Input'!E517,\"\")","v":""},{"$f":"IF('Data Input'!F517<>\"\",'Data Input'!F517,\"\")","v":""},{"$f":"IF('Data Input'!A569<>\"\",'Data Input'!A569,\"\")","v":""},{"$f":"IF('Data Input'!B569<>\"\",'Data Input'!B569,\"\")","v":""},{"$f":"IF('Data Input'!C569<>\"\",'Data Input'!C569,\"\")","v":""},{"$f":"IF('Data Input'!D569<>\"\",'Data Input'!D569,\"\")","v":""},{"$f":"IF('Data Input'!E569<>\"\",'Data Input'!E569,\"\")","v":""},{"$f":"IF('Data Input'!F569<>\"\",'Data Input'!F569,\"\")","v":""}]
[{"$f":"IF('Data Input'!A518<>\"\",'Data Input'!A518,\"\")","v":""},{"$f":"IF('Data Input'!B518<>\"\",'Data Input'!B518,\"\")","v":""},{"$f":"IF('Data Input'!C518<>\"\",'Data Input'!C518,\"\")","v":""},{"$f":"IF('Data Input'!D518<>\"\",'Data Input'!D518,\"\")","v":""},{"$f":"IF('Data Input'!E518<>\"\",'Data Input'!E518,\"\")","v":""},{"$f":"IF('Data Input'!F518<>\"\",'Data Input'!F518,\"\")","v":""},{"$f":"IF('Data Input'!A570<>\"\",'Data Input'!A570,\"\")","v":""},{"$f":"IF('Data Input'!B570<>\"\",'Data Input'!B570,\"\")","v":""},{"$f":"IF('Data Input'!C570<>\"\",'Data Input'!C570,\"\")","v":""},{"$f":"IF('Data Input'!D570<>\"\",'Data Input'!D570,\"\")","v":""},{"$f":"IF('Data Input'!E570<>\"\",'Data Input'!E570,\"\")","v":""},{"$f":"IF('Data Input'!F570<>\"\",'Data Input'!F570,\"\")","v":""}]
[{"$f":"IF('Data Input'!A519<>\"\",'Data Input'!A519,\"\")","v":""},{"$f":"IF('Data Input'!B519<>\"\",'Data Input'!B519,\"\")","v":""},{"$f":"IF('Data Input'!C519<>\"\",'Data Input'!C519,\"\")","v":""},{"$f":"IF('Data Input'!D519<>\"\",'Data Input'!D519,\"\")","v":""},{"$f":"IF('Data Input'!E519<>\"\",'Data Input'!E519,\"\")","v":""},{"$f":"IF('Data Input'!F519<>\"\",'Data Input'!F519,\"\")","v":""},{"$f":"IF('Data Input'!A571<>\"\",'Data Input'!A571,\"\")","v":""},{"$f":"IF('Data Input'!B571<>\"\",'Data Input'!B571,\"\")","v":""},{"$f":"IF('Data Input'!C571<>\"\",'Data Input'!C571,\"\")","v":""},{"$f":"IF('Data Input'!D571<>\"\",'Data Input'!D571,\"\")","v":""},{"$f":"IF('Data Input'!E571<>\"\",'Data Input'!E571,\"\")","v":""},{"$f":"IF('Data Input'!F571<>\"\",'Data Input'!F571,\"\")","v":""}]
[{"$f":"IF('Data Input'!A520<>\"\",'Data Input'!A520,\"\")","v":""},{"$f":"IF('Data Input'!B520<>\"\",'Data Input'!B520,\"\")","v":""},{"$f":"IF('Data Input'!C520<>\"\",'Data Input'!C520,\"\")","v":""},{"$f":"IF('Data Input'!D520<>\"\",'Data Input'!D520,\"\")","v":""},{"$f":"IF('Data Input'!E520<>\"\",'Data Input'!E520,\"\")","v":""},{"$f":"IF('Data Input'!F520<>\"\",'Data Input'!F520,\"\")","v":""},{"$f":"IF('Data Input'!A572<>\"\",'Data Input'!A572,\"\")","v":""},{"$f":"IF('Data Input'!B572<>\"\",'Data Input'!B572,\"\")","v":""},{"$f":"IF('Data Input'!C572<>\"\",'Data Input'!C572,\"\")","v":""},{"$f":"IF('Data Input'!D572<>\"\",'Data Input'!D572,\"\")","v":""},{"$f":"IF('Data Input'!E572<>\"\",'Data Input'!E572,\"\")","v":""},{"$f":"IF('Data Input'!F572<>\"\",'Data Input'!F572,\"\")","v":""}]
[{"$f":"IF('Data Input'!A521<>\"\",'Data Input'!A521,\"\")","v":""},{"$f":"IF('Data Input'!B521<>\"\",'Data Input'!B521,\"\")","v":""},{"$f":"IF('Data Input'!C521<>\"\",'Data Input'!C521,\"\")","v":""},{"$f":"IF('Data Input'!D521<>\"\",'Data Input'!D521,\"\")","v":""},{"$f":"IF('Data Input'!E521<>\"\",'Data Input'!E521,\"\")","v":""},{"$f":"IF('Data Input'!F521<>\"\",'Data Input'!F521,\"\")","v":""},{"$f":"IF('Data Input'!A573<>\"\",'Data Input'!A573,\"\")","v":""},{"$f":"IF('Data Input'!B573<>\"\",'Data Input'!B573,\"\")","v":""},{"$f":"IF('Data Input'!C573<>\"\",'Data Input'!C573,\"\")","v":""},{"$f":"IF('Data Input'!D573<>\"\",'Data Input'!D573,\"\")","v":""},{"$f":"IF('Data Input'!E573<>\"\",'Data Input'!E573,\"\")","v":""},{"$f":"IF('Data Input'!F573<>\"\",'Data Input'!F573,\"\")","v":""}]
[{"$f":"IF('Data Input'!A522<>\"\",'Data Input'!A522,\"\")","v":""},{"$f":"IF('Data Input'!B522<>\"\",'Data Input'!B522,\"\")","v":""},{"$f":"IF('Data Input'!C522<>\"\",'Data Input'!C522,\"\")","v":""},{"$f":"IF('Data Input'!D522<>\"\",'Data Input'!D522,\"\")","v":""},{"$f":"IF('Data Input'!E522<>\"\",'Data Input'!E522,\"\")","v":""},{"$f":"IF('Data Input'!F522<>\"\",'Data Input'!F522,\"\")","v":""},{"$f":"IF('Data Input'!A574<>\"\",'Data Input'!A574,\"\")","v":""},{"$f":"IF('Data Input'!B574<>\"\",'Data Input'!B574,\"\")","v":""},{"$f":"IF('Data Input'!C574<>\"\",'Data Input'!C574,\"\")","v":""},{"$f":"IF('Data Input'!D574<>\"\",'Data Input'!D574,\"\")","v":""},{"$f":"IF('Data Input'!E574<>\"\",'Data Input'!E574,\"\")","v":""},{"$f":"IF('Data Input'!F574<>\"\",'Data Input'!F574,\"\")","v":""}]
[{"$f":"IF('Data Input'!A523<>\"\",'Data Input'!A523,\"\")","v":""},{"$f":"IF('Data Input'!B523<>\"\",'Data Input'!B523,\"\")","v":""},{"$f":"IF('Data Input'!C523<>\"\",'Data Input'!C523,\"\")","v":""},{"$f":"IF('Data Input'!D523<>\"\",'Data Input'!D523,\"\")","v":""},{"$f":"IF('Data Input'!E523<>\"\",'Data Input'!E523,\"\")","v":""},{"$f":"IF('Data Input'!F523<>\"\",'Data Input'!F523,\"\")","v":""},{"$f":"IF('Data Input'!A575<>\"\",'Data Input'!A575,\"\")","v":""},{"$f":"IF('Data Input'!B575<>\"\",'Data Input'!B575,\"\")","v":""},{"$f":"IF('Data Input'!C575<>\"\",'Data Input'!C575,\"\")","v":""},{"$f":"IF('Data Input'!D575<>\"\",'Data Input'!D575,\"\")","v":""},{"$f":"IF('Data Input'!E575<>\"\",'Data Input'!E575,\"\")","v":""},{"$f":"IF('Data Input'!F575<>\"\",'Data Input'!F575,\"\")","v":""}]
[{"$f":"IF('Data Input'!A524<>\"\",'Data Input'!A524,\"\")","v":""},{"$f":"IF('Data Input'!B524<>\"\",'Data Input'!B524,\"\")","v":""},{"$f":"IF('Data Input'!C524<>\"\",'Data Input'!C524,\"\")","v":""},{"$f":"IF('Data Input'!D524<>\"\",'Data Input'!D524,\"\")","v":""},{"$f":"IF('Data Input'!E524<>\"\",'Data Input'!E524,\"\")","v":""},{"$f":"IF('Data Input'!F524<>\"\",'Data Input'!F524,\"\")","v":""},{"$f":"IF('Data Input'!A576<>\"\",'Data Input'!A576,\"\")","v":""},{"$f":"IF('Data Input'!B576<>\"\",'Data Input'!B576,\"\")","v":""},{"$f":"IF('Data Input'!C576<>\"\",'Data Input'!C576,\"\")","v":""},{"$f":"IF('Data Input'!D576<>\"\",'Data Input'!D576,\"\")","v":""},{"$f":"IF('Data Input'!E576<>\"\",'Data Input'!E576,\"\")","v":""},{"$f":"IF('Data Input'!F576<>\"\",'Data Input'!F576,\"\")","v":""}]
[{"$f":"IF('Data Input'!A525<>\"\",'Data Input'!A525,\"\")","v":""},{"$f":"IF('Data Input'!B525<>\"\",'Data Input'!B525,\"\")","v":""},{"$f":"IF('Data Input'!C525<>\"\",'Data Input'!C525,\"\")","v":""},{"$f":"IF('Data Input'!D525<>\"\",'Data Input'!D525,\"\")","v":""},{"$f":"IF('Data Input'!E525<>\"\",'Data Input'!E525,\"\")","v":""},{"$f":"IF('Data Input'!F525<>\"\",'Data Input'!F525,\"\")","v":""},{"$f":"IF('Data Input'!A577<>\"\",'Data Input'!A577,\"\")","v":""},{"$f":"IF('Data Input'!B577<>\"\",'Data Input'!B577,\"\")","v":""},{"$f":"IF('Data Input'!C577<>\"\",'Data Input'!C577,\"\")","v":""},{"$f":"IF('Data Input'!D577<>\"\",'Data Input'!D577,\"\")","v":""},{"$f":"IF('Data Input'!E577<>\"\",'Data Input'!E577,\"\")","v":""},{"$f":"IF('Data Input'!F577<>\"\",'Data Input'!F577,\"\")","v":""}]
[{"$f":"IF('Data Input'!A526<>\"\",'Data Input'!A526,\"\")","v":""},{"$f":"IF('Data Input'!B526<>\"\",'Data Input'!B526,\"\")","v":""},{"$f":"IF('Data Input'!C526<>\"\",'Data Input'!C526,\"\")","v":""},{"$f":"IF('Data Input'!D526<>\"\",'Data Input'!D526,\"\")","v":""},{"$f":"IF('Data Input'!E526<>\"\",'Data Input'!E526,\"\")","v":""},{"$f":"IF('Data Input'!F526<>\"\",'Data Input'!F526,\"\")","v":""},{"$f":"IF('Data Input'!A578<>\"\",'Data Input'!A578,\"\")","v":""},{"$f":"IF('Data Input'!B578<>\"\",'Data Input'!B578,\"\")","v":""},{"$f":"IF('Data Input'!C578<>\"\",'Data Input'!C578,\"\")","v":""},{"$f":"IF('Data Input'!D578<>\"\",'Data Input'!D578,\"\")","v":""},{"$f":"IF('Data Input'!E578<>\"\",'Data Input'!E578,\"\")","v":""},{"$f":"IF('Data Input'!F578<>\"\",'Data Input'!F578,\"\")","v":""}]
[{"$f":"IF('Data Input'!A527<>\"\",'Data Input'!A527,\"\")","v":""},{"$f":"IF('Data Input'!B527<>\"\",'Data Input'!B527,\"\")","v":""},{"$f":"IF('Data Input'!C527<>\"\",'Data Input'!C527,\"\")","v":""},{"$f":"IF('Data Input'!D527<>\"\",'Data Input'!D527,\"\")","v":""},{"$f":"IF('Data Input'!E527<>\"\",'Data Input'!E527,\"\")","v":""},{"$f":"IF('Data Input'!F527<>\"\",'Data Input'!F527,\"\")","v":""},{"$f":"IF('Data Input'!A579<>\"\",'Data Input'!A579,\"\")","v":""},{"$f":"IF('Data Input'!B579<>\"\",'Data Input'!B579,\"\")","v":""},{"$f":"IF('Data Input'!C579<>\"\",'Data Input'!C579,\"\")","v":""},{"$f":"IF('Data Input'!D579<>\"\",'Data Input'!D579,\"\")","v":""},{"$f":"IF('Data Input'!E579<>\"\",'Data Input'!E579,\"\")","v":""},{"$f":"IF('Data Input'!F579<>\"\",'Data Input'!F579,\"\")","v":""}]
[{"$f":"IF('Data Input'!A528<>\"\",'Data Input'!A528,\"\")","v":""},{"$f":"IF('Data Input'!B528<>\"\",'Data Input'!B528,\"\")","v":""},{"$f":"IF('Data Input'!C528<>\"\",'Data Input'!C528,\"\")","v":""},{"$f":"IF('Data Input'!D528<>\"\",'Data Input'!D528,\"\")","v":""},{"$f":"IF('Data Input'!E528<>\"\",'Data Input'!E528,\"\")","v":""},{"$f":"IF('Data Input'!F528<>\"\",'Data Input'!F528,\"\")","v":""},{"$f":"IF('Data Input'!A580<>\"\",'Data Input'!A580,\"\")","v":""},{"$f":"IF('Data Input'!B580<>\"\",'Data Input'!B580,\"\")","v":""},{"$f":"IF('Data Input'!C580<>\"\",'Data Input'!C580,\"\")","v":""},{"$f":"IF('Data Input'!D580<>\"\",'Data Input'!D580,\"\")","v":""},{"$f":"IF('Data Input'!E580<>\"\",'Data Input'!E580,\"\")","v":""},{"$f":"IF('Data Input'!F580<>\"\",'Data Input'!F580,\"\")","v":""}]
[{"$f":"IF('Data Input'!A529<>\"\",'Data Input'!A529,\"\")","v":""},{"$f":"IF('Data Input'!B529<>\"\",'Data Input'!B529,\"\")","v":""},{"$f":"IF('Data Input'!C529<>\"\",'Data Input'!C529,\"\")","v":""},{"$f":"IF('Data Input'!D529<>\"\",'Data Input'!D529,\"\")","v":""},{"$f":"IF('Data Input'!E529<>\"\",'Data Input'!E529,\"\")","v":""},{"$f":"IF('Data Input'!F529<>\"\",'Data Input'!F529,\"\")","v":""},{"$f":"IF('Data Input'!A581<>\"\",'Data Input'!A581,\"\")","v":""},{"$f":"IF('Data Input'!B581<>\"\",'Data Input'!B581,\"\")","v":""},{"$f":"IF('Data Input'!C581<>\"\",'Data Input'!C581,\"\")","v":""},{"$f":"IF('Data Input'!D581<>\"\",'Data Input'!D581,\"\")","v":""},{"$f":"IF('Data Input'!E581<>\"\",'Data Input'!E581,\"\")","v":""},{"$f":"IF('Data Input'!F581<>\"\",'Data Input'!F581,\"\")","v":""}]
[{"$f":"IF('Data Input'!A530<>\"\",'Data Input'!A530,\"\")","v":""},{"$f":"IF('Data Input'!B530<>\"\",'Data Input'!B530,\"\")","v":""},{"$f":"IF('Data Input'!C530<>\"\",'Data Input'!C530,\"\")","v":""},{"$f":"IF('Data Input'!D530<>\"\",'Data Input'!D530,\"\")","v":""},{"$f":"IF('Data Input'!E530<>\"\",'Data Input'!E530,\"\")","v":""},{"$f":"IF('Data Input'!F530<>\"\",'Data Input'!F530,\"\")","v":""},{"$f":"IF('Data Input'!A582<>\"\",'Data Input'!A582,\"\")","v":""},{"$f":"IF('Data Input'!B582<>\"\",'Data Input'!B582,\"\")","v":""},{"$f":"IF('Data Input'!C582<>\"\",'Data Input'!C582,\"\")","v":""},{"$f":"IF('Data Input'!D582<>\"\",'Data Input'!D582,\"\")","v":""},{"$f":"IF('Data Input'!E582<>\"\",'Data Input'!E582,\"\")","v":""},{"$f":"IF('Data Input'!F582<>\"\",'Data Input'!F582,\"\")","v":""}]
[{"$f":"IF('Data Input'!A531<>\"\",'Data Input'!A531,\"\")","v":""},{"$f":"IF('Data Input'!B531<>\"\",'Data Input'!B531,\"\")","v":""},{"$f":"IF('Data Input'!C531<>\"\",'Data Input'!C531,\"\")","v":""},{"$f":"IF('Data Input'!D531<>\"\",'Data Input'!D531,\"\")","v":""},{"$f":"IF('Data Input'!E531<>\"\",'Data Input'!E531,\"\")","v":""},{"$f":"IF('Data Input'!F531<>\"\",'Data Input'!F531,\"\")","v":""},{"$f":"IF('Data Input'!A583<>\"\",'Data Input'!A583,\"\")","v":""},{"$f":"IF('Data Input'!B583<>\"\",'Data Input'!B583,\"\")","v":""},{"$f":"IF('Data Input'!C583<>\"\",'Data Input'!C583,\"\")","v":""},{"$f":"IF('Data Input'!D583<>\"\",'Data Input'!D583,\"\")","v":""},{"$f":"IF('Data Input'!E583<>\"\",'Data Input'!E583,\"\")","v":""},{"$f":"IF('Data Input'!F583<>\"\",'Data Input'!F583,\"\")","v":""}]
[{"$f":"IF('Data Input'!A532<>\"\",'Data Input'!A532,\"\")","v":""},{"$f":"IF('Data Input'!B532<>\"\",'Data Input'!B532,\"\")","v":""},{"$f":"IF('Data Input'!C532<>\"\",'Data Input'!C532,\"\")","v":""},{"$f":"IF('Data Input'!D532<>\"\",'Data Input'!D532,\"\")","v":""},{"$f":"IF('Data Input'!E532<>\"\",'Data Input'!E532,\"\")","v":""},{"$f":"IF('Data Input'!F532<>\"\",'Data Input'!F532,\"\")","v":""},{"$f":"IF('Data Input'!A584<>\"\",'Data Input'!A584,\"\")","v":""},{"$f":"IF('Data Input'!B584<>\"\",'Data Input'!B584,\"\")","v":""},{"$f":"IF('Data Input'!C584<>\"\",'Data Input'!C584,\"\")","v":""},{"$f":"IF('Data Input'!D584<>\"\",'Data Input'!D584,\"\")","v":""},{"$f":"IF('Data Input'!E584<>\"\",'Data Input'!E584,\"\")","v":""},{"$f":"IF('Data Input'!F584<>\"\",'Data Input'!F584,\"\")","v":""}]
[{"$f":"IF('Data Input'!A533<>\"\",'Data Input'!A533,\"\")","v":""},{"$f":"IF('Data Input'!B533<>\"\",'Data Input'!B533,\"\")","v":""},{"$f":"IF('Data Input'!C533<>\"\",'Data Input'!C533,\"\")","v":""},{"$f":"IF('Data Input'!D533<>\"\",'Data Input'!D533,\"\")","v":""},{"$f":"IF('Data Input'!E533<>\"\",'Data Input'!E533,\"\")","v":""},{"$f":"IF('Data Input'!F533<>\"\",'Data Input'!F533,\"\")","v":""},{"$f":"IF('Data Input'!A585<>\"\",'Data Input'!A585,\"\")","v":""},{"$f":"IF('Data Input'!B585<>\"\",'Data Input'!B585,\"\")","v":""},{"$f":"IF('Data Input'!C585<>\"\",'Data Input'!C585,\"\")","v":""},{"$f":"IF('Data Input'!D585<>\"\",'Data Input'!D585,\"\")","v":""},{"$f":"IF('Data Input'!E585<>\"\",'Data Input'!E585,\"\")","v":""},{"$f":"IF('Data Input'!F585<>\"\",'Data Input'!F585,\"\")","v":""}]
[{"$f":"IF('Data Input'!A534<>\"\",'Data Input'!A534,\"\")","v":""},{"$f":"IF('Data Input'!B534<>\"\",'Data Input'!B534,\"\")","v":""},{"$f":"IF('Data Input'!C534<>\"\",'Data Input'!C534,\"\")","v":""},{"$f":"IF('Data Input'!D534<>\"\",'Data Input'!D534,\"\")","v":""},{"$f":"IF('Data Input'!E534<>\"\",'Data Input'!E534,\"\")","v":""},{"$f":"IF('Data Input'!F534<>\"\",'Data Input'!F534,\"\")","v":""},{"$f":"IF('Data Input'!A586<>\"\",'Data Input'!A586,\"\")","v":""},{"$f":"IF('Data Input'!B586<>\"\",'Data Input'!B586,\"\")","v":""},{"$f":"IF('Data Input'!C586<>\"\",'Data Input'!C586,\"\")","v":""},{"$f":"IF('Data Input'!D586<>\"\",'Data Input'!D586,\"\")","v":""},{"$f":"IF('Data Input'!E586<>\"\",'Data Input'!E586,\"\")","v":""},{"$f":"IF('Data Input'!F586<>\"\",'Data Input'!F586,\"\")","v":""}]
[{"$f":"IF('Data Input'!A535<>\"\",'Data Input'!A535,\"\")","v":""},{"$f":"IF('Data Input'!B535<>\"\",'Data Input'!B535,\"\")","v":""},{"$f":"IF('Data Input'!C535<>\"\",'Data Input'!C535,\"\")","v":""},{"$f":"IF('Data Input'!D535<>\"\",'Data Input'!D535,\"\")","v":""},{"$f":"IF('Data Input'!E535<>\"\",'Data Input'!E535,\"\")","v":""},{"$f":"IF('Data Input'!F535<>\"\",'Data Input'!F535,\"\")","v":""},{"$f":"IF('Data Input'!A587<>\"\",'Data Input'!A587,\"\")","v":""},{"$f":"IF('Data Input'!B587<>\"\",'Data Input'!B587,\"\")","v":""},{"$f":"IF('Data Input'!C587<>\"\",'Data Input'!C587,\"\")","v":""},{"$f":"IF('Data Input'!D587<>\"\",'Data Input'!D587,\"\")","v":""},{"$f":"IF('Data Input'!E587<>\"\",'Data Input'!E587,\"\")","v":""},{"$f":"IF('Data Input'!F587<>\"\",'Data Input'!F587,\"\")","v":""}]
[{"$f":"IF('Data Input'!A588<>\"\",'Data Input'!A588,\"\")","v":""},{"$f":"IF('Data Input'!B588<>\"\",'Data Input'!B588,\"\")","v":""},{"$f":"IF('Data Input'!C588<>\"\",'Data Input'!C588,\"\")","v":""},{"$f":"IF('Data Input'!D588<>\"\",'Data Input'!D588,\"\")","v":""},{"$f":"IF('Data Input'!E588<>\"\",'Data Input'!E588,\"\")","v":""},{"$f":"IF('Data Input'!F588<>\"\",'Data Input'!F588,\"\")","v":""},{"$f":"IF('Data Input'!A605<>\"\",'Data Input'!A605,\"\")","v":""},{"$f":"IF('Data Input'!B605<>\"\",'Data Input'!B605,\"\")","v":""},{"$f":"IF('Data Input'!C605<>\"\",'Data Input'!C605,\"\")","v":""},{"$f":"IF('Data Input'!D605<>\"\",'Data Input'!D605,\"\")","v":""},{"$f":"IF('Data Input'!E605<>\"\",'Data Input'!E605,\"\")","v":""},{"$f":"IF('Data Input'!F605<>\"\",'Data Input'!F605,\"\")","v":""}]
[{"$f":"IF('Data Input'!A589<>\"\",'Data Input'!A589,\"\")","v":""},{"$f":"IF('Data Input'!B589<>\"\",'Data Input'!B589,\"\")","v":""},{"$f":"IF('Data Input'!C589<>\"\",'Data Input'!C589,\"\")","v":""},{"$f":"IF('Data Input'!D589<>\"\",'Data Input'!D589,\"\")","v":""},{"$f":"IF('Data Input'!E589<>\"\",'Data Input'!E589,\"\")","v":""},{"$f":"IF('Data Input'!F589<>\"\",'Data Input'!F589,\"\")","v":""},{"$f":"IF('Data Input'!A606<>\"\",'Data Input'!A606,\"\")","v":""},{"$f":"IF('Data Input'!B606<>\"\",'Data Input'!B606,\"\")","v":""},{"$f":"IF('Data Input'!C606<>\"\",'Data Input'!C606,\"\")","v":""},{"$f":"IF('Data Input'!D606<>\"\",'Data Input'!D606,\"\")","v":""},{"$f":"IF('Data Input'!E606<>\"\",'Data Input'!E606,\"\")","v":""},{"$f":"IF('Data Input'!F606<>\"\",'Data Input'!F606,\"\")","v":""}]
[{"$f":"IF('Data Input'!A590<>\"\",'Data Input'!A590,\"\")","v":""},{"$f":"IF('Data Input'!B590<>\"\",'Data Input'!B590,\"\")","v":""},{"$f":"IF('Data Input'!C590<>\"\",'Data Input'!C590,\"\")","v":""},{"$f":"IF('Data Input'!D590<>\"\",'Data Input'!D590,\"\")","v":""},{"$f":"IF('Data Input'!E590<>\"\",'Data Input'!E590,\"\")","v":""},{"$f":"IF('Data Input'!F590<>\"\",'Data Input'!F590,\"\")","v":""},{"$f":"IF('Data Input'!A607<>\"\",'Data Input'!A607,\"\")","v":""},{"$f":"IF('Data Input'!B607<>\"\",'Data Input'!B607,\"\")","v":""},{"$f":"IF('Data Input'!C607<>\"\",'Data Input'!C607,\"\")","v":""},{"$f":"IF('Data Input'!D607<>\"\",'Data Input'!D607,\"\")","v":""},{"$f":"IF('Data Input'!E607<>\"\",'Data Input'!E607,\"\")","v":""},{"$f":"IF('Data Input'!F607<>\"\",'Data Input'!F607,\"\")","v":""}]
[{"$f":"IF('Data Input'!A591<>\"\",'Data Input'!A591,\"\")","v":""},{"$f":"IF('Data Input'!B591<>\"\",'Data Input'!B591,\"\")","v":""},{"$f":"IF('Data Input'!C591<>\"\",'Data Input'!C591,\"\")","v":""},{"$f":"IF('Data Input'!D591<>\"\",'Data Input'!D591,\"\")","v":""},{"$f":"IF('Data Input'!E591<>\"\",'Data Input'!E591,\"\")","v":""},{"$f":"IF('Data Input'!F591<>\"\",'Data Input'!F591,\"\")","v":""},{"$f":"IF('Data Input'!A608<>\"\",'Data Input'!A608,\"\")","v":""},{"$f":"IF('Data Input'!B608<>\"\",'Data Input'!B608,\"\")","v":""},{"$f":"IF('Data Input'!C608<>\"\",'Data Input'!C608,\"\")","v":""},{"$f":"IF('Data Input'!D608<>\"\",'Data Input'!D608,\"\")","v":""},{"$f":"IF('Data Input'!E608<>\"\",'Data Input'!E608,\"\")","v":""},{"$f":"IF('Data Input'!F608<>\"\",'Data Input'!F608,\"\")","v":""}]
[{"$f":"IF('Data Input'!A592<>\"\",'Data Input'!A592,\"\")","v":""},{"$f":"IF('Data Input'!B592<>\"\",'Data Input'!B592,\"\")","v":""},{"$f":"IF('Data Input'!C592<>\"\",'Data Input'!C592,\"\")","v":""},{"$f":"IF('Data Input'!D592<>\"\",'Data Input'!D592,\"\")","v":""},{"$f":"IF('Data Input'!E592<>\"\",'Data Input'!E592,\"\")","v":""},{"$f":"IF('Data Input'!F592<>\"\",'Data Input'!F592,\"\")","v":""},{"$f":"IF('Data Input'!A609<>\"\",'Data Input'!A609,\"\")","v":""},{"$f":"IF('Data Input'!B609<>\"\",'Data Input'!B609,\"\")","v":""},{"$f":"IF('Data Input'!C609<>\"\",'Data Input'!C609,\"\")","v":""},{"$f":"IF('Data Input'!D609<>\"\",'Data Input'!D609,\"\")","v":""},{"$f":"IF('Data Input'!E609<>\"\",'Data Input'!E609,\"\")","v":""},{"$f":"IF('Data Input'!F609<>\"\",'Data Input'!F609,\"\")","v":""}]
[{"$f":"IF('Data Input'!A593<>\"\",'Data Input'!A593,\"\")","v":""},{"$f":"IF('Data Input'!B593<>\"\",'Data Input'!B593,\"\")","v":""},{"$f":"IF('Data Input'!C593<>\"\",'Data Input'!C593,\"\")","v":""},{"$f":"IF('Data Input'!D593<>\"\",'Data Input'!D593,\"\")","v":""},{"$f":"IF('Data Input'!E593<>\"\",'Data Input'!E593,\"\")","v":""},{"$f":"IF('Data Input'!F593<>\"\",'Data Input'!F593,\"\")","v":""},{"$f":"IF('Data Input'!A610<>\"\",'Data Input'!A610,\"\")","v":""},{"$f":"IF('Data Input'!B610<>\"\",'Data Input'!B610,\"\")","v":""},{"$f":"IF('Data Input'!C610<>\"\",'Data Input'!C610,\"\")","v":""},{"$f":"IF('Data Input'!D610<>\"\",'Data Input'!D610,\"\")","v":""},{"$f":"IF('Data Input'!E610<>\"\",'Data Input'!E610,\"\")","v":""},{"$f":"IF('Data Input'!F610<>\"\",'Data Input'!F610,\"\")","v":""}]
[{"$f":"IF('Data Input'!A594<>\"\",'Data Input'!A594,\"\")","v":""},{"$f":"IF('Data Input'!B594<>\"\",'Data Input'!B594,\"\")","v":""},{"$f":"IF('Data Input'!C594<>\"\",'Data Input'!C594,\"\")","v":""},{"$f":"IF('Data Input'!D594<>\"\",'Data Input'!D594,\"\")","v":""},{"$f":"IF('Data Input'!E594<>\"\",'Data Input'!E594,\"\")","v":""},{"$f":"IF('Data Input'!F594<>\"\",'Data Input'!F594,\"\")","v":""},{"$f":"IF('Data Input'!A611<>\"\",'Data Input'!A611,\"\")","v":""},{"$f":"IF('Data Input'!B611<>\"\",'Data Input'!B611,\"\")","v":""},{"$f":"IF('Data Input'!C611<>\"\",'Data Input'!C611,\"\")","v":""},{"$f":"IF('Data Input'!D611<>\"\",'Data Input'!D611,\"\")","v":""},{"$f":"IF('Data Input'!E611<>\"\",'Data Input'!E611,\"\")","v":""},{"$f":"IF('Data Input'!F611<>\"\",'Data Input'!F611,\"\")","v":""}]
[{"$f":"IF('Data Input'!A595<>\"\",'Data Input'!A595,\"\")","v":""},{"$f":"IF('Data Input'!B595<>\"\",'Data Input'!B595,\"\")","v":""},{"$f":"IF('Data Input'!C595<>\"\",'Data Input'!C595,\"\")","v":""},{"$f":"IF('Data Input'!D595<>\"\",'Data Input'!D595,\"\")","v":""},{"$f":"IF('Data Input'!E595<>\"\",'Data Input'!E595,\"\")","v":""},{"$f":"IF('Data Input'!F595<>\"\",'Data Input'!F595,\"\")","v":""},{"$f":"IF('Data Input'!A612<>\"\",'Data Input'!A612,\"\")","v":""},{"$f":"IF('Data Input'!B612<>\"\",'Data Input'!B612,\"\")","v":""},{"$f":"IF('Data Input'!C612<>\"\",'Data Input'!C612,\"\")","v":""},{"$f":"IF('Data Input'!D612<>\"\",'Data Input'!D612,\"\")","v":""},{"$f":"IF('Data Input'!E612<>\"\",'Data Input'!E612,\"\")","v":""},{"$f":"IF('Data Input'!F612<>\"\",'Data Input'!F612,\"\")","v":""}]
[{"$f":"IF('Data Input'!A596<>\"\",'Data Input'!A596,\"\")","v":""},{"$f":"IF('Data Input'!B596<>\"\",'Data Input'!B596,\"\")","v":""},{"$f":"IF('Data Input'!C596<>\"\",'Data Input'!C596,\"\")","v":""},{"$f":"IF('Data Input'!D596<>\"\",'Data Input'!D596,\"\")","v":""},{"$f":"IF('Data Input'!E596<>\"\",'Data Input'!E596,\"\")","v":""},{"$f":"IF('Data Input'!F596<>\"\",'Data Input'!F596,\"\")","v":""},{"$f":"IF('Data Input'!A613<>\"\",'Data Input'!A613,\"\")","v":""},{"$f":"IF('Data Input'!B613<>\"\",'Data Input'!B613,\"\")","v":""},{"$f":"IF('Data Input'!C613<>\"\",'Data Input'!C613,\"\")","v":""},{"$f":"IF('Data Input'!D613<>\"\",'Data Input'!D613,\"\")","v":""},{"$f":"IF('Data Input'!E613<>\"\",'Data Input'!E613,\"\")","v":""},{"$f":"IF('Data Input'!F613<>\"\",'Data Input'!F613,\"\")","v":""}]
[{"$f":"IF('Data Input'!A597<>\"\",'Data Input'!A597,\"\")","v":""},{"$f":"IF('Data Input'!B597<>\"\",'Data Input'!B597,\"\")","v":""},{"$f":"IF('Data Input'!C597<>\"\",'Data Input'!C597,\"\")","v":""},{"$f":"IF('Data Input'!D597<>\"\",'Data Input'!D597,\"\")","v":""},{"$f":"IF('Data Input'!E597<>\"\",'Data Input'!E597,\"\")","v":""},{"$f":"IF('Data Input'!F597<>\"\",'Data Input'!F597,\"\")","v":""},{"$f":"IF('Data Input'!A614<>\"\",'Data Input'!A614,\"\")","v":""},{"$f":"IF('Data Input'!B614<>\"\",'Data Input'!B614,\"\")","v":""},{"$f":"IF('Data Input'!C614<>\"\",'Data Input'!C614,\"\")","v":""},{"$f":"IF('Data Input'!D614<>\"\",'Data Input'!D614,\"\")","v":""},{"$f":"IF('Data Input'!E614<>\"\",'Data Input'!E614,\"\")","v":""},{"$f":"IF('Data Input'!F614<>\"\",'Data Input'!F614,\"\")","v":""}]
[{"$f":"IF('Data Input'!A598<>\"\",'Data Input'!A598,\"\")","v":""},{"$f":"IF('Data Input'!B598<>\"\",'Data Input'!B598,\"\")","v":""},{"$f":"IF('Data Input'!C598<>\"\",'Data Input'!C598,\"\")","v":""},{"$f":"IF('Data Input'!D598<>\"\",'Data Input'!D598,\"\")","v":""},{"$f":"IF('Data Input'!E598<>\"\",'Data Input'!E598,\"\")","v":""},{"$f":"IF('Data Input'!F598<>\"\",'Data Input'!F598,\"\")","v":""},{"$f":"IF('Data Input'!A615<>\"\",'Data Input'!A615,\"\")","v":""},{"$f":"IF('Data Input'!B615<>\"\",'Data Input'!B615,\"\")","v":""},{"$f":"IF('Data Input'!C615<>\"\",'Data Input'!C615,\"\")","v":""},{"$f":"IF('Data Input'!D615<>\"\",'Data Input'!D615,\"\")","v":""},{"$f":"IF('Data Input'!E615<>\"\",'Data Input'!E615,\"\")","v":""},{"$f":"IF('Data Input'!F615<>\"\",'Data Input'!F615,\"\")","v":""}]
[{"$f":"IF('Data Input'!A599<>\"\",'Data Input'!A599,\"\")","v":""},{"$f":"IF('Data Input'!B599<>\"\",'Data Input'!B599,\"\")","v":""},{"$f":"IF('Data Input'!C599<>\"\",'Data Input'!C599,\"\")","v":""},{"$f":"IF('Data Input'!D599<>\"\",'Data Input'!D599,\"\")","v":""},{"$f":"IF('Data Input'!E599<>\"\",'Data Input'!E599,\"\")","v":""},{"$f":"IF('Data Input'!F599<>\"\",'Data Input'!F599,\"\")","v":""},{"$f":"IF('Data Input'!A616<>\"\",'Data Input'!A616,\"\")","v":""},{"$f":"IF('Data Input'!B616<>\"\",'Data Input'!B616,\"\")","v":""},{"$f":"IF('Data Input'!C616<>\"\",'Data Input'!C616,\"\")","v":""},{"$f":"IF('Data Input'!D616<>\"\",'Data Input'!D616,\"\")","v":""},{"$f":"IF('Data Input'!E616<>\"\",'Data Input'!E616,\"\")","v":""},{"$f":"IF('Data Input'!F616<>\"\",'Data Input'!F616,\"\")","v":""}]
[{"$f":"IF('Data Input'!A600<>\"\",'Data Input'!A600,\"\")","v":""},{"$f":"IF('Data Input'!B600<>\"\",'Data Input'!B600,\"\")","v":""},{"$f":"IF('Data Input'!C600<>\"\",'Data Input'!C600,\"\")","v":""},{"$f":"IF('Data Input'!D600<>\"\",'Data Input'!D600,\"\")","v":""},{"$f":"IF('Data Input'!E600<>\"\",'Data Input'!E600,\"\")","v":""},{"$f":"IF('Data Input'!F600<>\"\",'Data Input'!F600,\"\")","v":""},{"$f":"IF('Data Input'!A617<>\"\",'Data Input'!A617,\"\")","v":""},{"$f":"IF('Data Input'!B617<>\"\",'Data Input'!B617,\"\")","v":""},{"$f":"IF('Data Input'!C617<>\"\",'Data Input'!C617,\"\")","v":""},{"$f":"IF('Data Input'!D617<>\"\",'Data Input'!D617,\"\")","v":""},{"$f":"IF('Data Input'!E617<>\"\",'Data Input'!E617,\"\")","v":""},{"$f":"IF('Data Input'!F617<>\"\",'Data Input'!F617,\"\")","v":""}]
[{"$f":"IF('Data Input'!A601<>\"\",'Data Input'!A601,\"\")","v":""},{"$f":"IF('Data Input'!B601<>\"\",'Data Input'!B601,\"\")","v":""},{"$f":"IF('Data Input'!C601<>\"\",'Data Input'!C601,\"\")","v":""},{"$f":"IF('Data Input'!D601<>\"\",'Data Input'!D601,\"\")","v":""},{"$f":"IF('Data Input'!E601<>\"\",'Data Input'!E601,\"\")","v":""},{"$f":"IF('Data Input'!F601<>\"\",'Data Input'!F601,\"\")","v":""},{"$f":"IF('Data Input'!A618<>\"\",'Data Input'!A618,\"\")","v":""},{"$f":"IF('Data Input'!B618<>\"\",'Data Input'!B618,\"\")","v":""},{"$f":"IF('Data Input'!C618<>\"\",'Data Input'!C618,\"\")","v":""},{"$f":"IF('Data Input'!D618<>\"\",'Data Input'!D618,\"\")","v":""},{"$f":"IF('Data Input'!E618<>\"\",'Data Input'!E618,\"\")","v":""},{"$f":"IF('Data Input'!F618<>\"\",'Data Input'!F618,\"\")","v":""}]
[{"$f":"IF('Data Input'!A602<>\"\",'Data Input'!A602,\"\")","v":""},{"$f":"IF('Data Input'!B602<>\"\",'Data Input'!B602,\"\")","v":""},{"$f":"IF('Data Input'!C602<>\"\",'Data Input'!C602,\"\")","v":""},{"$f":"IF('Data Input'!D602<>\"\",'Data Input'!D602,\"\")","v":""},{"$f":"IF('Data Input'!E602<>\"\",'Data Input'!E602,\"\")","v":""},{"$f":"IF('Data Input'!F602<>\"\",'Data Input'!F602,\"\")","v":""},{"$f":"IF('Data Input'!A619<>\"\",'Data Input'!A619,\"\")","v":""},{"$f":"IF('Data Input'!B619<>\"\",'Data Input'!B619,\"\")","v":""},{"$f":"IF('Data Input'!C619<>\"\",'Data Input'!C619,\"\")","v":""},{"$f":"IF('Data Input'!D619<>\"\",'Data Input'!D619,\"\")","v":""},{"$f":"IF('Data Input'!E619<>\"\",'Data Input'!E619,\"\")","v":""},{"$f":"IF('Data Input'!F619<>\"\",'Data Input'!F619,\"\")","v":""}]
[{"$f":"IF('Data Input'!A603<>\"\",'Data Input'!A603,\"\")","v":""},{"$f":"IF('Data Input'!B603<>\"\",'Data Input'!B603,\"\")","v":""},{"$f":"IF('Data Input'!C603<>\"\",'Data Input'!C603,\"\")","v":""},{"$f":"IF('Data Input'!D603<>\"\",'Data Input'!D603,\"\")","v":""},{"$f":"IF('Data Input'!E603<>\"\",'Data Input'!E603,\"\")","v":""},{"$f":"IF('Data Input'!F603<>\"\",'Data Input'!F603,\"\")","v":""},{"$f":"IF('Data Input'!A620<>\"\",'Data Input'!A620,\"\")","v":""},{"$f":"IF('Data Input'!B620<>\"\",'Data Input'!B620,\"\")","v":""},{"$f":"IF('Data Input'!C620<>\"\",'Data Input'!C620,\"\")","v":""},{"$f":"IF('Data Input'!D620<>\"\",'Data Input'!D620,\"\")","v":""},{"$f":"IF('Data Input'!E620<>\"\",'Data Input'!E620,\"\")","v":""},{"$f":"IF('Data Input'!F620<>\"\",'Data Input'!F620,\"\")","v":""}]
[{"$f":"IF('Data Input'!A604<>\"\",'Data Input'!A604,\"\")","v":""},{"$f":"IF('Data Input'!B604<>\"\",'Data Input'!B604,\"\")","v":""},{"$f":"IF('Data Input'!C604<>\"\",'Data Input'!C604,\"\")","v":""},{"$f":"IF('Data Input'!D604<>\"\",'Data Input'!D604,\"\")","v":""},{"$f":"IF('Data Input'!E604<>\"\",'Data Input'!E604,\"\")","v":""},{"$f":"IF('Data Input'!F604<>\"\",'Data Input'!F604,\"\")","v":""},{"$f":"IF('Data Input'!A621<>\"\",'Data Input'!A621,\"\")","v":""},{"$f":"IF('Data Input'!B621<>\"\",'Data Input'!B621,\"\")","v":""},{"$f":"IF('Data Input'!C621<>\"\",'Data Input'!C621,\"\")","v":""},{"$f":"IF('Data Input'!D621<>\"\",'Data Input'!D621,\"\")","v":""},{"$f":"IF('Data Input'!E621<>\"\",'Data Input'!E621,\"\")","v":""},{"$f":"IF('Data Input'!F621<>\"\",'Data Input'!F621,\"\")","v":""}]
["DO NOT ENTER MORE THAN 620 ANIMALS! "]

{"sheet":"Data Input","index":2,"n_rows":622,"n_cols":6,"rows_kept":622,"cut":false,"hidden":false,"merged":[[621,0,622,5]]}
["#","OFFICIAL ID","AGE (mos)","Breed","Sex","Tattoo"]
[]
[]
[]
[]
[]
[]
[]
[]
[]
[]
[]
[]
[]
[]
[]
[]
[]
[]
[]
[]
[]
[]
[]
[]
[]
[]
[]
[]
[]
[]
[]
[]
[]
[]
[]
[]
[]
[]
[]
[]
[]
[]
[]
[]
[]
[]
[]
[]
[]
[]
[]
[]
[]
[]
[]
[]
[]
[]
[]
[]
[]
[]
[]
[]
[]
[]
[]
[]
[]
[]
[]
[]
[]
[]
[]
[]
[]
[]
[]
[]
[]
[]
[]
[]
[]
[]
[]
[]
[]
[]
[]
[]
[]
[]
[]
[]
[]
[]
[]
[]
[]
[]
[]
[]
[]
[]
[]
[]
[]
[]
[]
[]
[]
[]
[]
[]
[]
[]
[]
[]
[]
[]
[]
[]
[]
[]
[]
[]
[]
[]
[]
[]
[]
[]
[]
[]
[]
[]
[]
[]
[]
[]
[]
[]
[]
[]
[]
[]
[]
[]
[]
[]
[]
[]
[]
[]
[]
[]
[]
[]
[]
[]
[]
[]
[]
[]
[]
[]
[]
[]
[]
[]
[]
[]
[]
[]
[]
[]
[]
[]
[]
[]
[]
[]
[]
[]
[]
[]
[]
[]
[]
[]
[]
[]
[]
[]
[]
[]
[]
[]
[]
[]
[]
[]
[]
[]
[]
[]
[]
[]
[]
[]
[]
[]
[]
[]
[]
[]
[]
[]
[]
[]
[]
[]
[]
[]
[]
[]
[]
[]
[]
[]
[]
[]
[]
[]
[]
[]
[]
[]
[]
[]
[]
[]
[]
[]
[]
[]
[]
[]
[]
[]
[]
[]
[]
[]
[]
[]
[]
[]
[]
[]
[]
[]
[]
[]
[]
[]
[]
[]
[]
[]
[]
[]
[]
[]
[]
[]
[]
[]
[]
[]
[]
[]
[]
[]
[]
[]
[]
[]
[]
[]
[]
[]
[]
[]
[]
[]
[]
[]
[]
[]
[]
[]
[]
[]
[]
[]
[]
[]
[]
[]
[]
[]
[]
[]
[]
[]
[]
[]
[]
[]
[]
[]
[]
[]
[]
[]
[]
[]
[]
[]
[]
[]
[]
[]
[]
[]
[]
[]
[]
[]
[]
[]
[]
[]
[]
[]
[]
[]
[]
[]
[]
[]
[]
[]
[]
[]
[]
[]
[]
[]
[]
[]
[]
[]
[]
[]
[]
[]
[]
[]
[]
[]
[]
[]
[]
[]
[]
[]
[]
[]
[]
[]
[]
[]
[]
[]
[]
[]
[]
[]
[]
[]
[]
[]
[]
[]
[]
[]
[]
[]
[]
[]
[]
[]
[]
[]
[]
[]
[]
[]
[]
[]
[]
[]
[]
[]
[]
[]
[]
[]
[]
[]
[]
[]
[]
[]
[]
[]
[]
[]
[]
[]
[]
[]
[]
[]
[]
[]
[]
[]
[]
[]
[]
[]
[]
[]
[]
[]
[]
[]
[]
[]
[]
[]
[]
[]
[]
[]
[]
[]
[]
[]
[]
[]
[]
[]
[]
[]
[]
[]
[]
[]
[]
[]
[]
[]
[]
[]
[]
[]
[]
[]
[]
[]
[]
[]
[]
[]
[]
[]
[]
[]
[]
[]
[]
[]
[]
[]
[]
[]
[]
[]
[]
[]
[]
[]
[]
[]
[]
[]
[]
[]
[]
[]
[]
[]
[]
[]
[]
[]
[]
[]
[]
[]
[]
[]
[]
[]
[]
[]
[]
[]
[]
[]
[]
[]
[]
[]
[]
[]
[]
[]
[]
[]
[]
[]
[]
[]
[]
[]
[]
[]
[]
[]
[]
[]
[]
[]
[]
[]
[]
[]
[]
[]
[]
[]
[]
[]
[]
[]
[]
[]
[]
[]
[]
[]
[]
[]
[]
[]
[]
[]
[]
[]
[]
[]
[]
[]
[]
[]
[]
[]
[]
[]
[]
[]
[]
[]
[]
[]
[]
[]
[]
[]
[]
[]
[]
[]
[]
[]
[]
[]
[]
[]
[]
[]
[]
[]
["DO NOT ENTER MORE THAN 620 ANIMALS!"]

{"sheet":"Drop Down Source","index":3,"n_rows":8,"n_cols":1,"rows_kept":8,"cut":false,"hidden":true,"merged":[]}
["(SELECT)"]
["BEEF"]
["DAIRY"]
["MIXED"]
["BISON"]
[]
[]
["Sheet Protection Password: eOCV"]